PDS_VERSION_ID = PDS3
/* FILE DATA ELEMENTS */
RECORD_TYPE = STREAM
/* POINTERS TO DATA OBJECTS */
^COMPRESSED_FILE = "H3642_0000_S23.JP2"
/* IDENTIFICATION DATA ELEMENTS */
DATA_SET_ID = "MEX-M-HRSC-5-REFDR-MAPPROJECTED-V3.0"
DATA_SET_NAME = "MARS EXPRESS HRSC MAP PROJECTED REFDR V3.0"
DETECTOR_ID = MEX_HRSC_S2
EVENT_TYPE = "MARS-LOCAL-STEREO-Gl-Eo-La"
INSTRUMENT_HOST_ID = MEX
INSTRUMENT_HOST_NAME = "MARS EXPRESS"
INSTRUMENT_ID = HRSC
INSTRUMENT_NAME = "HIGH RESOLUTION STEREO CAMERA"
MISSION_NAME = "MARS EXPRESS"
MISSION_PHASE_NAME = ME_Phase_5
PROCESSING_LEVEL_ID = 3
PRODUCT_CREATION_TIME = 2016-04-18T18:17:36.000Z
PRODUCT_ID = "H3642_0000_S23.JP2"
RELEASE_ID = 0043
REVISION_ID = 0000
/* QUALITY DATA ELEMENTS */
DATA_QUALITY_ID = 1
DATA_QUALITY_DESC = "Data calculated based on original SPICE kernels"
/* TIME DATA ELEMENTS */
SPACECRAFT_CLOCK_START_COUNT = "1/0111069102.09069"
SPACECRAFT_CLOCK_STOP_COUNT = "1/0111069298.48773"
START_TIME = 2006-11-08T12:31:46.643Z
STOP_TIME = 2006-11-08T12:33:35.532Z
/* ORBITAL DATA ELEMENTS */
ASCENDING_NODE_LONGITUDE = 151.94
MAXIMUM_RESOLUTION = 19.7
FOOTPRINT_POINT_LATITUDE = (76.4528,76.5021,76.5493,76.6142, 76.6599,76.7167,76.769,76.8251,76.689, 76.5522,76.4153,76.21,76.0732,75.9364, 75.7998,75.6629,75.5261,75.3891,75.1839 ,74.9787,74.8423,74.705,74.5687,74.3633 ,74.2264,74.0899,73.9532,73.7482, 73.6117,73.4069,73.2021,73.0655,72.9291 ,72.7245,72.5881,72.4519,72.2475, 71.9748,71.836,71.6964,71.5566,71.3469, 71.2075,71.0682,70.9283,70.7889,70.6494 ,70.5077,70.2937,70.1506,70.0079, 69.7675,69.7367,69.7094,69.6894,69.6686 ,69.6264,69.5763,69.5392,69.5072,69.632 ,69.7734,69.9852,70.1265,70.3379, 70.5444,70.6823,70.8887,71.0269,71.164, 71.3021,71.5096,71.6469,71.9163,72.185, 72.3868,72.6556,72.7903,73.1263,73.3281 ,73.4626,73.6642,73.7984,73.9998, 74.1339,74.2682,74.4688,74.6029,74.7374 ,74.8728,75.0741,75.2751,75.4091, 75.5434,75.6773,75.8107,75.9448,76.0798 ,76.2803,76.4528)
FOOTPRINT_POINT_LONGITUDE = (247.162,247.85,248.542,249.558,250.326 ,251.358,252.399,253.648,253.989, 254.104,254.217,254.381,254.488,254.592 ,254.694,254.795,254.893,254.989, 255.131,255.267,255.356,255.444,255.529 ,255.655,255.738,255.818,255.897, 256.012,256.087,256.198,256.306,256.376 ,256.445,256.546,256.612,256.677, 256.772,256.896,256.958,257.018,257.078 ,257.166,257.223,257.279,257.335,257.39 ,257.444,257.498,257.577,257.629,257.68 ,257.602,256.794,256.151,255.724, 255.298,254.5,253.654,253.074,252.601, 252.298,252.229,252.122,252.05,251.94, 251.829,251.754,251.639,251.56,251.48, 251.399,251.274,251.19,251.02,250.845, 250.709,250.523,250.427,250.18,250.027, 249.922,249.761,249.652,249.483,249.368 ,249.251,249.072,248.949,248.824, 248.696,248.5,248.298,248.16,248.019, 247.875,247.729,247.579,247.426,247.19, 247.162)
ORBIT_NUMBER = 3642
ORBITAL_ECCENTRICITY = 0.564
ORBITAL_INCLINATION = 86.67
ORBITAL_SEMIMAJOR_AXIS = 8535.97
PERIAPSIS_ALTITUDE = 346.48
PERIAPSIS_ARGUMENT_ANGLE = 77.22
PERIAPSIS_TIME = 2006-11-08T12:25:45.000Z
SPACECRAFT_ORIENTATION = (0.0,1.0,0.0)
^MEX_ORIENTATION_DESC = "MEX_ORIENTATION_DESC.TXT"
SPACECRAFT_POINTING_MODE = NADIR
^MEX_POINTING_DESC = "MEX_POINTING_DESC.TXT"
RIGHT_ASCENSION = -1e+32
DECLINATION = -1e+32
OFFSET_ANGLE = -1e+32
SPACECRAFT_SOLAR_DISTANCE = 2.36562e+08
TARGET_NAME = MARS
/* CAMERA DATA ELEMENTS */
DETECTOR_TEMPERATURE = 17.9627
FOCAL_PLANE_TEMPERATURE = 7.3599
INST_CMPRS_NAME = "DISCRETE COSINE TRANSFORMATION (DCT)"
INST_CMPRS_RATIO = 8.10985
INST_CMPRS_QUALITY = 0
INST_CMPRS_QUANTZ_TBL_ID = 0
INSTRUMENT_TEMPERATURE = 11.0301
LENS_TEMPERATURE = 7.9716
MACROPIXEL_SIZE = 1
MISSING_FRAMES = 0
PIXEL_SUBSAMPLING_FLAG = N
SIGNAL_CHAIN_ID = 1
/* RADIOMETRIC DATA ELEMENTS */
BANDWIDTH = 178.0
CENTER_FILTER_WAVELENGTH = 679.0
RADIANCE_OFFSET = 2.22648
RADIANCE_SCALING_FACTOR = 0.0391844
REFLECTANCE_SCALING_FACTOR = 0.00116126
MEX:REFLECTANCE_OFFSET = 0.0659838
/* IMAGE OBJECT DEFINITIONS */
OBJECT = IMAGE
  INTERCHANGE_FORMAT = BINARY
  LINES = 16544
  LINE_SAMPLES = 7106
  SAMPLE_TYPE = UNSIGNED_INTEGER
  SAMPLE_BITS = 8
  BANDS = 1
  BAND_STORAGE_TYPE = BAND_SEQUENTIAL
  MAXIMUM = 255
  MEAN = 84.8961
  MINIMUM = 1
  STANDARD_DEVIATION = 58.633
END_OBJECT = IMAGE
/* MAP OBJECT DEFINITIONS */
OBJECT = IMAGE_MAP_PROJECTION
  ^DATA_SET_MAP_PROJECTION_CATALOG= "DSMAP.CAT"
  A_AXIS_RADIUS = 3396.0
  B_AXIS_RADIUS = 3396.0
  C_AXIS_RADIUS = 3396.0
  CENTER_LATITUDE = 0.0
  CENTER_LONGITUDE = 253.0
  COORDINATE_SYSTEM_NAME = PLANETOGRAPHIC
  COORDINATE_SYSTEM_TYPE = "BODY-FIXED ROTATING"
  EASTERNMOST_LONGITUDE = 257.68
  FIRST_STANDARD_PARALLEL = "N/A"
  LINE_FIRST_PIXEL = 1
  LINE_LAST_PIXEL = 16544
  LINE_PROJECTION_OFFSET = 183122.0
  MAP_PROJECTION_ROTATION = 0.0
  MAP_PROJECTION_TYPE = SINUSOIDAL
  MAP_RESOLUTION = 2370.85521546667
  MAP_SCALE = 0.025
  MAXIMUM_LATITUDE = 76.82510000000001
  MINIMUM_LATITUDE = 69.5072
  POSITIVE_LONGITUDE_DIRECTION = EAST
  REFERENCE_LATITUDE = "N/A"
  REFERENCE_LONGITUDE = "N/A"
  SAMPLE_FIRST_PIXEL = 1
  SAMPLE_LAST_PIXEL = 7106
  SAMPLE_PROJECTION_OFFSET = 3533.0
  SECOND_STANDARD_PARALLEL = "N/A"
  WESTERNMOST_LONGITUDE = 247.162
END_OBJECT = IMAGE_MAP_PROJECTION
/* The JPEG2000 image data file associated with this label. */
OBJECT = COMPRESSED_FILE
  FILE_NAME = "H3642_0000_S23.JP2"
  RECORD_TYPE = UNDEFINED
  FILE_RECORDS = UNK
  ENCODING_TYPE = "JP2"
  INTERCHANGE_FORMAT = BINARY
  UNCOMPRESSED_FILE_NAME = "H3642_0000_S23.IMG"
  REQUIRED_STORAGE_BYTES = "117590088"
  ^DESCRIPTION = "JP2INFO.TXT"
END_OBJECT = COMPRESSED_FILE
END
