PDS_VERSION_ID = PDS3
/* FILE DATA ELEMENTS */
RECORD_TYPE = STREAM
/* POINTERS TO DATA OBJECTS */
^COMPRESSED_FILE = "H3644_0000_P23.JP2"
/* IDENTIFICATION DATA ELEMENTS */
DATA_SET_ID = "MEX-M-HRSC-5-REFDR-MAPPROJECTED-V3.0"
DATA_SET_NAME = "MARS EXPRESS HRSC MAP PROJECTED REFDR V3.0"
DETECTOR_ID = MEX_HRSC_P2
EVENT_TYPE = "MARS-REGIONAL-MAPPING-Gl-Pf-Eo"
INSTRUMENT_HOST_ID = MEX
INSTRUMENT_HOST_NAME = "MARS EXPRESS"
INSTRUMENT_ID = HRSC
INSTRUMENT_NAME = "HIGH RESOLUTION STEREO CAMERA"
MISSION_NAME = "MARS EXPRESS"
MISSION_PHASE_NAME = ME_Phase_5
PROCESSING_LEVEL_ID = 3
PRODUCT_CREATION_TIME = 2016-04-18T18:17:36.000Z
PRODUCT_ID = "H3644_0000_P23.JP2"
RELEASE_ID = 0043
REVISION_ID = 0000
/* QUALITY DATA ELEMENTS */
DATA_QUALITY_ID = 1
DATA_QUALITY_DESC = "Data calculated based on original SPICE kernels"
/* TIME DATA ELEMENTS */
SPACECRAFT_CLOCK_START_COUNT = "1/0111117596.08238"
SPACECRAFT_CLOCK_STOP_COUNT = "1/0111117907.03028"
START_TIME = 2006-11-09T02:00:13.629Z
STOP_TIME = 2006-11-09T02:03:28.659Z
/* ORBITAL DATA ELEMENTS */
ASCENDING_NODE_LONGITUDE = 151.89
MAXIMUM_RESOLUTION = 45.4
FOOTPRINT_POINT_LATITUDE = (69.6476,69.7167,69.7735,69.8258, 69.8738,69.9173,69.9681,69.6733,69.2534 ,68.834,68.406,67.9776,67.6563,67.328, 67.1092,66.8907,66.6724,66.339,66.116, 65.8932,65.6707,65.445,65.2177,64.9906, 64.7641,64.5351,64.3035,64.0723,63.8417 ,63.6084,63.3727,63.1372,62.9021, 62.5434,62.3039,62.0648,61.7,61.4565, 61.2133,60.9654,60.7177,60.4703,60.2189 ,59.9673,59.7161,59.4607,59.2052, 58.8203,58.561,58.3016,58.2889,58.2637, 58.2193,58.1842,58.1616,58.1151,58.0848 ,58.1933,58.45,58.7079,58.961,59.2149, 59.469,59.718,59.9681,60.2179,60.4633, 60.7089,60.955,61.1964,61.4381,61.8004, 62.0376,62.2753,62.6313,62.8644,63.0978 ,63.3316,63.6778,63.907,64.1366,64.366, 64.5909,64.8164,65.0414,65.3776,65.5982 ,65.8191,66.04,66.2612,66.4784,66.9112, 67.1277,67.3445,67.7684,68.1927,68.51, 68.9247,69.3398,69.6476)
FOOTPRINT_POINT_LONGITUDE = (54.8784,55.7998,56.6201,57.4429,58.267 ,59.0929,60.1809,60.39,60.5498,60.7026, 60.852,60.9949,61.0987,61.2009,61.2672, 61.3322,61.3956,61.4902,61.5516,61.6118 ,61.6706,61.7292,61.7869,61.8433, 61.8982,61.9529,62.0071,62.0599,62.1113 ,62.1626,62.2133,62.2632,62.3118, 62.3841,62.4311,62.4771,62.5455,62.59, 62.6337,62.6772,62.7199,62.7617,62.8032 ,62.8439,62.8837,62.9234,62.9623, 63.0192,63.0566,63.0934,62.6726,61.9221 ,60.892,60.1891,59.7677,59.0632,58.6394 ,58.2309,58.1885,58.1455,58.1019, 58.0576,58.0124,57.966,57.9189,57.8705, 57.8216,57.7712,57.7197,57.6679,57.6147 ,57.5327,57.4771,57.4202,57.3324,57.273 ,57.2121,57.1498,57.0548,56.99,56.9236, 56.8554,56.7873,56.7178,56.6459,56.5356 ,56.4613,56.3851,56.307,56.227,56.1468, 55.9808,55.8947,55.8067,55.6287,55.4416 ,55.2961,55.0975,54.8891,54.8784)
ORBIT_NUMBER = 3644
ORBITAL_ECCENTRICITY = 0.564
ORBITAL_INCLINATION = 86.68
ORBITAL_SEMIMAJOR_AXIS = 8533.49
PERIAPSIS_ALTITUDE = 346.11
PERIAPSIS_ARGUMENT_ANGLE = 76.89
PERIAPSIS_TIME = 2006-11-09T01:52:03.000Z
SPACECRAFT_ORIENTATION = (0.0,1.0,0.0)
^MEX_ORIENTATION_DESC = "MEX_ORIENTATION_DESC.TXT"
SPACECRAFT_POINTING_MODE = ACROSSTRACK
^MEX_POINTING_DESC = "MEX_POINTING_DESC.TXT"
RIGHT_ASCENSION = -1e+32
DECLINATION = -1e+32
OFFSET_ANGLE = -0.3
SPACECRAFT_SOLAR_DISTANCE = 2.36466e+08
TARGET_NAME = MARS
/* CAMERA DATA ELEMENTS */
DETECTOR_TEMPERATURE = 18.5744
FOCAL_PLANE_TEMPERATURE = 8.1755
INST_CMPRS_NAME = "DISCRETE COSINE TRANSFORMATION (DCT)"
INST_CMPRS_RATIO = 7.67791
INST_CMPRS_QUALITY = 0
INST_CMPRS_QUANTZ_TBL_ID = 0
INSTRUMENT_TEMPERATURE = 11.234
LENS_TEMPERATURE = 8.3794
MACROPIXEL_SIZE = 2
MISSING_FRAMES = 0
PIXEL_SUBSAMPLING_FLAG = N
SIGNAL_CHAIN_ID = 3
/* RADIOMETRIC DATA ELEMENTS */
BANDWIDTH = 177.0
CENTER_FILTER_WAVELENGTH = 676.5
RADIANCE_OFFSET = 3.75591
RADIANCE_SCALING_FACTOR = 0.0122742
REFLECTANCE_SCALING_FACTOR = 0.0003639
MEX:REFLECTANCE_OFFSET = 0.111353
/* IMAGE OBJECT DEFINITIONS */
OBJECT = IMAGE
  INTERCHANGE_FORMAT = BINARY
  LINES = 13655
  LINE_SAMPLES = 4342
  SAMPLE_TYPE = UNSIGNED_INTEGER
  SAMPLE_BITS = 8
  BANDS = 1
  BAND_STORAGE_TYPE = BAND_SEQUENTIAL
  MAXIMUM = 255
  MEAN = 114.66
  MINIMUM = 1
  STANDARD_DEVIATION = 34.0476
END_OBJECT = IMAGE
/* MAP OBJECT DEFINITIONS */
OBJECT = IMAGE_MAP_PROJECTION
  ^DATA_SET_MAP_PROJECTION_CATALOG= "DSMAP.CAT"
  A_AXIS_RADIUS = 3396.0
  B_AXIS_RADIUS = 3396.0
  C_AXIS_RADIUS = 3396.0
  CENTER_LATITUDE = 0.0
  CENTER_LONGITUDE = 59.0
  COORDINATE_SYSTEM_NAME = PLANETOGRAPHIC
  COORDINATE_SYSTEM_TYPE = "BODY-FIXED ROTATING"
  EASTERNMOST_LONGITUDE = 63.0934
  FIRST_STANDARD_PARALLEL = "N/A"
  LINE_FIRST_PIXEL = 1
  LINE_LAST_PIXEL = 13655
  LINE_PROJECTION_OFFSET = 83541.75
  MAP_PROJECTION_ROTATION = 0.0
  MAP_PROJECTION_TYPE = SINUSOIDAL
  MAP_RESOLUTION = 1185.42760773333
  MAP_SCALE = 0.05
  MAXIMUM_LATITUDE = 69.96810000000001
  MINIMUM_LATITUDE = 58.0848
  POSITIVE_LONGITUDE_DIRECTION = EAST
  REFERENCE_LATITUDE = "N/A"
  REFERENCE_LONGITUDE = "N/A"
  SAMPLE_FIRST_PIXEL = 1
  SAMPLE_LAST_PIXEL = 4342
  SAMPLE_PROJECTION_OFFSET = 1872.25
  SECOND_STANDARD_PARALLEL = "N/A"
  WESTERNMOST_LONGITUDE = 54.8784
END_OBJECT = IMAGE_MAP_PROJECTION
/* The JPEG2000 image data file associated with this label. */
OBJECT = COMPRESSED_FILE
  FILE_NAME = "H3644_0000_P23.JP2"
  RECORD_TYPE = UNDEFINED
  FILE_RECORDS = UNK
  ENCODING_TYPE = "JP2"
  INTERCHANGE_FORMAT = BINARY
  UNCOMPRESSED_FILE_NAME = "H3644_0000_P23.IMG"
  REQUIRED_STORAGE_BYTES = "59316062"
  ^DESCRIPTION = "JP2INFO.TXT"
END_OBJECT = COMPRESSED_FILE
END
