PDS_VERSION_ID = PDS3
/* FILE DATA ELEMENTS */
RECORD_TYPE = STREAM
/* POINTERS TO DATA OBJECTS */
^COMPRESSED_FILE = "H3645_0000_BL3.JP2"
/* IDENTIFICATION DATA ELEMENTS */
DATA_SET_ID = "MEX-M-HRSC-5-REFDR-MAPPROJECTED-V3.0"
DATA_SET_NAME = "MARS EXPRESS HRSC MAP PROJECTED REFDR V3.0"
DETECTOR_ID = MEX_HRSC_BLUE
EVENT_TYPE = "MARS-REGIONAL-MAPPING-Vo-Pf-Eo"
INSTRUMENT_HOST_ID = MEX
INSTRUMENT_HOST_NAME = "MARS EXPRESS"
INSTRUMENT_ID = HRSC
INSTRUMENT_NAME = "HIGH RESOLUTION STEREO CAMERA"
MISSION_NAME = "MARS EXPRESS"
MISSION_PHASE_NAME = ME_Phase_5
PROCESSING_LEVEL_ID = 3
PRODUCT_CREATION_TIME = 2016-04-18T18:17:36.000Z
PRODUCT_ID = "H3645_0000_BL3.JP2"
RELEASE_ID = 0043
REVISION_ID = 0000
/* QUALITY DATA ELEMENTS */
DATA_QUALITY_ID = 2
DATA_QUALITY_DESC = "Data calculated based on photogrammetrically improved orbit and attitude data"
/* TIME DATA ELEMENTS */
SPACECRAFT_CLOCK_START_COUNT = "1/0111141785.07300"
SPACECRAFT_CLOCK_STOP_COUNT = "1/0111142131.26175"
START_TIME = 2006-11-09T08:43:41.276Z
STOP_TIME = 2006-11-09T08:47:36.823Z
/* ORBITAL DATA ELEMENTS */
ASCENDING_NODE_LONGITUDE = 151.87
MAXIMUM_RESOLUTION = 181.5
FOOTPRINT_POINT_LATITUDE = (70.3103,70.4111,70.471,70.5121,70.5515 ,70.5885,70.2222,69.7562,69.4007, 69.1627,68.925,68.6877,68.3262,68.0838, 67.8418,67.6002,67.3536,67.1069,66.8605 ,66.4886,66.2375,65.9867,65.7365, 65.4815,65.0989,64.8442,64.5844,64.325, 64.0662,63.803,63.5394,63.2764,63.0094, 62.7418,62.4746,62.203,61.7956,61.3827, 61.1071,60.6887,60.4091,59.9844,59.7009 ,59.4134,59.1258,58.6897,58.3983, 58.1025,57.8071,57.5077,57.3725,57.3505 ,57.3267,57.2863,57.23,57.3609,57.6575, 57.9507,58.2437,58.533,58.8228,59.108, 59.5357,59.8171,60.0993,60.3767,60.6546 ,61.067,61.3408,61.613,61.8824,62.2863, 62.5514,62.8171,63.0812,63.3422,63.6038 ,63.8641,64.1208,64.3781,64.6353, 64.8877,65.1406,65.5192,65.7673,66.1403 ,66.3889,66.6327,66.8767,67.1212, 67.3647,67.604,67.8437,68.0837,68.3235, 68.7933,69.0286,69.2642,69.6123, 70.3103)
FOOTPRINT_POINT_LONGITUDE = (317.066,318.669,319.762,320.599, 321.492,322.443,322.893,323.06,323.182, 323.26,323.337,323.412,323.523,323.595, 323.665,323.733,323.801,323.868,323.932 ,324.027,324.09,324.15,324.209,324.268, 324.354,324.41,324.465,324.519,324.571, 324.624,324.675,324.725,324.774,324.823 ,324.87,324.917,324.986,325.053,325.096 ,325.16,325.202,325.264,325.303,325.343 ,325.382,325.439,325.476,325.513, 325.548,325.584,324.555,323.746,323.034 ,322.037,320.901,320.519,320.482, 320.443,320.403,320.362,320.32,320.277, 320.21,320.164,320.117,320.068,320.019, 319.943,319.89,319.836,319.781,319.696, 319.638,319.579,319.518,319.455,319.392 ,319.326,319.26,319.191,319.121,319.05, 318.977,318.864,318.788,318.669,318.587 ,318.504,318.419,318.332,318.242, 318.152,318.059,317.963,317.865,317.665 ,317.56,317.453,317.289,317.066)
ORBIT_NUMBER = 3645
ORBITAL_ECCENTRICITY = 0.564
ORBITAL_INCLINATION = 86.68
ORBITAL_SEMIMAJOR_AXIS = 8533.86
PERIAPSIS_ALTITUDE = 346.8
PERIAPSIS_ARGUMENT_ANGLE = 76.71
PERIAPSIS_TIME = 2006-11-09T08:35:12.000Z
SPACECRAFT_ORIENTATION = (0.0,1.0,0.0)
^MEX_ORIENTATION_DESC = "MEX_ORIENTATION_DESC.TXT"
SPACECRAFT_POINTING_MODE = NADIR
^MEX_POINTING_DESC = "MEX_POINTING_DESC.TXT"
RIGHT_ASCENSION = -1e+32
DECLINATION = -1e+32
OFFSET_ANGLE = -1e+32
SPACECRAFT_SOLAR_DISTANCE = 2.36417e+08
TARGET_NAME = MARS
/* CAMERA DATA ELEMENTS */
DETECTOR_TEMPERATURE = 18.7783
FOCAL_PLANE_TEMPERATURE = 8.5833
INST_CMPRS_NAME = "DISCRETE COSINE TRANSFORMATION (DCT)"
INST_CMPRS_RATIO = 29.2232
INST_CMPRS_QUALITY = 0
INST_CMPRS_QUANTZ_TBL_ID = 0
INSTRUMENT_TEMPERATURE = 12.8652
LENS_TEMPERATURE = 8.9911
MACROPIXEL_SIZE = 8
MISSING_FRAMES = 0
PIXEL_SUBSAMPLING_FLAG = N
SIGNAL_CHAIN_ID = 2
/* RADIOMETRIC DATA ELEMENTS */
BANDWIDTH = 76.0
CENTER_FILTER_WAVELENGTH = 444.0
RADIANCE_OFFSET = 0.449999
RADIANCE_SCALING_FACTOR = 0.00123792
REFLECTANCE_SCALING_FACTOR = 7.10894e-05
MEX:REFLECTANCE_OFFSET = 0.0258418
/* IMAGE OBJECT DEFINITIONS */
OBJECT = IMAGE
  INTERCHANGE_FORMAT = BINARY
  LINES = 3937
  LINE_SAMPLES = 1082
  SAMPLE_TYPE = UNSIGNED_INTEGER
  SAMPLE_BITS = 8
  BANDS = 1
  BAND_STORAGE_TYPE = BAND_SEQUENTIAL
  MAXIMUM = 255
  MEAN = 126.734
  MINIMUM = 1
  STANDARD_DEVIATION = 48.3887
END_OBJECT = IMAGE
/* MAP OBJECT DEFINITIONS */
OBJECT = IMAGE_MAP_PROJECTION
  ^DATA_SET_MAP_PROJECTION_CATALOG= "DSMAP.CAT"
  A_AXIS_RADIUS = 3396.0
  B_AXIS_RADIUS = 3396.0
  C_AXIS_RADIUS = 3396.0
  CENTER_LATITUDE = 0.0
  CENTER_LONGITUDE = 322.0
  COORDINATE_SYSTEM_NAME = PLANETOGRAPHIC
  COORDINATE_SYSTEM_TYPE = "BODY-FIXED ROTATING"
  EASTERNMOST_LONGITUDE = 325.584
  FIRST_STANDARD_PARALLEL = "N/A"
  LINE_FIRST_PIXEL = 1
  LINE_LAST_PIXEL = 3937
  LINE_PROJECTION_OFFSET = 20970.3125
  MAP_PROJECTION_ROTATION = 0.0
  MAP_PROJECTION_TYPE = SINUSOIDAL
  MAP_RESOLUTION = 296.356901933333
  MAP_SCALE = 0.2
  MAXIMUM_LATITUDE = 70.5885
  MINIMUM_LATITUDE = 57.23
  POSITIVE_LONGITUDE_DIRECTION = EAST
  REFERENCE_LATITUDE = "N/A"
  REFERENCE_LONGITUDE = "N/A"
  SAMPLE_FIRST_PIXEL = 1
  SAMPLE_LAST_PIXEL = 1082
  SAMPLE_PROJECTION_OFFSET = 506.5625
  SECOND_STANDARD_PARALLEL = "N/A"
  WESTERNMOST_LONGITUDE = 317.066
END_OBJECT = IMAGE_MAP_PROJECTION
/* The JPEG2000 image data file associated with this label. */
OBJECT = COMPRESSED_FILE
  FILE_NAME = "H3645_0000_BL3.JP2"
  RECORD_TYPE = UNDEFINED
  FILE_RECORDS = UNK
  ENCODING_TYPE = "JP2"
  INTERCHANGE_FORMAT = BINARY
  UNCOMPRESSED_FILE_NAME = "H3645_0000_BL3.IMG"
  REQUIRED_STORAGE_BYTES = "4278228"
  ^DESCRIPTION = "JP2INFO.TXT"
END_OBJECT = COMPRESSED_FILE
END
