PDS_VERSION_ID = PDS3
/* FILE DATA ELEMENTS */
RECORD_TYPE = STREAM
/* POINTERS TO DATA OBJECTS */
^COMPRESSED_FILE = "H3645_0000_P13.JP2"
/* IDENTIFICATION DATA ELEMENTS */
DATA_SET_ID = "MEX-M-HRSC-5-REFDR-MAPPROJECTED-V3.0"
DATA_SET_NAME = "MARS EXPRESS HRSC MAP PROJECTED REFDR V3.0"
DETECTOR_ID = MEX_HRSC_P1
EVENT_TYPE = "MARS-REGIONAL-MAPPING-Vo-Pf-Eo"
INSTRUMENT_HOST_ID = MEX
INSTRUMENT_HOST_NAME = "MARS EXPRESS"
INSTRUMENT_ID = HRSC
INSTRUMENT_NAME = "HIGH RESOLUTION STEREO CAMERA"
MISSION_NAME = "MARS EXPRESS"
MISSION_PHASE_NAME = ME_Phase_5
PROCESSING_LEVEL_ID = 3
PRODUCT_CREATION_TIME = 2016-04-18T18:17:36.000Z
PRODUCT_ID = "H3645_0000_P13.JP2"
RELEASE_ID = 0043
REVISION_ID = 0000
/* QUALITY DATA ELEMENTS */
DATA_QUALITY_ID = 2
DATA_QUALITY_DESC = "Data calculated based on photogrammetrically improved orbit and attitude data"
/* TIME DATA ELEMENTS */
SPACECRAFT_CLOCK_START_COUNT = "1/0111141785.07300"
SPACECRAFT_CLOCK_STOP_COUNT = "1/0111142131.26175"
START_TIME = 2006-11-09T08:44:14.890Z
STOP_TIME = 2006-11-09T08:48:28.996Z
/* ORBITAL DATA ELEMENTS */
ASCENDING_NODE_LONGITUDE = 151.87
MAXIMUM_RESOLUTION = 49.1
FOOTPRINT_POINT_LATITUDE = (71.0911,71.1362,71.1924,71.2623, 71.3263,71.3632,71.4963,71.0403,70.5852 ,70.3541,70.1223,69.8911,69.5425, 69.3069,69.0719,68.8375,68.599,68.3602, 68.1222,67.7602,67.5184,67.277,67.0313, 66.7859,66.5411,66.2922,65.9194,65.6685 ,65.4164,65.0368,64.7812,64.3971, 64.1383,63.8802,63.6178,63.3563,62.9594 ,62.6948,62.4262,62.1582,61.887,61.616, 61.3418,61.0677,60.7903,60.3722,60.0918 ,59.8088,59.3822,59.0957,58.7706,58.758 ,58.7445,58.7207,58.6838,58.6577,58.621 ,58.5907,58.8774,59.1609,59.5837, 59.8643,60.1418,60.4188,60.6935,61.1026 ,61.3747,61.6431,61.9121,62.1772, 62.4433,62.8367,63.0989,63.3579,63.7458 ,64.0017,64.2584,64.5107,64.7636, 65.0151,65.2644,65.638,65.8836,66.1302, 66.4959,66.7385,66.9819,67.2208,67.46, 67.8182,68.0536,68.2894,68.5257,68.7572 ,68.9894,69.2218,69.6809,70.2526, 70.7016,71.0911)
FOOTPRINT_POINT_LONGITUDE = (316.429,317.139,318.088,319.402, 320.783,321.69,322.728,322.916,323.094, 323.181,323.267,323.35,323.472,323.551, 323.629,323.704,323.779,323.853,323.924 ,324.03,324.099,324.166,324.232,324.297 ,324.361,324.424,324.516,324.576, 324.635,324.721,324.778,324.861,324.915 ,324.968,325.021,325.073,325.149, 325.198,325.248,325.295,325.343,325.39, 325.436,325.481,325.526,325.592,325.635 ,325.677,325.74,325.781,325.548,324.819 ,324.204,323.313,322.199,321.531, 320.698,320.067,320.027,319.986,319.923 ,319.879,319.834,319.788,319.74,319.667 ,319.616,319.565,319.512,319.458, 319.402,319.316,319.257,319.197,319.103 ,319.039,318.973,318.906,318.838, 318.767,318.696,318.584,318.509,318.431 ,318.311,318.229,318.144,318.058,317.97 ,317.834,317.742,317.646,317.548, 317.449,317.347,317.243,317.027,316.741 ,316.502,316.429)
ORBIT_NUMBER = 3645
ORBITAL_ECCENTRICITY = 0.564
ORBITAL_INCLINATION = 86.68
ORBITAL_SEMIMAJOR_AXIS = 8533.86
PERIAPSIS_ALTITUDE = 346.8
PERIAPSIS_ARGUMENT_ANGLE = 76.71
PERIAPSIS_TIME = 2006-11-09T08:35:12.000Z
SPACECRAFT_ORIENTATION = (0.0,1.0,0.0)
^MEX_ORIENTATION_DESC = "MEX_ORIENTATION_DESC.TXT"
SPACECRAFT_POINTING_MODE = NADIR
^MEX_POINTING_DESC = "MEX_POINTING_DESC.TXT"
RIGHT_ASCENSION = -1e+32
DECLINATION = -1e+32
OFFSET_ANGLE = -1e+32
SPACECRAFT_SOLAR_DISTANCE = 2.36417e+08
TARGET_NAME = MARS
/* CAMERA DATA ELEMENTS */
DETECTOR_TEMPERATURE = 17.5549
FOCAL_PLANE_TEMPERATURE = 8.5833
INST_CMPRS_NAME = "DISCRETE COSINE TRANSFORMATION (DCT)"
INST_CMPRS_RATIO = 15.8275
INST_CMPRS_QUALITY = 0
INST_CMPRS_QUANTZ_TBL_ID = 0
INSTRUMENT_TEMPERATURE = 12.8652
LENS_TEMPERATURE = 8.9911
MACROPIXEL_SIZE = 2
MISSING_FRAMES = 0
PIXEL_SUBSAMPLING_FLAG = N
SIGNAL_CHAIN_ID = 3
/* RADIOMETRIC DATA ELEMENTS */
BANDWIDTH = 174.0
CENTER_FILTER_WAVELENGTH = 675.0
RADIANCE_OFFSET = 1.75379
RADIANCE_SCALING_FACTOR = 0.014235
REFLECTANCE_SCALING_FACTOR = 0.000427957
MEX:REFLECTANCE_OFFSET = 0.0527253
/* IMAGE OBJECT DEFINITIONS */
OBJECT = IMAGE
  INTERCHANGE_FORMAT = BINARY
  LINES = 15747
  LINE_SAMPLES = 4326
  SAMPLE_TYPE = UNSIGNED_INTEGER
  SAMPLE_BITS = 8
  BANDS = 1
  BAND_STORAGE_TYPE = BAND_SEQUENTIAL
  MAXIMUM = 255
  MEAN = 148.746
  MINIMUM = 2
  STANDARD_DEVIATION = 49.9246
END_OBJECT = IMAGE
/* MAP OBJECT DEFINITIONS */
OBJECT = IMAGE_MAP_PROJECTION
  ^DATA_SET_MAP_PROJECTION_CATALOG= "DSMAP.CAT"
  A_AXIS_RADIUS = 3396.0
  B_AXIS_RADIUS = 3396.0
  C_AXIS_RADIUS = 3396.0
  CENTER_LATITUDE = 0.0
  CENTER_LONGITUDE = 322.0
  COORDINATE_SYSTEM_NAME = PLANETOGRAPHIC
  COORDINATE_SYSTEM_TYPE = "BODY-FIXED ROTATING"
  EASTERNMOST_LONGITUDE = 325.781
  FIRST_STANDARD_PARALLEL = "N/A"
  LINE_FIRST_PIXEL = 1
  LINE_LAST_PIXEL = 15747
  LINE_PROJECTION_OFFSET = 83882.75
  MAP_PROJECTION_ROTATION = 0.0
  MAP_PROJECTION_TYPE = SINUSOIDAL
  MAP_RESOLUTION = 1185.42760773333
  MAP_SCALE = 0.05
  MAXIMUM_LATITUDE = 71.49630000000001
  MINIMUM_LATITUDE = 58.5907
  POSITIVE_LONGITUDE_DIRECTION = EAST
  REFERENCE_LATITUDE = "N/A"
  REFERENCE_LONGITUDE = "N/A"
  SAMPLE_FIRST_PIXEL = 1
  SAMPLE_LAST_PIXEL = 4326
  SAMPLE_PROJECTION_OFFSET = 2027.75
  SECOND_STANDARD_PARALLEL = "N/A"
  WESTERNMOST_LONGITUDE = 316.429
END_OBJECT = IMAGE_MAP_PROJECTION
/* The JPEG2000 image data file associated with this label. */
OBJECT = COMPRESSED_FILE
  FILE_NAME = "H3645_0000_P13.JP2"
  RECORD_TYPE = UNDEFINED
  FILE_RECORDS = UNK
  ENCODING_TYPE = "JP2"
  INTERCHANGE_FORMAT = BINARY
  UNCOMPRESSED_FILE_NAME = "H3645_0000_P13.IMG"
  REQUIRED_STORAGE_BYTES = "68147478"
  ^DESCRIPTION = "JP2INFO.TXT"
END_OBJECT = COMPRESSED_FILE
END
