PDS_VERSION_ID = PDS3
/* FILE DATA ELEMENTS */
RECORD_TYPE = STREAM
/* POINTERS TO DATA OBJECTS */
^COMPRESSED_FILE = "H3653_0000_BL3.JP2"
/* IDENTIFICATION DATA ELEMENTS */
DATA_SET_ID = "MEX-M-HRSC-5-REFDR-MAPPROJECTED-V3.0"
DATA_SET_NAME = "MARS EXPRESS HRSC MAP PROJECTED REFDR V3.0"
DETECTOR_ID = MEX_HRSC_BLUE
EVENT_TYPE = "MARS-REGIONAL-MAPPING-Pf-Eo-Ot"
INSTRUMENT_HOST_ID = MEX
INSTRUMENT_HOST_NAME = "MARS EXPRESS"
INSTRUMENT_ID = HRSC
INSTRUMENT_NAME = "HIGH RESOLUTION STEREO CAMERA"
MISSION_NAME = "MARS EXPRESS"
MISSION_PHASE_NAME = ME_Phase_5
PROCESSING_LEVEL_ID = 3
PRODUCT_CREATION_TIME = 2016-04-18T18:17:36.000Z
PRODUCT_ID = "H3653_0000_BL3.JP2"
RELEASE_ID = 0043
REVISION_ID = 0000
/* QUALITY DATA ELEMENTS */
DATA_QUALITY_ID = 1
DATA_QUALITY_DESC = "Data calculated based on original SPICE kernels"
/* TIME DATA ELEMENTS */
SPACECRAFT_CLOCK_START_COUNT = "1/0111335481.07290"
SPACECRAFT_CLOCK_STOP_COUNT = "1/0111335763.06613"
START_TIME = 2006-11-11T14:31:59.476Z
STOP_TIME = 2006-11-11T14:34:50.046Z
/* ORBITAL DATA ELEMENTS */
ASCENDING_NODE_LONGITUDE = 151.71
MAXIMUM_RESOLUTION = 118.3
FOOTPRINT_POINT_LATITUDE = (61.1156,61.1373,61.1579,61.1866, 61.2044,61.225,61.2402,61.2542,61.2671, 61.2789,61.2895,61.3023,61.3102,60.8805 ,60.5547,60.1397,59.8084,59.5579, 59.2206,58.8842,58.4565,58.1147,57.8542 ,57.6804,57.5068,57.3335,57.157,56.9805 ,56.8042,56.6285,56.4497,56.2707, 56.0919,55.8224,55.6408,55.4593,55.2783 ,55.0025,54.8186,54.635,54.3555,54.169, 53.983,53.7938,53.6047,53.416,53.2251, 53.0335,52.8423,52.6491,52.3834,52.3816 ,52.378,52.3732,52.3644,52.3565,52.3484 ,52.3379,52.3228,52.3108,52.292,52.2776 ,52.2599,52.4407,52.6334,52.823,53.0129 ,53.2969,53.4841,53.6717,53.859,54.0437 ,54.2287,54.5056,54.6878,54.8704, 55.1435,55.3232,55.5933,55.7734,55.9504 ,56.1278,56.3055,56.4825,56.6571, 56.8319,57.0071,57.1818,57.5259,57.6984 ,58.0414,58.3806,58.7197,59.0535, 59.3885,59.6365,59.9654,60.3769,60.7002 ,61.1156)
FOOTPRINT_POINT_LONGITUDE = (254.158,254.542,254.927,255.504,255.89 ,256.374,256.761,257.148,257.536, 257.925,258.314,258.852,259.243,259.399 ,259.444,259.499,259.542,259.575, 259.617,259.658,259.708,259.747,259.776 ,259.795,259.813,259.832,259.851, 259.869,259.887,259.905,259.922,259.94, 259.957,259.983,260.0,260.017,260.033, 260.057,260.073,260.089,260.113,260.128 ,260.143,260.159,260.174,260.188, 260.203,260.218,260.232,260.246,260.266 ,259.824,259.378,258.983,258.441, 258.047,257.703,257.309,256.818,256.474 ,255.983,255.64,255.247,254.974,254.963 ,254.951,254.939,254.92,254.907,254.894 ,254.88,254.867,254.852,254.83,254.815, 254.8,254.776,254.76,254.735,254.718, 254.701,254.683,254.665,254.647,254.628 ,254.609,254.59,254.57,254.529,254.508, 254.466,254.421,254.376,254.329,254.28, 254.243,254.191,254.125,254.07,254.158)
ORBIT_NUMBER = 3653
ORBITAL_ECCENTRICITY = 0.564
ORBITAL_INCLINATION = 86.68
ORBITAL_SEMIMAJOR_AXIS = 8537.61
PERIAPSIS_ALTITUDE = 346.06
PERIAPSIS_ARGUMENT_ANGLE = 75.28
PERIAPSIS_TIME = 2006-11-11T14:20:21.000Z
SPACECRAFT_ORIENTATION = (0.0,1.0,0.0)
^MEX_ORIENTATION_DESC = "MEX_ORIENTATION_DESC.TXT"
SPACECRAFT_POINTING_MODE = ACROSSTRACK
^MEX_POINTING_DESC = "MEX_POINTING_DESC.TXT"
RIGHT_ASCENSION = -1e+32
DECLINATION = -1e+32
OFFSET_ANGLE = 0.15
SPACECRAFT_SOLAR_DISTANCE = 2.3603e+08
TARGET_NAME = MARS
/* CAMERA DATA ELEMENTS */
DETECTOR_TEMPERATURE = 18.1666
FOCAL_PLANE_TEMPERATURE = 7.5638
INST_CMPRS_NAME = "DISCRETE COSINE TRANSFORMATION (DCT)"
INST_CMPRS_RATIO = 8.50508
INST_CMPRS_QUALITY = 0
INST_CMPRS_QUANTZ_TBL_ID = 0
INSTRUMENT_TEMPERATURE = 11.234
LENS_TEMPERATURE = 8.1755
MACROPIXEL_SIZE = 4
MISSING_FRAMES = 0
PIXEL_SUBSAMPLING_FLAG = N
SIGNAL_CHAIN_ID = 2
/* RADIOMETRIC DATA ELEMENTS */
BANDWIDTH = 76.0
CENTER_FILTER_WAVELENGTH = 444.0
RADIANCE_OFFSET = 0.638544
RADIANCE_SCALING_FACTOR = 0.00305261
REFLECTANCE_SCALING_FACTOR = 0.000174725
MEX:REFLECTANCE_OFFSET = 0.0365489
/* IMAGE OBJECT DEFINITIONS */
OBJECT = IMAGE
  INTERCHANGE_FORMAT = BINARY
  LINES = 5300
  LINE_SAMPLES = 2072
  SAMPLE_TYPE = UNSIGNED_INTEGER
  SAMPLE_BITS = 8
  BANDS = 1
  BAND_STORAGE_TYPE = BAND_SEQUENTIAL
  MAXIMUM = 255
  MEAN = 79.3816
  MINIMUM = 1
  STANDARD_DEVIATION = 39.3192
END_OBJECT = IMAGE
/* MAP OBJECT DEFINITIONS */
OBJECT = IMAGE_MAP_PROJECTION
  ^DATA_SET_MAP_PROJECTION_CATALOG= "DSMAP.CAT"
  A_AXIS_RADIUS = 3396.0
  B_AXIS_RADIUS = 3396.0
  C_AXIS_RADIUS = 3396.0
  CENTER_LATITUDE = 0.0
  CENTER_LONGITUDE = 257.0
  COORDINATE_SYSTEM_NAME = PLANETOGRAPHIC
  COORDINATE_SYSTEM_TYPE = "BODY-FIXED ROTATING"
  EASTERNMOST_LONGITUDE = 260.266
  FIRST_STANDARD_PARALLEL = "N/A"
  LINE_FIRST_PIXEL = 1
  LINE_LAST_PIXEL = 5300
  LINE_PROJECTION_OFFSET = 36531.875
  MAP_PROJECTION_ROTATION = 0.0
  MAP_PROJECTION_TYPE = SINUSOIDAL
  MAP_RESOLUTION = 592.713803866667
  MAP_SCALE = 0.1
  MAXIMUM_LATITUDE = 61.3102
  MINIMUM_LATITUDE = 52.2599
  POSITIVE_LONGITUDE_DIRECTION = EAST
  REFERENCE_LATITUDE = "N/A"
  REFERENCE_LONGITUDE = "N/A"
  SAMPLE_FIRST_PIXEL = 1
  SAMPLE_LAST_PIXEL = 2072
  SAMPLE_PROJECTION_OFFSET = 875.875
  SECOND_STANDARD_PARALLEL = "N/A"
  WESTERNMOST_LONGITUDE = 254.07
END_OBJECT = IMAGE_MAP_PROJECTION
/* The JPEG2000 image data file associated with this label. */
OBJECT = COMPRESSED_FILE
  FILE_NAME = "H3653_0000_BL3.JP2"
  RECORD_TYPE = UNDEFINED
  FILE_RECORDS = UNK
  ENCODING_TYPE = "JP2"
  INTERCHANGE_FORMAT = BINARY
  UNCOMPRESSED_FILE_NAME = "H3653_0000_BL3.IMG"
  REQUIRED_STORAGE_BYTES = "11002320"
  ^DESCRIPTION = "JP2INFO.TXT"
END_OBJECT = COMPRESSED_FILE
END
