PDS_VERSION_ID = PDS3
/* FILE DATA ELEMENTS */
RECORD_TYPE = STREAM
/* POINTERS TO DATA OBJECTS */
^COMPRESSED_FILE = "H3657_0000_P13.JP2"
/* IDENTIFICATION DATA ELEMENTS */
DATA_SET_ID = "MEX-M-HRSC-5-REFDR-MAPPROJECTED-V3.0"
DATA_SET_NAME = "MARS EXPRESS HRSC MAP PROJECTED REFDR V3.0"
DETECTOR_ID = MEX_HRSC_P1
EVENT_TYPE = "MARS-REGIONAL-MAPPING-Im-Pf-Eo"
INSTRUMENT_HOST_ID = MEX
INSTRUMENT_HOST_NAME = "MARS EXPRESS"
INSTRUMENT_ID = HRSC
INSTRUMENT_NAME = "HIGH RESOLUTION STEREO CAMERA"
MISSION_NAME = "MARS EXPRESS"
MISSION_PHASE_NAME = ME_Phase_5
PROCESSING_LEVEL_ID = 3
PRODUCT_CREATION_TIME = 2016-04-18T18:17:36.000Z
PRODUCT_ID = "H3657_0000_P13.JP2"
RELEASE_ID = 0043
REVISION_ID = 0000
/* QUALITY DATA ELEMENTS */
DATA_QUALITY_ID = 1
DATA_QUALITY_DESC = "Data calculated based on original SPICE kernels"
/* TIME DATA ELEMENTS */
SPACECRAFT_CLOCK_START_COUNT = "1/0111432342.09031"
SPACECRAFT_CLOCK_STOP_COUNT = "1/0111432618.35940"
START_TIME = 2006-11-12T17:27:02.955Z
STOP_TIME = 2006-11-12T17:29:54.874Z
/* ORBITAL DATA ELEMENTS */
ASCENDING_NODE_LONGITUDE = 151.63
MAXIMUM_RESOLUTION = 75
FOOTPRINT_POINT_LATITUDE = (58.1188,58.14,58.1598,58.1782,58.1952, 58.2071,58.2217,58.2302,58.2396,58.251, 58.261,58.2706,58.2785,58.3609,57.9551, 57.684,57.3409,56.9273,56.6492,56.2991, 56.0183,55.8051,55.5208,55.3055,55.018, 54.8002,54.3628,54.0689,53.9209,53.7724 ,53.6241,53.4744,53.3241,53.1743, 53.0234,52.8718,52.7203,52.5674,52.4143 ,52.1842,52.0294,51.8751,51.7187, 51.4848,51.3273,51.091,51.0915,51.0926, 51.0924,51.092,51.0911,51.0897,51.0879, 51.0861,51.0838,51.0809,51.0767,51.073, 51.069,51.0634,51.0571,51.0516,51.0456, 51.0378,51.031,51.0221,51.0145,50.9968, 51.2301,51.3855,51.6161,51.7703,51.9224 ,52.0749,52.302,52.453,52.6039,52.7531, 52.9028,53.0518,53.1996,53.3478,53.6417 ,53.8619,54.0795,54.3698,54.6566, 54.8716,55.1556,55.5788,55.8599,56.1374 ,56.4834,56.7582,57.1672,57.4395, 57.7074,57.9089,58.1758,58.1188)
FOOTPRINT_POINT_LONGITUDE = (221.158,221.616,222.075,222.533, 222.993,223.337,223.796,224.084,224.429 ,224.888,225.349,225.868,226.388, 226.821,226.874,226.909,226.952,227.003 ,227.037,227.078,227.111,227.135, 227.167,227.19,227.221,227.245,227.291, 227.321,227.336,227.351,227.365,227.38, 227.395,227.409,227.424,227.438,227.452 ,227.467,227.481,227.502,227.516,227.53 ,227.544,227.565,227.579,227.599, 227.173,226.745,226.5,226.256,226.011, 225.767,225.524,225.28,225.036,224.792, 224.488,224.244,224.001,223.696,223.391 ,223.147,222.903,222.598,222.355,222.05 ,221.805,221.296,221.286,221.28,221.27, 221.263,221.256,221.249,221.238,221.23, 221.222,221.214,221.206,221.197,221.188 ,221.179,221.16,221.146,221.131,221.109 ,221.088,221.071,221.047,221.01,220.985 ,220.958,220.924,220.895,220.85,220.819 ,220.787,220.763,220.729,221.158)
ORBIT_NUMBER = 3657
ORBITAL_ECCENTRICITY = 0.564
ORBITAL_INCLINATION = 86.69
ORBITAL_SEMIMAJOR_AXIS = 8537.99
PERIAPSIS_ALTITUDE = 345.39
PERIAPSIS_ARGUMENT_ANGLE = 74.59
PERIAPSIS_TIME = 2006-11-12T17:12:52.000Z
SPACECRAFT_ORIENTATION = (0.0,1.0,0.0)
^MEX_ORIENTATION_DESC = "MEX_ORIENTATION_DESC.TXT"
SPACECRAFT_POINTING_MODE = NADIR
^MEX_POINTING_DESC = "MEX_POINTING_DESC.TXT"
RIGHT_ASCENSION = -1e+32
DECLINATION = -1e+32
OFFSET_ANGLE = -1e+32
SPACECRAFT_SOLAR_DISTANCE = 2.35834e+08
TARGET_NAME = MARS
/* CAMERA DATA ELEMENTS */
DETECTOR_TEMPERATURE = 17.1471
FOCAL_PLANE_TEMPERATURE = 7.7677
INST_CMPRS_NAME = "DISCRETE COSINE TRANSFORMATION (DCT)"
INST_CMPRS_RATIO = 11.0733
INST_CMPRS_QUALITY = 0
INST_CMPRS_QUANTZ_TBL_ID = 0
INSTRUMENT_TEMPERATURE = 11.0301
LENS_TEMPERATURE = 7.9716
MACROPIXEL_SIZE = 2
MISSING_FRAMES = 0
PIXEL_SUBSAMPLING_FLAG = N
SIGNAL_CHAIN_ID = 3
/* RADIOMETRIC DATA ELEMENTS */
BANDWIDTH = 174.0
CENTER_FILTER_WAVELENGTH = 675.0
RADIANCE_OFFSET = 5.20433
RADIANCE_SCALING_FACTOR = 0.0157643
REFLECTANCE_SCALING_FACTOR = 0.000471595
MEX:REFLECTANCE_OFFSET = 0.155689
/* IMAGE OBJECT DEFINITIONS */
OBJECT = IMAGE
  INTERCHANGE_FORMAT = BINARY
  LINES = 9249
  LINE_SAMPLES = 4464
  SAMPLE_TYPE = UNSIGNED_INTEGER
  SAMPLE_BITS = 8
  BANDS = 1
  BAND_STORAGE_TYPE = BAND_SEQUENTIAL
  MAXIMUM = 255
  MEAN = 183.174
  MINIMUM = 31
  STANDARD_DEVIATION = 25.9302
END_OBJECT = IMAGE
/* MAP OBJECT DEFINITIONS */
OBJECT = IMAGE_MAP_PROJECTION
  ^DATA_SET_MAP_PROJECTION_CATALOG= "DSMAP.CAT"
  A_AXIS_RADIUS = 3396.0
  B_AXIS_RADIUS = 3396.0
  C_AXIS_RADIUS = 3396.0
  CENTER_LATITUDE = 0.0
  CENTER_LONGITUDE = 224.0
  COORDINATE_SYSTEM_NAME = PLANETOGRAPHIC
  COORDINATE_SYSTEM_TYPE = "BODY-FIXED ROTATING"
  EASTERNMOST_LONGITUDE = 227.599
  FIRST_STANDARD_PARALLEL = "N/A"
  LINE_FIRST_PIXEL = 1
  LINE_LAST_PIXEL = 9249
  LINE_PROJECTION_OFFSET = 66935.75
  MAP_PROJECTION_ROTATION = 0.0
  MAP_PROJECTION_TYPE = SINUSOIDAL
  MAP_RESOLUTION = 1185.42760773333
  MAP_SCALE = 0.05
  MAXIMUM_LATITUDE = 58.3609
  MINIMUM_LATITUDE = 50.9968
  POSITIVE_LONGITUDE_DIRECTION = EAST
  REFERENCE_LATITUDE = "N/A"
  REFERENCE_LONGITUDE = "N/A"
  SAMPLE_FIRST_PIXEL = 1
  SAMPLE_LAST_PIXEL = 4464
  SAMPLE_PROJECTION_OFFSET = 1839.25
  SECOND_STANDARD_PARALLEL = "N/A"
  WESTERNMOST_LONGITUDE = 220.729
END_OBJECT = IMAGE_MAP_PROJECTION
/* The JPEG2000 image data file associated with this label. */
OBJECT = COMPRESSED_FILE
  FILE_NAME = "H3657_0000_P13.JP2"
  RECORD_TYPE = UNDEFINED
  FILE_RECORDS = UNK
  ENCODING_TYPE = "JP2"
  INTERCHANGE_FORMAT = BINARY
  UNCOMPRESSED_FILE_NAME = "H3657_0000_P13.IMG"
  REQUIRED_STORAGE_BYTES = "41314320"
  ^DESCRIPTION = "JP2INFO.TXT"
END_OBJECT = COMPRESSED_FILE
END
