PDS_VERSION_ID = PDS3
/* FILE DATA ELEMENTS */
RECORD_TYPE = STREAM
/* POINTERS TO DATA OBJECTS */
^COMPRESSED_FILE = "H3657_0000_P23.JP2"
/* IDENTIFICATION DATA ELEMENTS */
DATA_SET_ID = "MEX-M-HRSC-5-REFDR-MAPPROJECTED-V3.0"
DATA_SET_NAME = "MARS EXPRESS HRSC MAP PROJECTED REFDR V3.0"
DETECTOR_ID = MEX_HRSC_P2
EVENT_TYPE = "MARS-REGIONAL-MAPPING-Im-Pf-Eo"
INSTRUMENT_HOST_ID = MEX
INSTRUMENT_HOST_NAME = "MARS EXPRESS"
INSTRUMENT_ID = HRSC
INSTRUMENT_NAME = "HIGH RESOLUTION STEREO CAMERA"
MISSION_NAME = "MARS EXPRESS"
MISSION_PHASE_NAME = ME_Phase_5
PROCESSING_LEVEL_ID = 3
PRODUCT_CREATION_TIME = 2016-04-18T18:17:36.000Z
PRODUCT_ID = "H3657_0000_P23.JP2"
RELEASE_ID = 0043
REVISION_ID = 0000
/* QUALITY DATA ELEMENTS */
DATA_QUALITY_ID = 1
DATA_QUALITY_DESC = "Data calculated based on original SPICE kernels"
/* TIME DATA ELEMENTS */
SPACECRAFT_CLOCK_START_COUNT = "1/0111432342.09031"
SPACECRAFT_CLOCK_STOP_COUNT = "1/0111432618.35940"
START_TIME = 2006-11-12T17:26:01.145Z
STOP_TIME = 2006-11-12T17:28:31.925Z
/* ORBITAL DATA ELEMENTS */
ASCENDING_NODE_LONGITUDE = 151.63
MAXIMUM_RESOLUTION = 69.1
FOOTPRINT_POINT_LATITUDE = (54.6416,54.6626,54.6867,54.7043, 54.7204,54.7385,54.7584,54.7687,54.7775 ,54.7849,54.7908,54.6466,54.3509, 54.1251,53.8239,53.5984,53.3707,53.0645 ,52.8349,52.5264,52.2928,51.9821, 51.7461,51.588,51.4302,51.2727,51.1138, 50.9532,50.7128,50.5524,50.3092,50.1463 ,49.9834,49.8209,49.656,49.4904,49.325, 49.16,48.9929,48.8252,48.6574,48.4901, 48.3202,48.0652,47.8952,47.6371,47.4647 ,47.2925,47.0312,46.8565,46.6459, 46.6464,46.6441,46.6404,46.6357,46.6313 ,46.623,46.6082,46.5886,46.579,46.5645, 46.5484,46.6092,46.7823,46.9557,47.1289 ,47.3852,47.5561,47.7269,47.9799, 48.1488,48.401,48.5671,48.8168,48.9832, 49.1467,49.3105,49.4747,49.639,49.8004, 49.962,50.1238,50.3656,50.5247,50.6838, 50.8431,51.0813,51.238,51.3948,51.5517, 51.7867,52.095,52.5581,52.8615,53.1659, 53.6165,53.9152,54.1405,54.5079, 54.6416)
FOOTPRINT_POINT_LONGITUDE = (222.105,222.49,222.971,223.357,223.743 ,224.226,224.853,225.24,225.627,226.015 ,226.404,226.73,226.756,226.775,226.801 ,226.819,226.838,226.862,226.88,226.904 ,226.921,226.944,226.961,226.972, 226.983,226.994,227.004,227.015,227.031 ,227.041,227.057,227.067,227.077, 227.087,227.097,227.107,227.117,227.126 ,227.136,227.145,227.155,227.164, 227.173,227.186,227.195,227.208,227.217 ,227.225,227.238,227.246,227.055,226.65 ,226.094,225.69,225.337,225.085,224.682 ,224.127,223.522,223.27,222.918,222.565 ,222.04,222.036,222.033,222.029,222.023 ,222.019,222.014,222.007,222.002, 221.994,221.989,221.98,221.974,221.968, 221.961,221.955,221.948,221.941,221.934 ,221.926,221.915,221.907,221.899,221.89 ,221.877,221.869,221.86,221.85,221.836, 221.816,221.785,221.764,221.741,221.706 ,221.681,221.662,221.629,222.105)
ORBIT_NUMBER = 3657
ORBITAL_ECCENTRICITY = 0.564
ORBITAL_INCLINATION = 86.69
ORBITAL_SEMIMAJOR_AXIS = 8537.99
PERIAPSIS_ALTITUDE = 345.39
PERIAPSIS_ARGUMENT_ANGLE = 74.59
PERIAPSIS_TIME = 2006-11-12T17:12:52.000Z
SPACECRAFT_ORIENTATION = (0.0,1.0,0.0)
^MEX_ORIENTATION_DESC = "MEX_ORIENTATION_DESC.TXT"
SPACECRAFT_POINTING_MODE = NADIR
^MEX_POINTING_DESC = "MEX_POINTING_DESC.TXT"
RIGHT_ASCENSION = -1e+32
DECLINATION = -1e+32
OFFSET_ANGLE = -1e+32
SPACECRAFT_SOLAR_DISTANCE = 2.35834e+08
TARGET_NAME = MARS
/* CAMERA DATA ELEMENTS */
DETECTOR_TEMPERATURE = 18.5744
FOCAL_PLANE_TEMPERATURE = 7.7677
INST_CMPRS_NAME = "DISCRETE COSINE TRANSFORMATION (DCT)"
INST_CMPRS_RATIO = 7.10989
INST_CMPRS_QUALITY = 0
INST_CMPRS_QUANTZ_TBL_ID = 0
INSTRUMENT_TEMPERATURE = 11.0301
LENS_TEMPERATURE = 7.9716
MACROPIXEL_SIZE = 2
MISSING_FRAMES = 0
PIXEL_SUBSAMPLING_FLAG = N
SIGNAL_CHAIN_ID = 3
/* RADIOMETRIC DATA ELEMENTS */
BANDWIDTH = 177.0
CENTER_FILTER_WAVELENGTH = 676.5
RADIANCE_OFFSET = 6.37337
RADIANCE_SCALING_FACTOR = 0.0117373
REFLECTANCE_SCALING_FACTOR = 0.000346127
MEX:REFLECTANCE_OFFSET = 0.187947
/* IMAGE OBJECT DEFINITIONS */
OBJECT = IMAGE
  INTERCHANGE_FORMAT = BINARY
  LINES = 9249
  LINE_SAMPLES = 4464
  SAMPLE_TYPE = UNSIGNED_INTEGER
  SAMPLE_BITS = 8
  BANDS = 1
  BAND_STORAGE_TYPE = BAND_SEQUENTIAL
  MAXIMUM = 247
  MEAN = 109.514
  MINIMUM = 1
  STANDARD_DEVIATION = 31.8492
END_OBJECT = IMAGE
/* MAP OBJECT DEFINITIONS */
OBJECT = IMAGE_MAP_PROJECTION
  ^DATA_SET_MAP_PROJECTION_CATALOG= "DSMAP.CAT"
  A_AXIS_RADIUS = 3396.0
  B_AXIS_RADIUS = 3396.0
  C_AXIS_RADIUS = 3396.0
  CENTER_LATITUDE = 0.0
  CENTER_LONGITUDE = 224.0
  COORDINATE_SYSTEM_NAME = PLANETOGRAPHIC
  COORDINATE_SYSTEM_TYPE = "BODY-FIXED ROTATING"
  EASTERNMOST_LONGITUDE = 227.246
  FIRST_STANDARD_PARALLEL = "N/A"
  LINE_FIRST_PIXEL = 1
  LINE_LAST_PIXEL = 9249
  LINE_PROJECTION_OFFSET = 66935.75
  MAP_PROJECTION_ROTATION = 0.0
  MAP_PROJECTION_TYPE = SINUSOIDAL
  MAP_RESOLUTION = 1185.42760773333
  MAP_SCALE = 0.05
  MAXIMUM_LATITUDE = 54.7908
  MINIMUM_LATITUDE = 46.5484
  POSITIVE_LONGITUDE_DIRECTION = EAST
  REFERENCE_LATITUDE = "N/A"
  REFERENCE_LONGITUDE = "N/A"
  SAMPLE_FIRST_PIXEL = 1
  SAMPLE_LAST_PIXEL = 4464
  SAMPLE_PROJECTION_OFFSET = 1839.25
  SECOND_STANDARD_PARALLEL = "N/A"
  WESTERNMOST_LONGITUDE = 221.629
END_OBJECT = IMAGE_MAP_PROJECTION
/* The JPEG2000 image data file associated with this label. */
OBJECT = COMPRESSED_FILE
  FILE_NAME = "H3657_0000_P23.JP2"
  RECORD_TYPE = UNDEFINED
  FILE_RECORDS = UNK
  ENCODING_TYPE = "JP2"
  INTERCHANGE_FORMAT = BINARY
  UNCOMPRESSED_FILE_NAME = "H3657_0000_P23.IMG"
  REQUIRED_STORAGE_BYTES = "41314320"
  ^DESCRIPTION = "JP2INFO.TXT"
END_OBJECT = COMPRESSED_FILE
END
