PDS_VERSION_ID = PDS3
/* FILE DATA ELEMENTS */
RECORD_TYPE = STREAM
/* POINTERS TO DATA OBJECTS */
^COMPRESSED_FILE = "H3660_0000_S23.JP2"
/* IDENTIFICATION DATA ELEMENTS */
DATA_SET_ID = "MEX-M-HRSC-5-REFDR-MAPPROJECTED-V3.0"
DATA_SET_NAME = "MARS EXPRESS HRSC MAP PROJECTED REFDR V3.0"
DETECTOR_ID = MEX_HRSC_S2
EVENT_TYPE = "MARS-REGIONAL-MAPPING-Gl-Eo-La"
INSTRUMENT_HOST_ID = MEX
INSTRUMENT_HOST_NAME = "MARS EXPRESS"
INSTRUMENT_ID = HRSC
INSTRUMENT_NAME = "HIGH RESOLUTION STEREO CAMERA"
MISSION_NAME = "MARS EXPRESS"
MISSION_PHASE_NAME = ME_Phase_5
PROCESSING_LEVEL_ID = 3
PRODUCT_CREATION_TIME = 2016-04-18T18:17:36.000Z
PRODUCT_ID = "H3660_0000_S23.JP2"
RELEASE_ID = 0043
REVISION_ID = 0000
/* QUALITY DATA ELEMENTS */
DATA_QUALITY_ID = 1
DATA_QUALITY_DESC = "Data calculated based on original SPICE kernels"
/* TIME DATA ELEMENTS */
SPACECRAFT_CLOCK_START_COUNT = "1/0111504264.08252"
SPACECRAFT_CLOCK_STOP_COUNT = "1/0111504557.62986"
START_TIME = 2006-11-13T13:24:28.627Z
STOP_TIME = 2006-11-13T13:27:48.126Z
/* ORBITAL DATA ELEMENTS */
ASCENDING_NODE_LONGITUDE = 151.56
MAXIMUM_RESOLUTION = 31.1
FOOTPRINT_POINT_LATITUDE = (83.2061,83.3543,83.4532,83.6174, 83.7058,83.8108,84.1623,84.3539,84.5471 ,84.7374,84.9282,85.1438,85.3635,85.678 ,85.8845,86.1744,86.3608,86.6191, 86.8522,87.0466,87.1555,87.2791,87.3325 ,87.3613,87.364,87.341,87.2927,87.1761, 87.0716,86.9483,86.7326,86.5713,86.3076 ,86.1199,85.919,85.6043,85.3868,85.163, 84.9352,84.6986,84.4582,84.0924,83.7159 ,83.4601,83.2013,82.8099,82.5415, 82.2719,82.0005,81.8071,81.6941,81.5742 ,81.484,81.3336,81.2341,81.6185,81.8717 ,82.1204,82.3616,82.7167,82.9528, 83.1807,83.401,83.7231,83.9323,84.1338, 84.3263,84.5131,84.6931,84.8679,85.0312 ,85.2526,85.3873,85.5124,85.625,85.7238 ,85.8083,85.9071,85.9532,85.9904, 85.9945,85.9684,85.9295,85.8414,85.7633 ,85.6707,85.5662,85.4468,85.3154, 85.1019,84.8654,84.6975,84.5221,84.34, 84.1523,83.9075,83.74,83.5698,83.3968, 83.2061)
FOOTPRINT_POINT_LONGITUDE = (152.039,150.131,148.755,146.252, 144.766,142.848,143.982,144.974,146.043 ,147.189,148.428,150.002,151.758, 154.692,156.918,160.649,163.489,168.294 ,173.885,180.215,184.918,192.576, 198.015,203.641,209.309,214.957,220.43, 228.193,232.971,237.386,243.327,246.851 ,251.531,254.282,256.831,260.203, 262.193,264.018,265.665,267.203,268.61, 270.501,272.194,273.214,274.165,275.462 ,276.268,277.012,277.709,277.166, 274.974,272.946,271.637,269.525,268.243 ,266.92,265.967,264.958,263.904,262.193 ,260.946,259.631,258.249,255.994, 254.355,252.614,250.785,248.824,246.724 ,244.459,242.061,238.269,235.549, 232.651,229.595,226.398,223.064,217.828 ,214.21,208.69,204.95,199.373,195.759, 190.425,187.025,183.755,180.772,177.745 ,174.887,171.046,167.474,165.281, 163.223,161.297,159.502,157.397,156.084 ,154.845,153.674,152.039)
ORBIT_NUMBER = 3660
ORBITAL_ECCENTRICITY = 0.564
ORBITAL_INCLINATION = 86.67
ORBITAL_SEMIMAJOR_AXIS = 8538.12
PERIAPSIS_ALTITUDE = 346.09
PERIAPSIS_ARGUMENT_ANGLE = 74.07
PERIAPSIS_TIME = 2006-11-13T13:22:20.000Z
SPACECRAFT_ORIENTATION = (0.0,1.0,0.0)
^MEX_ORIENTATION_DESC = "MEX_ORIENTATION_DESC.TXT"
SPACECRAFT_POINTING_MODE = NADIR
^MEX_POINTING_DESC = "MEX_POINTING_DESC.TXT"
RIGHT_ASCENSION = -1e+32
DECLINATION = -1e+32
OFFSET_ANGLE = -1e+32
SPACECRAFT_SOLAR_DISTANCE = 2.35687e+08
TARGET_NAME = MARS
/* CAMERA DATA ELEMENTS */
DETECTOR_TEMPERATURE = 18.1666
FOCAL_PLANE_TEMPERATURE = 7.3599
INST_CMPRS_NAME = "DISCRETE COSINE TRANSFORMATION (DCT)"
INST_CMPRS_RATIO = 12.6971
INST_CMPRS_QUALITY = 0
INST_CMPRS_QUANTZ_TBL_ID = 0
INSTRUMENT_TEMPERATURE = 11.0301
LENS_TEMPERATURE = 7.9716
MACROPIXEL_SIZE = 2
MISSING_FRAMES = 0
PIXEL_SUBSAMPLING_FLAG = N
SIGNAL_CHAIN_ID = 1
/* RADIOMETRIC DATA ELEMENTS */
BANDWIDTH = 178.0
CENTER_FILTER_WAVELENGTH = 679.0
RADIANCE_OFFSET = 1.09424
RADIANCE_SCALING_FACTOR = 0.0261986
REFLECTANCE_SCALING_FACTOR = 0.00077069
MEX:REFLECTANCE_OFFSET = 0.0321896
/* IMAGE OBJECT DEFINITIONS */
OBJECT = IMAGE
  INTERCHANGE_FORMAT = BINARY
  LINES = 16843
  LINE_SAMPLES = 29426
  SAMPLE_TYPE = UNSIGNED_INTEGER
  SAMPLE_BITS = 8
  BANDS = 1
  BAND_STORAGE_TYPE = BAND_SEQUENTIAL
  MAXIMUM = 255
  MEAN = 151.643
  MINIMUM = 1
  STANDARD_DEVIATION = 54.8382
END_OBJECT = IMAGE
/* MAP OBJECT DEFINITIONS */
OBJECT = IMAGE_MAP_PROJECTION
  ^DATA_SET_MAP_PROJECTION_CATALOG= "DSMAP.CAT"
  A_AXIS_RADIUS = 3396.0
  B_AXIS_RADIUS = 3396.0
  C_AXIS_RADIUS = 3396.0
  CENTER_LATITUDE = 90.0
  CENTER_LONGITUDE = 0.0
  COORDINATE_SYSTEM_NAME = PLANETOGRAPHIC
  COORDINATE_SYSTEM_TYPE = "BODY-FIXED ROTATING"
  EASTERNMOST_LONGITUDE = 277.709
  FIRST_STANDARD_PARALLEL = "N/A"
  LINE_FIRST_PIXEL = 1
  LINE_LAST_PIXEL = 16843
  LINE_PROJECTION_OFFSET = 14116.75
  MAP_PROJECTION_ROTATION = 0.0
  MAP_PROJECTION_TYPE = STEREOGRAPHIC
  MAP_RESOLUTION = 2370.85521546667
  MAP_SCALE = 0.025
  MAXIMUM_LATITUDE = 87.364
  MINIMUM_LATITUDE = 81.2341
  POSITIVE_LONGITUDE_DIRECTION = EAST
  REFERENCE_LATITUDE = "N/A"
  REFERENCE_LONGITUDE = "N/A"
  SAMPLE_FIRST_PIXEL = 1
  SAMPLE_LAST_PIXEL = 29426
  SAMPLE_PROJECTION_OFFSET = 20869.25
  SECOND_STANDARD_PARALLEL = "N/A"
  WESTERNMOST_LONGITUDE = 142.848
END_OBJECT = IMAGE_MAP_PROJECTION
/* The JPEG2000 image data file associated with this label. */
OBJECT = COMPRESSED_FILE
  FILE_NAME = "H3660_0000_S23.JP2"
  RECORD_TYPE = UNDEFINED
  FILE_RECORDS = UNK
  ENCODING_TYPE = "JP2"
  INTERCHANGE_FORMAT = BINARY
  UNCOMPRESSED_FILE_NAME = "H3660_0000_S23.IMG"
  REQUIRED_STORAGE_BYTES = "495710396"
  ^DESCRIPTION = "JP2INFO.TXT"
END_OBJECT = COMPRESSED_FILE
END
