PDS_VERSION_ID = PDS3
/* FILE DATA ELEMENTS */
RECORD_TYPE = STREAM
/* POINTERS TO DATA OBJECTS */
^COMPRESSED_FILE = "H3681_0000_BL3.JP2"
/* IDENTIFICATION DATA ELEMENTS */
DATA_SET_ID = "MEX-M-HRSC-5-REFDR-MAPPROJECTED-V3.0"
DATA_SET_NAME = "MARS EXPRESS HRSC MAP PROJECTED REFDR V3.0"
DETECTOR_ID = MEX_HRSC_BLUE
EVENT_TYPE = "MARS-REGIONAL-MAPPING-Gl-Eo-La"
INSTRUMENT_HOST_ID = MEX
INSTRUMENT_HOST_NAME = "MARS EXPRESS"
INSTRUMENT_ID = HRSC
INSTRUMENT_NAME = "HIGH RESOLUTION STEREO CAMERA"
MISSION_NAME = "MARS EXPRESS"
MISSION_PHASE_NAME = ME_Phase_6
PROCESSING_LEVEL_ID = 3
PRODUCT_CREATION_TIME = 2016-04-18T18:17:36.000Z
PRODUCT_ID = "H3681_0000_BL3.JP2"
RELEASE_ID = 0043
REVISION_ID = 0000
/* QUALITY DATA ELEMENTS */
DATA_QUALITY_ID = 1
DATA_QUALITY_DESC = "Data calculated based on original SPICE kernels"
/* TIME DATA ELEMENTS */
SPACECRAFT_CLOCK_START_COUNT = "1/0112012312.08245"
SPACECRAFT_CLOCK_STOP_COUNT = "1/0112012658.28106"
START_TIME = 2006-11-19T10:32:27.131Z
STOP_TIME = 2006-11-19T10:36:28.345Z
/* ORBITAL DATA ELEMENTS */
ASCENDING_NODE_LONGITUDE = 151.12
MAXIMUM_RESOLUTION = 64.9
FOOTPRINT_POINT_LATITUDE = (83.9448,84.302,84.6392,84.9445,85.1054 ,85.3295,85.4652,85.5889,85.7513, 85.8429,85.9185,85.9765,86.0173,86.0445 ,86.0384,86.0129,85.9687,85.9045, 85.8216,85.7222,85.6074,85.4759,85.3289 ,85.1695,84.9979,84.8129,84.5184, 84.3119,84.094,83.8688,83.6378,83.2758, 83.0274,82.6449,82.3817,82.1156,81.8431 ,81.5659,81.2867,81.0,80.566,80.1211, 79.822,79.3634,79.056,78.7415,78.4266, 78.1067,77.7847,77.5276,77.3626,77.2555 ,77.1188,77.0356,77.3432,77.6482, 77.9478,78.2459,78.6829,78.9715,79.2533 ,79.5281,79.8042,80.0732,80.3386, 80.5958,80.8502,81.0988,81.3401,81.5771 ,81.9194,82.1394,82.4566,82.6578, 82.8519,83.0382,83.2133,83.3797,83.6112 ,83.7498,83.8792,83.9977,84.1042, 84.1987,84.2834,84.3518,84.4055,84.4484 ,84.4745,84.4868,84.4785,84.4572, 84.4223,84.3736,84.3132,84.242,84.115, 83.9078,83.7253,83.9448)
FOOTPRINT_POINT_LONGITUDE = (272.289,270.027,267.55,265.307,267.736 ,271.676,274.513,277.517,282.364, 285.845,289.464,293.209,297.036,302.987 ,306.992,310.963,314.86,318.72,322.467, 326.047,329.446,332.705,335.794,338.683 ,341.377,343.932,347.436,349.562, 351.571,353.437,355.167,357.565,359.029 ,361.046,362.293,363.453,364.548, 365.578,366.54,367.457,368.726,369.898, 370.622,371.645,372.279,372.887,373.461 ,374.011,374.533,373.622,371.497, 370.246,368.77,366.131,365.5,364.839, 364.152,363.428,362.295,361.49,360.653, 359.742,358.832,357.86,356.83,355.759, 354.628,353.435,352.189,350.868,348.768 ,347.274,344.878,343.194,341.411, 339.531,337.588,335.539,332.269,330.004 ,327.637,325.169,322.625,320.031, 317.355,314.601,311.801,308.999,306.161 ,303.301,299.026,296.241,293.483, 290.767,288.096,285.512,281.817,277.159 ,273.898,272.289)
ORBIT_NUMBER = 3681
ORBITAL_ECCENTRICITY = 0.564
ORBITAL_INCLINATION = 86.67
ORBITAL_SEMIMAJOR_AXIS = 8540.01
PERIAPSIS_ALTITUDE = 345.57
PERIAPSIS_ARGUMENT_ANGLE = 70.33
PERIAPSIS_TIME = 2006-11-19T10:28:17.000Z
SPACECRAFT_ORIENTATION = (0.0,1.0,0.0)
^MEX_ORIENTATION_DESC = "MEX_ORIENTATION_DESC.TXT"
SPACECRAFT_POINTING_MODE = ACROSSTRACK
^MEX_POINTING_DESC = "MEX_POINTING_DESC.TXT"
RIGHT_ASCENSION = -1e+32
DECLINATION = -1e+32
OFFSET_ANGLE = -1.3
SPACECRAFT_SOLAR_DISTANCE = 2.34643e+08
TARGET_NAME = MARS
/* CAMERA DATA ELEMENTS */
DETECTOR_TEMPERATURE = 18.1666
FOCAL_PLANE_TEMPERATURE = 7.7677
INST_CMPRS_NAME = "DISCRETE COSINE TRANSFORMATION (DCT)"
INST_CMPRS_RATIO = 27.1713
INST_CMPRS_QUALITY = 0
INST_CMPRS_QUANTZ_TBL_ID = 0
INSTRUMENT_TEMPERATURE = 11.234
LENS_TEMPERATURE = 7.9716
MACROPIXEL_SIZE = 4
MISSING_FRAMES = 0
PIXEL_SUBSAMPLING_FLAG = N
SIGNAL_CHAIN_ID = 2
/* RADIOMETRIC DATA ELEMENTS */
BANDWIDTH = 76.0
CENTER_FILTER_WAVELENGTH = 444.0
RADIANCE_OFFSET = 0.272723
RADIANCE_SCALING_FACTOR = 0.00930467
REFLECTANCE_SCALING_FACTOR = 0.000526347
MEX:REFLECTANCE_OFFSET = 0.0154274
/* IMAGE OBJECT DEFINITIONS */
OBJECT = IMAGE
  INTERCHANGE_FORMAT = BINARY
  LINES = 10854
  LINE_SAMPLES = 17157
  SAMPLE_TYPE = UNSIGNED_INTEGER
  SAMPLE_BITS = 8
  BANDS = 1
  BAND_STORAGE_TYPE = BAND_SEQUENTIAL
  MAXIMUM = 255
  MEAN = 98.7133
  MINIMUM = 1
  STANDARD_DEVIATION = 60.0668
END_OBJECT = IMAGE
/* MAP OBJECT DEFINITIONS */
OBJECT = IMAGE_MAP_PROJECTION
  ^DATA_SET_MAP_PROJECTION_CATALOG= "DSMAP.CAT"
  A_AXIS_RADIUS = 3396.0
  B_AXIS_RADIUS = 3396.0
  C_AXIS_RADIUS = 3396.0
  CENTER_LATITUDE = 0.0
  CENTER_LONGITUDE = 342.0
  COORDINATE_SYSTEM_NAME = PLANETOGRAPHIC
  COORDINATE_SYSTEM_TYPE = "BODY-FIXED ROTATING"
  EASTERNMOST_LONGITUDE = 14.533
  FIRST_STANDARD_PARALLEL = "N/A"
  LINE_FIRST_PIXEL = 1
  LINE_LAST_PIXEL = 10854
  LINE_PROJECTION_OFFSET = 102057.125
  MAP_PROJECTION_ROTATION = 0.0
  MAP_PROJECTION_TYPE = SINUSOIDAL
  MAP_RESOLUTION = 1185.42760773333
  MAP_SCALE = 0.05
  MAXIMUM_LATITUDE = 86.0445
  MINIMUM_LATITUDE = 77.0356
  POSITIVE_LONGITUDE_DIRECTION = EAST
  REFERENCE_LATITUDE = "N/A"
  REFERENCE_LONGITUDE = "N/A"
  SAMPLE_FIRST_PIXEL = 1
  SAMPLE_LAST_PIXEL = 17157
  SAMPLE_PROJECTION_OFFSET = 8772.375
  SECOND_STANDARD_PARALLEL = "N/A"
  WESTERNMOST_LONGITUDE = -94.693
END_OBJECT = IMAGE_MAP_PROJECTION
/* The JPEG2000 image data file associated with this label. */
OBJECT = COMPRESSED_FILE
  FILE_NAME = "H3681_0000_BL3.JP2"
  RECORD_TYPE = UNDEFINED
  FILE_RECORDS = UNK
  ENCODING_TYPE = "JP2"
  INTERCHANGE_FORMAT = BINARY
  UNCOMPRESSED_FILE_NAME = "H3681_0000_BL3.IMG"
  REQUIRED_STORAGE_BYTES = "186273549"
  ^DESCRIPTION = "JP2INFO.TXT"
END_OBJECT = COMPRESSED_FILE
END
