PDS_VERSION_ID = PDS3
/* FILE DATA ELEMENTS */
RECORD_TYPE = STREAM
/* POINTERS TO DATA OBJECTS */
^COMPRESSED_FILE = "H3681_0000_S23.JP2"
/* IDENTIFICATION DATA ELEMENTS */
DATA_SET_ID = "MEX-M-HRSC-5-REFDR-MAPPROJECTED-V3.0"
DATA_SET_NAME = "MARS EXPRESS HRSC MAP PROJECTED REFDR V3.0"
DETECTOR_ID = MEX_HRSC_S2
EVENT_TYPE = "MARS-REGIONAL-MAPPING-Gl-Eo-La"
INSTRUMENT_HOST_ID = MEX
INSTRUMENT_HOST_NAME = "MARS EXPRESS"
INSTRUMENT_ID = HRSC
INSTRUMENT_NAME = "HIGH RESOLUTION STEREO CAMERA"
MISSION_NAME = "MARS EXPRESS"
MISSION_PHASE_NAME = ME_Phase_6
PROCESSING_LEVEL_ID = 3
PRODUCT_CREATION_TIME = 2016-04-18T18:17:36.000Z
PRODUCT_ID = "H3681_0000_S23.JP2"
RELEASE_ID = 0043
REVISION_ID = 0000
/* QUALITY DATA ELEMENTS */
DATA_QUALITY_ID = 1
DATA_QUALITY_DESC = "Data calculated based on original SPICE kernels"
/* TIME DATA ELEMENTS */
SPACECRAFT_CLOCK_START_COUNT = "1/0112012312.08245"
SPACECRAFT_CLOCK_STOP_COUNT = "1/0112012658.28106"
START_TIME = 2006-11-19T10:31:56.634Z
STOP_TIME = 2006-11-19T10:35:45.285Z
/* ORBITAL DATA ELEMENTS */
ASCENDING_NODE_LONGITUDE = 151.12
MAXIMUM_RESOLUTION = 33.5
FOOTPRINT_POINT_LATITUDE = (83.8035,84.2298,84.5543,84.856,84.9975 ,85.1556,85.3028,85.4399,85.5652, 85.7284,85.8194,85.8958,85.9563,85.9991 ,86.0233,86.0289,86.0013,85.9587, 85.8964,85.7688,85.6652,85.5423,85.3308 ,85.1735,84.907,84.6246,84.4243,84.2158 ,83.8824,83.6522,83.4159,83.1709, 82.7949,82.5359,82.1365,81.8655,81.5915 ,81.309,81.0241,80.7365,80.2939,79.9959 ,79.6916,79.3849,79.0768,78.7598, 78.4435,77.9628,77.6379,77.5344,77.4234 ,77.2667,77.1629,77.0193,76.8267,77.139 ,77.4463,77.7484,78.1978,78.4897, 78.7829,79.2131,79.6302,79.903,80.1698, 80.4333,80.6907,80.9423,81.1892,81.4305 ,81.7781,82.0035,82.2219,82.4304, 82.6337,82.8295,83.0162,83.1927,83.4404 ,83.6668,83.8013,83.9269,84.0417, 84.1454,84.2371,84.3533,84.4341,84.473, 84.4946,84.5028,84.4969,84.4781,84.4247 ,84.3734,84.3113,84.1953,84.104,84.0019 ,83.8898,83.8035)
FOOTPRINT_POINT_LONGITUDE = (272.566,269.446,266.652,263.622, 266.281,268.793,271.43,274.261,277.266, 282.067,285.454,289.011,292.789,296.627 ,300.536,304.47,310.406,314.352,318.216 ,323.768,327.225,330.602,335.307,338.2, 342.282,345.904,348.114,350.17,353.045, 354.791,356.413,357.945,360.048,361.339 ,363.137,364.239,365.269,366.253, 367.174,368.038,369.256,370.009,370.726 ,371.406,372.046,372.662,373.243, 374.063,374.578,373.43,372.201,370.602, 369.618,368.342,366.754,366.141,365.499 ,364.832,363.768,363.023,362.24,361.0, 359.66,358.718,357.729,356.682,355.588, 354.442,353.229,351.952,349.93,348.482, 346.959,345.375,343.7,341.93,340.081, 338.157,335.082,331.788,329.512,327.129 ,324.647,322.067,319.444,315.349, 311.147,308.263,305.448,302.613,299.784 ,296.955,292.771,290.115,287.487, 283.678,281.227,278.865,276.58,272.566)
ORBIT_NUMBER = 3681
ORBITAL_ECCENTRICITY = 0.564
ORBITAL_INCLINATION = 86.67
ORBITAL_SEMIMAJOR_AXIS = 8540.01
PERIAPSIS_ALTITUDE = 345.57
PERIAPSIS_ARGUMENT_ANGLE = 70.33
PERIAPSIS_TIME = 2006-11-19T10:28:17.000Z
SPACECRAFT_ORIENTATION = (0.0,1.0,0.0)
^MEX_ORIENTATION_DESC = "MEX_ORIENTATION_DESC.TXT"
SPACECRAFT_POINTING_MODE = ACROSSTRACK
^MEX_POINTING_DESC = "MEX_POINTING_DESC.TXT"
RIGHT_ASCENSION = -1e+32
DECLINATION = -1e+32
OFFSET_ANGLE = -1.3
SPACECRAFT_SOLAR_DISTANCE = 2.34643e+08
TARGET_NAME = MARS
/* CAMERA DATA ELEMENTS */
DETECTOR_TEMPERATURE = 18.1666
FOCAL_PLANE_TEMPERATURE = 7.7677
INST_CMPRS_NAME = "DISCRETE COSINE TRANSFORMATION (DCT)"
INST_CMPRS_RATIO = 12.5766
INST_CMPRS_QUALITY = 0
INST_CMPRS_QUANTZ_TBL_ID = 0
INSTRUMENT_TEMPERATURE = 11.234
LENS_TEMPERATURE = 7.9716
MACROPIXEL_SIZE = 2
MISSING_FRAMES = 0
PIXEL_SUBSAMPLING_FLAG = N
SIGNAL_CHAIN_ID = 1
/* RADIOMETRIC DATA ELEMENTS */
BANDWIDTH = 178.0
CENTER_FILTER_WAVELENGTH = 679.0
RADIANCE_OFFSET = 1.64663
RADIANCE_SCALING_FACTOR = 0.0286783
REFLECTANCE_SCALING_FACTOR = 0.000836179
MEX:REFLECTANCE_OFFSET = 0.0480111
/* IMAGE OBJECT DEFINITIONS */
OBJECT = IMAGE
  INTERCHANGE_FORMAT = BINARY
  LINES = 21707
  LINE_SAMPLES = 34313
  SAMPLE_TYPE = UNSIGNED_INTEGER
  SAMPLE_BITS = 8
  BANDS = 1
  BAND_STORAGE_TYPE = BAND_SEQUENTIAL
  MAXIMUM = 255
  MEAN = 118.52
  MINIMUM = 1
  STANDARD_DEVIATION = 50.0103
END_OBJECT = IMAGE
/* MAP OBJECT DEFINITIONS */
OBJECT = IMAGE_MAP_PROJECTION
  ^DATA_SET_MAP_PROJECTION_CATALOG= "DSMAP.CAT"
  A_AXIS_RADIUS = 3396.0
  B_AXIS_RADIUS = 3396.0
  C_AXIS_RADIUS = 3396.0
  CENTER_LATITUDE = 0.0
  CENTER_LONGITUDE = 342.0
  COORDINATE_SYSTEM_NAME = PLANETOGRAPHIC
  COORDINATE_SYSTEM_TYPE = "BODY-FIXED ROTATING"
  EASTERNMOST_LONGITUDE = 14.578
  FIRST_STANDARD_PARALLEL = "N/A"
  LINE_FIRST_PIXEL = 1
  LINE_LAST_PIXEL = 21707
  LINE_PROJECTION_OFFSET = 204114.75
  MAP_PROJECTION_ROTATION = 0.0
  MAP_PROJECTION_TYPE = SINUSOIDAL
  MAP_RESOLUTION = 2370.85521546667
  MAP_SCALE = 0.025
  MAXIMUM_LATITUDE = 86.02889999999999
  MINIMUM_LATITUDE = 76.8267
  POSITIVE_LONGITUDE_DIRECTION = EAST
  REFERENCE_LATITUDE = "N/A"
  REFERENCE_LONGITUDE = "N/A"
  SAMPLE_FIRST_PIXEL = 1
  SAMPLE_LAST_PIXEL = 34313
  SAMPLE_PROJECTION_OFFSET = 17545.25
  SECOND_STANDARD_PARALLEL = "N/A"
  WESTERNMOST_LONGITUDE = -96.378
END_OBJECT = IMAGE_MAP_PROJECTION
/* The JPEG2000 image data file associated with this label. */
OBJECT = COMPRESSED_FILE
  FILE_NAME = "H3681_0000_S23.JP2"
  RECORD_TYPE = UNDEFINED
  FILE_RECORDS = UNK
  ENCODING_TYPE = "JP2"
  INTERCHANGE_FORMAT = BINARY
  UNCOMPRESSED_FILE_NAME = "H3681_0000_S23.IMG"
  REQUIRED_STORAGE_BYTES = "744935230"
  ^DESCRIPTION = "JP2INFO.TXT"
END_OBJECT = COMPRESSED_FILE
END
