PDS_VERSION_ID = PDS3
/* FILE DATA ELEMENTS */
RECORD_TYPE = STREAM
/* POINTERS TO DATA OBJECTS */
^COMPRESSED_FILE = "H3685_0000_P13.JP2"
/* IDENTIFICATION DATA ELEMENTS */
DATA_SET_ID = "MEX-M-HRSC-5-REFDR-MAPPROJECTED-V3.0"
DATA_SET_NAME = "MARS EXPRESS HRSC MAP PROJECTED REFDR V3.0"
DETECTOR_ID = MEX_HRSC_P1
EVENT_TYPE = "MARS-REGIONAL-MAPPING-Gl-Eo-La"
INSTRUMENT_HOST_ID = MEX
INSTRUMENT_HOST_NAME = "MARS EXPRESS"
INSTRUMENT_ID = HRSC
INSTRUMENT_NAME = "HIGH RESOLUTION STEREO CAMERA"
MISSION_NAME = "MARS EXPRESS"
MISSION_PHASE_NAME = ME_Phase_6
PROCESSING_LEVEL_ID = 3
PRODUCT_CREATION_TIME = 2016-04-18T18:17:36.000Z
PRODUCT_ID = "H3685_0000_P13.JP2"
RELEASE_ID = 0043
REVISION_ID = 0000
/* QUALITY DATA ELEMENTS */
DATA_QUALITY_ID = 1
DATA_QUALITY_DESC = "Data calculated based on original SPICE kernels"
/* TIME DATA ELEMENTS */
SPACECRAFT_CLOCK_START_COUNT = "1/0112109169.07286"
SPACECRAFT_CLOCK_STOP_COUNT = "1/0112109447.02535"
START_TIME = 2006-11-20T13:27:24.996Z
STOP_TIME = 2006-11-20T13:30:25.219Z
/* ORBITAL DATA ELEMENTS */
ASCENDING_NODE_LONGITUDE = 151.04
MAXIMUM_RESOLUTION = 39.2
FOOTPRINT_POINT_LATITUDE = (85.3342,85.4893,85.8416,86.1193, 86.2937,86.5561,86.2991,86.1609,86.0193 ,85.7292,85.5745,85.418,85.2598,85.1002 ,84.9407,84.7738,84.607,84.4375,84.1772 ,84.0014,83.8222,83.6441,83.3712, 83.1884,83.0052,82.8194,82.6317,82.4436 ,82.2553,82.0632,81.871,81.6787,81.3856 ,81.1893,80.9932,80.7933,80.5932, 80.3936,80.1927,79.9883,79.7875,79.5806 ,79.2694,79.0633,78.8526,78.6432, 78.3248,78.1119,77.8969,77.6808,77.2899 ,77.2451,77.1786,77.0846,77.0225, 76.9674,76.8794,76.7895,77.0009,77.2099 ,77.5227,77.831,78.0361,78.2379,78.4397 ,78.6401,78.838,79.0359,79.3292,79.6196 ,79.9046,80.0936,80.3753,80.5599, 80.7439,80.9271,81.1067,81.2856,81.5518 ,81.7253,81.8981,82.0698,82.2384, 82.4045,82.5696,82.8134,82.9716,83.129, 83.2839,83.4351,83.583,83.7286,83.8715, 84.078,84.2119,84.3431,84.5332,84.7701, 85.0439,85.3342)
FOOTPRINT_POINT_LONGITUDE = (301.671,302.936,306.244,309.392, 311.694,313.723,317.847,319.732,321.481 ,324.611,326.043,327.382,328.63,329.794 ,330.888,331.929,332.904,333.818, 335.097,335.896,336.646,337.354,338.357 ,338.983,339.574,340.14,340.682,341.195 ,341.682,342.155,342.604,343.031, 343.643,344.03,344.399,344.757,345.099, 345.427,345.748,346.052,346.348,346.632 ,347.037,347.3,347.55,347.792,348.143, 348.365,348.582,348.791,348.765,347.636 ,346.145,344.306,343.215,342.313, 340.973,339.706,339.419,339.124,338.663 ,338.181,337.847,337.504,337.148, 336.781,336.403,336.01,335.396,334.751, 334.082,333.612,332.871,332.358,331.823 ,331.264,330.691,330.092,329.146,328.49 ,327.804,327.086,326.342,325.572, 324.762,323.478,322.589,321.642,320.663 ,319.646,318.59,317.486,316.337,314.543 ,313.268,311.924,309.809,306.784, 302.599,301.671)
ORBIT_NUMBER = 3685
ORBITAL_ECCENTRICITY = 0.564
ORBITAL_INCLINATION = 86.68
ORBITAL_SEMIMAJOR_AXIS = 8539.63
PERIAPSIS_ALTITUDE = 345.54
PERIAPSIS_ARGUMENT_ANGLE = 69.61
PERIAPSIS_TIME = 2006-11-20T13:21:00.000Z
SPACECRAFT_ORIENTATION = (0.0,1.0,0.0)
^MEX_ORIENTATION_DESC = "MEX_ORIENTATION_DESC.TXT"
SPACECRAFT_POINTING_MODE = NADIR
^MEX_POINTING_DESC = "MEX_POINTING_DESC.TXT"
RIGHT_ASCENSION = -1e+32
DECLINATION = -1e+32
OFFSET_ANGLE = -1e+32
SPACECRAFT_SOLAR_DISTANCE = 2.34442e+08
TARGET_NAME = MARS
/* CAMERA DATA ELEMENTS */
DETECTOR_TEMPERATURE = 17.1471
FOCAL_PLANE_TEMPERATURE = 7.7677
INST_CMPRS_NAME = "DISCRETE COSINE TRANSFORMATION (DCT)"
INST_CMPRS_RATIO = 13.5776
INST_CMPRS_QUALITY = 0
INST_CMPRS_QUANTZ_TBL_ID = 0
INSTRUMENT_TEMPERATURE = 10.8262
LENS_TEMPERATURE = 8.3794
MACROPIXEL_SIZE = 2
MISSING_FRAMES = 0
PIXEL_SUBSAMPLING_FLAG = N
SIGNAL_CHAIN_ID = 3
/* RADIOMETRIC DATA ELEMENTS */
BANDWIDTH = 174.0
CENTER_FILTER_WAVELENGTH = 675.0
RADIANCE_OFFSET = 1.90675
RADIANCE_SCALING_FACTOR = 0.0216993
REFLECTANCE_SCALING_FACTOR = 0.000641502
MEX:REFLECTANCE_OFFSET = 0.0563698
/* IMAGE OBJECT DEFINITIONS */
OBJECT = IMAGE
  INTERCHANGE_FORMAT = BINARY
  LINES = 23047
  LINE_SAMPLES = 13955
  SAMPLE_TYPE = UNSIGNED_INTEGER
  SAMPLE_BITS = 8
  BANDS = 1
  BAND_STORAGE_TYPE = BAND_SEQUENTIAL
  MAXIMUM = 255
  MEAN = 124.522
  MINIMUM = 1
  STANDARD_DEVIATION = 57.7104
END_OBJECT = IMAGE
/* MAP OBJECT DEFINITIONS */
OBJECT = IMAGE_MAP_PROJECTION
  ^DATA_SET_MAP_PROJECTION_CATALOG= "DSMAP.CAT"
  A_AXIS_RADIUS = 3396.0
  B_AXIS_RADIUS = 3396.0
  C_AXIS_RADIUS = 3396.0
  CENTER_LATITUDE = 0.0
  CENTER_LONGITUDE = 335.0
  COORDINATE_SYSTEM_NAME = PLANETOGRAPHIC
  COORDINATE_SYSTEM_TYPE = "BODY-FIXED ROTATING"
  EASTERNMOST_LONGITUDE = 348.791
  FIRST_STANDARD_PARALLEL = "N/A"
  LINE_FIRST_PIXEL = 1
  LINE_LAST_PIXEL = 23047
  LINE_PROJECTION_OFFSET = 205128.25
  MAP_PROJECTION_ROTATION = 0.0
  MAP_PROJECTION_TYPE = SINUSOIDAL
  MAP_RESOLUTION = 2370.85521546667
  MAP_SCALE = 0.025
  MAXIMUM_LATITUDE = 86.5561
  MINIMUM_LATITUDE = 76.7895
  POSITIVE_LONGITUDE_DIRECTION = EAST
  REFERENCE_LATITUDE = "N/A"
  REFERENCE_LONGITUDE = "N/A"
  SAMPLE_FIRST_PIXEL = 1
  SAMPLE_LAST_PIXEL = 13955
  SAMPLE_PROJECTION_OFFSET = 6839.25
  SECOND_STANDARD_PARALLEL = "N/A"
  WESTERNMOST_LONGITUDE = 301.671
END_OBJECT = IMAGE_MAP_PROJECTION
/* The JPEG2000 image data file associated with this label. */
OBJECT = COMPRESSED_FILE
  FILE_NAME = "H3685_0000_P13.JP2"
  RECORD_TYPE = UNDEFINED
  FILE_RECORDS = UNK
  ENCODING_TYPE = "JP2"
  INTERCHANGE_FORMAT = BINARY
  UNCOMPRESSED_FILE_NAME = "H3685_0000_P13.IMG"
  REQUIRED_STORAGE_BYTES = "321662750"
  ^DESCRIPTION = "JP2INFO.TXT"
END_OBJECT = COMPRESSED_FILE
END
