PDS_VERSION_ID = PDS3
/* FILE DATA ELEMENTS */
RECORD_TYPE = STREAM
/* POINTERS TO DATA OBJECTS */
^COMPRESSED_FILE = "H3692_0000_S13.JP2"
/* IDENTIFICATION DATA ELEMENTS */
DATA_SET_ID = "MEX-M-HRSC-5-REFDR-MAPPROJECTED-V3.0"
DATA_SET_NAME = "MARS EXPRESS HRSC MAP PROJECTED REFDR V3.0"
DETECTOR_ID = MEX_HRSC_S1
EVENT_TYPE = "MARS-LOCAL-STEREO-Gl-Eo-La"
INSTRUMENT_HOST_ID = MEX
INSTRUMENT_HOST_NAME = "MARS EXPRESS"
INSTRUMENT_ID = HRSC
INSTRUMENT_NAME = "HIGH RESOLUTION STEREO CAMERA"
MISSION_NAME = "MARS EXPRESS"
MISSION_PHASE_NAME = ME_Phase_6
PROCESSING_LEVEL_ID = 3
PRODUCT_CREATION_TIME = 2016-04-18T18:17:36.000Z
PRODUCT_ID = "H3692_0000_S13.JP2"
RELEASE_ID = 0043
REVISION_ID = 0000
/* QUALITY DATA ELEMENTS */
DATA_QUALITY_ID = 1
DATA_QUALITY_DESC = "Data calculated based on original SPICE kernels"
/* TIME DATA ELEMENTS */
SPACECRAFT_CLOCK_START_COUNT = "1/0112278558.09093"
SPACECRAFT_CLOCK_STOP_COUNT = "1/0112278787.42008"
START_TIME = 2006-11-22T12:31:02.748Z
STOP_TIME = 2006-11-22T12:33:10.144Z
/* ORBITAL DATA ELEMENTS */
ASCENDING_NODE_LONGITUDE = 150.9
MAXIMUM_RESOLUTION = 21.5
FOOTPRINT_POINT_LATITUDE = (83.0281,83.1776,83.2544,83.3292, 83.4019,83.5152,83.5818,83.646,83.7077, 83.7668,83.8233,83.8835,84.0415,83.8662 ,83.6304,83.3941,83.1535,82.9725, 82.7913,82.4841,82.238,82.1136,81.9884, 81.8632,81.7381,81.6131,81.4859,81.3588 ,81.2319,81.1052,80.9122,80.7832, 80.6543,80.4609,80.2662,80.1356,80.0044 ,79.8071,79.6741,79.4746,79.3403, 79.2059,79.0045,78.8727,78.6709,78.5348 ,78.3289,78.1913,78.0538,77.9154,77.776 ,77.6369,77.5784,77.5272,77.4742, 77.4363,77.3751,77.3313,77.2855,77.2376 ,77.1874,77.1349,77.0775,77.212,77.3466 ,77.5473,77.6798,77.8123,77.9445, 78.0752,78.2061,78.3373,78.5307,78.661, 78.7895,78.9171,79.1083,79.2949,79.4207 ,79.543,79.6673,79.7918,79.9152,80.0986 ,80.2206,80.3424,80.4629,80.5824, 80.7019,80.8212,80.9397,81.1734,81.4641 ,81.6919,81.9186,82.0858,82.309,82.5813 ,82.7913,83.0281)
FOOTPRINT_POINT_LONGITUDE = (356.932,358.821,359.862,360.928, 362.018,363.843,364.996,366.174,367.378 ,368.607,369.861,371.301,371.43,372.07, 372.873,373.616,374.317,374.811,375.279 ,376.019,376.568,376.832,377.089, 377.338,377.579,377.812,378.042,378.265 ,378.482,378.692,378.999,379.197, 379.389,379.669,379.941,380.116,380.284 ,380.535,380.695,380.927,381.079, 381.228,381.443,381.587,381.794,381.926 ,382.12,382.246,382.368,382.489,382.608 ,382.724,381.896,380.521,379.266, 378.436,377.203,376.388,375.578,374.776 ,373.98,373.19,372.359,372.181,372.0, 371.72,371.531,371.337,371.138,370.937, 370.73,370.517,370.195,369.968,369.741, 369.511,369.151,368.793,368.54,368.291, 368.028,367.756,367.48,367.054,366.762, 366.461,366.155,365.843,365.522,365.191 ,364.853,364.156,363.226,362.444, 361.615,360.968,360.044,358.835,357.835 ,356.932)
ORBIT_NUMBER = 3692
ORBITAL_ECCENTRICITY = 0.564
ORBITAL_INCLINATION = 86.66
ORBITAL_SEMIMAJOR_AXIS = 8542.23
PERIAPSIS_ALTITUDE = 345.07
PERIAPSIS_ARGUMENT_ANGLE = 68.38
PERIAPSIS_TIME = 2006-11-22T12:23:01.000Z
SPACECRAFT_ORIENTATION = (0.0,1.0,0.0)
^MEX_ORIENTATION_DESC = "MEX_ORIENTATION_DESC.TXT"
SPACECRAFT_POINTING_MODE = ACROSSTRACK
^MEX_POINTING_DESC = "MEX_POINTING_DESC.TXT"
RIGHT_ASCENSION = -1e+32
DECLINATION = -1e+32
OFFSET_ANGLE = 0.27
SPACECRAFT_SOLAR_DISTANCE = 2.34087e+08
TARGET_NAME = MARS
/* CAMERA DATA ELEMENTS */
DETECTOR_TEMPERATURE = 17.1471
FOCAL_PLANE_TEMPERATURE = 7.7677
INST_CMPRS_NAME = "DISCRETE COSINE TRANSFORMATION (DCT)"
INST_CMPRS_RATIO = 8.05649
INST_CMPRS_QUALITY = 0
INST_CMPRS_QUANTZ_TBL_ID = 0
INSTRUMENT_TEMPERATURE = 11.0301
LENS_TEMPERATURE = 7.3599
MACROPIXEL_SIZE = 1
MISSING_FRAMES = 0
PIXEL_SUBSAMPLING_FLAG = N
SIGNAL_CHAIN_ID = 2
/* RADIOMETRIC DATA ELEMENTS */
BANDWIDTH = 180.0
CENTER_FILTER_WAVELENGTH = 677.0
RADIANCE_OFFSET = 2.51626
RADIANCE_SCALING_FACTOR = 0.0211865
REFLECTANCE_SCALING_FACTOR = 0.000605694
MEX:REFLECTANCE_OFFSET = 0.0719365
/* IMAGE OBJECT DEFINITIONS */
OBJECT = IMAGE
  INTERCHANGE_FORMAT = BINARY
  LINES = 32652
  LINE_SAMPLES = 18647
  SAMPLE_TYPE = UNSIGNED_INTEGER
  SAMPLE_BITS = 8
  BANDS = 1
  BAND_STORAGE_TYPE = BAND_SEQUENTIAL
  MAXIMUM = 254
  MEAN = 163.013
  MINIMUM = 1
  STANDARD_DEVIATION = 47.0571
END_OBJECT = IMAGE
/* MAP OBJECT DEFINITIONS */
OBJECT = IMAGE_MAP_PROJECTION
  ^DATA_SET_MAP_PROJECTION_CATALOG= "DSMAP.CAT"
  A_AXIS_RADIUS = 3396.0
  B_AXIS_RADIUS = 3396.0
  C_AXIS_RADIUS = 3396.0
  CENTER_LATITUDE = 0.0
  CENTER_LONGITUDE = 12.0
  COORDINATE_SYSTEM_NAME = PLANETOGRAPHIC
  COORDINATE_SYSTEM_TYPE = "BODY-FIXED ROTATING"
  EASTERNMOST_LONGITUDE = 22.724
  FIRST_STANDARD_PARALLEL = "N/A"
  LINE_FIRST_PIXEL = 1
  LINE_LAST_PIXEL = 32652
  LINE_PROJECTION_OFFSET = 398286.0
  MAP_PROJECTION_ROTATION = 0.0
  MAP_PROJECTION_TYPE = SINUSOIDAL
  MAP_RESOLUTION = 4741.71043093333
  MAP_SCALE = 0.0125
  MAXIMUM_LATITUDE = 84.0415
  MINIMUM_LATITUDE = 77.0775
  POSITIVE_LONGITUDE_DIRECTION = EAST
  REFERENCE_LATITUDE = "N/A"
  REFERENCE_LONGITUDE = "N/A"
  SAMPLE_FIRST_PIXEL = 1
  SAMPLE_LAST_PIXEL = 18647
  SAMPLE_PROJECTION_OFFSET = 8612.0
  SECOND_STANDARD_PARALLEL = "N/A"
  WESTERNMOST_LONGITUDE = -3.068
END_OBJECT = IMAGE_MAP_PROJECTION
/* The JPEG2000 image data file associated with this label. */
OBJECT = COMPRESSED_FILE
  FILE_NAME = "H3692_0000_S13.JP2"
  RECORD_TYPE = UNDEFINED
  FILE_RECORDS = UNK
  ENCODING_TYPE = "JP2"
  INTERCHANGE_FORMAT = BINARY
  UNCOMPRESSED_FILE_NAME = "H3692_0000_S13.IMG"
  REQUIRED_STORAGE_BYTES = "608917785"
  ^DESCRIPTION = "JP2INFO.TXT"
END_OBJECT = COMPRESSED_FILE
END
