PDS_VERSION_ID = PDS3
/* FILE DATA ELEMENTS */
RECORD_TYPE = STREAM
/* POINTERS TO DATA OBJECTS */
^COMPRESSED_FILE = "H3695_0000_GR3.JP2"
/* IDENTIFICATION DATA ELEMENTS */
DATA_SET_ID = "MEX-M-HRSC-5-REFDR-MAPPROJECTED-V3.0"
DATA_SET_NAME = "MARS EXPRESS HRSC MAP PROJECTED REFDR V3.0"
DETECTOR_ID = MEX_HRSC_GREEN
EVENT_TYPE = "MARS-REGIONAL-MAPPING-Im-Pf-Eo"
INSTRUMENT_HOST_ID = MEX
INSTRUMENT_HOST_NAME = "MARS EXPRESS"
INSTRUMENT_ID = HRSC
INSTRUMENT_NAME = "HIGH RESOLUTION STEREO CAMERA"
MISSION_NAME = "MARS EXPRESS"
MISSION_PHASE_NAME = ME_Phase_6
PROCESSING_LEVEL_ID = 3
PRODUCT_CREATION_TIME = 2016-04-18T18:17:36.000Z
PRODUCT_ID = "H3695_0000_GR3.JP2"
RELEASE_ID = 0043
REVISION_ID = 0000
/* QUALITY DATA ELEMENTS */
DATA_QUALITY_ID = 1
DATA_QUALITY_DESC = "Data calculated based on original SPICE kernels"
/* TIME DATA ELEMENTS */
SPACECRAFT_CLOCK_START_COUNT = "1/0112351167.08424"
SPACECRAFT_CLOCK_STOP_COUNT = "1/0112351544.30303"
START_TIME = 2006-11-23T08:40:30.505Z
STOP_TIME = 2006-11-23T08:44:25.561Z
/* ORBITAL DATA ELEMENTS */
ASCENDING_NODE_LONGITUDE = 150.84
MAXIMUM_RESOLUTION = 43.2
FOOTPRINT_POINT_LATITUDE = (82.3487,82.4345,82.5119,82.5801, 82.6384,82.6862,82.7548,82.2953,81.9493 ,81.7162,81.4832,81.248,81.0118,80.7756 ,80.5366,80.2968,79.9359,79.6928, 79.4502,79.2043,78.8353,78.5863,78.2127 ,77.8345,77.5824,77.3266,77.0714, 76.8136,76.5436,76.1523,75.8911,75.6264 ,75.3621,75.0948,74.8276,74.5572, 74.2871,74.0135,73.6023,73.3263,73.0479 ,72.6279,72.3462,72.0618,71.6331, 71.2005,70.9104,70.6178,70.3239,70.0285 ,69.7301,69.7202,69.7058,69.684,69.6683 ,69.6173,69.5731,69.6989,69.9929, 70.2855,70.5755,71.0074,71.4356,71.8599 ,72.1413,72.4199,72.8353,73.1107, 73.3835,73.79,74.06,74.3267,74.5937, 74.8573,75.1211,75.3817,75.6426,75.8999 ,76.2852,76.5509,76.8046,77.0555, 77.3068,77.678,77.9252,78.2915,78.5352, 78.8961,79.1363,79.3731,79.6101,79.9614 ,80.1943,80.4264,80.6552,80.884,81.1113 ,81.5601,82.0023,82.3487)
FOOTPRINT_POINT_LONGITUDE = (78.1037,80.129,82.2302,84.4027,86.6455 ,88.9579,92.2055,92.5342,92.7659, 92.9051,93.0315,93.1566,93.2806,93.3898 ,93.4956,93.5952,93.7363,93.8257, 93.9107,93.9924,94.1071,94.179,94.2858, 94.3832,94.4445,94.5023,94.5606,94.6165 ,94.6722,94.7484,94.7972,94.844,94.8888 ,94.9334,94.9763,95.0169,95.0567,95.09, 95.1494,95.185,95.2185,95.2691,95.3005, 95.3319,95.3757,95.4173,95.443,95.4705, 95.4958,95.5209,95.5446,94.3764,93.069, 91.8573,91.1834,89.4833,88.3221,87.7558 ,87.6804,87.6023,87.5218,87.3955, 87.2628,87.1232,87.0258,86.9255,86.7684 ,86.659,86.5461,86.3694,86.2458,86.1189 ,85.9866,85.8504,85.7085,85.5625,85.41, 85.2531,85.0056,84.8255,84.6458,84.4604 ,84.2663,83.963,83.7494,83.415,83.1789, 82.8087,82.5469,82.2762,81.992,81.543, 81.2256,80.893,80.5466,80.1815,79.7989, 78.9756,78.0649,78.1037)
ORBIT_NUMBER = 3695
ORBITAL_ECCENTRICITY = 0.564
ORBITAL_INCLINATION = 86.68
ORBITAL_SEMIMAJOR_AXIS = 8542.2
PERIAPSIS_ALTITUDE = 344.0
PERIAPSIS_ARGUMENT_ANGLE = 67.86
PERIAPSIS_TIME = 2006-11-23T08:32:37.000Z
SPACECRAFT_ORIENTATION = (0.0,1.0,0.0)
^MEX_ORIENTATION_DESC = "MEX_ORIENTATION_DESC.TXT"
SPACECRAFT_POINTING_MODE = ACROSSTRACK
^MEX_POINTING_DESC = "MEX_POINTING_DESC.TXT"
RIGHT_ASCENSION = -1e+32
DECLINATION = -1e+32
OFFSET_ANGLE = 1.65
SPACECRAFT_SOLAR_DISTANCE = 2.33935e+08
TARGET_NAME = MARS
/* CAMERA DATA ELEMENTS */
DETECTOR_TEMPERATURE = 17.7588
FOCAL_PLANE_TEMPERATURE = 7.3599
INST_CMPRS_NAME = "DISCRETE COSINE TRANSFORMATION (DCT)"
INST_CMPRS_RATIO = 10.2664
INST_CMPRS_QUALITY = 0
INST_CMPRS_QUANTZ_TBL_ID = 0
INSTRUMENT_TEMPERATURE = 10.8262
LENS_TEMPERATURE = 7.9716
MACROPIXEL_SIZE = 2
MISSING_FRAMES = 2
PIXEL_SUBSAMPLING_FLAG = N
SIGNAL_CHAIN_ID = 2
/* RADIOMETRIC DATA ELEMENTS */
BANDWIDTH = 88.0
CENTER_FILTER_WAVELENGTH = 538.0
RADIANCE_OFFSET = 0.759623
RADIANCE_SCALING_FACTOR = 0.0142608
REFLECTANCE_SCALING_FACTOR = 0.000671921
MEX:REFLECTANCE_OFFSET = 0.035791
/* IMAGE OBJECT DEFINITIONS */
OBJECT = IMAGE
  INTERCHANGE_FORMAT = BINARY
  LINES = 15608
  LINE_SAMPLES = 4255
  SAMPLE_TYPE = UNSIGNED_INTEGER
  SAMPLE_BITS = 8
  BANDS = 1
  BAND_STORAGE_TYPE = BAND_SEQUENTIAL
  MAXIMUM = 255
  MEAN = 57.9902
  MINIMUM = 1
  STANDARD_DEVIATION = 38.3311
END_OBJECT = IMAGE
/* MAP OBJECT DEFINITIONS */
OBJECT = IMAGE_MAP_PROJECTION
  ^DATA_SET_MAP_PROJECTION_CATALOG= "DSMAP.CAT"
  A_AXIS_RADIUS = 3396.0
  B_AXIS_RADIUS = 3396.0
  C_AXIS_RADIUS = 3396.0
  CENTER_LATITUDE = 0.0
  CENTER_LONGITUDE = 90.0
  COORDINATE_SYSTEM_NAME = PLANETOGRAPHIC
  COORDINATE_SYSTEM_TYPE = "BODY-FIXED ROTATING"
  EASTERNMOST_LONGITUDE = 95.5446
  FIRST_STANDARD_PARALLEL = "N/A"
  LINE_FIRST_PIXEL = 1
  LINE_LAST_PIXEL = 15608
  LINE_PROJECTION_OFFSET = 98073.75
  MAP_PROJECTION_ROTATION = 0.0
  MAP_PROJECTION_TYPE = SINUSOIDAL
  MAP_RESOLUTION = 1185.42760773333
  MAP_SCALE = 0.05
  MAXIMUM_LATITUDE = 82.7548
  MINIMUM_LATITUDE = 69.5731
  POSITIVE_LONGITUDE_DIRECTION = EAST
  REFERENCE_LATITUDE = "N/A"
  REFERENCE_LONGITUDE = "N/A"
  SAMPLE_FIRST_PIXEL = 1
  SAMPLE_LAST_PIXEL = 4255
  SAMPLE_PROJECTION_OFFSET = 2035.75
  SECOND_STANDARD_PARALLEL = "N/A"
  WESTERNMOST_LONGITUDE = 78.06489999999999
END_OBJECT = IMAGE_MAP_PROJECTION
/* The JPEG2000 image data file associated with this label. */
OBJECT = COMPRESSED_FILE
  FILE_NAME = "H3695_0000_GR3.JP2"
  RECORD_TYPE = UNDEFINED
  FILE_RECORDS = UNK
  ENCODING_TYPE = "JP2"
  INTERCHANGE_FORMAT = BINARY
  UNCOMPRESSED_FILE_NAME = "H3695_0000_GR3.IMG"
  REQUIRED_STORAGE_BYTES = "66437570"
  ^DESCRIPTION = "JP2INFO.TXT"
END_OBJECT = COMPRESSED_FILE
END
