PDS_VERSION_ID = PDS3
/* FILE DATA ELEMENTS */
RECORD_TYPE = STREAM
/* POINTERS TO DATA OBJECTS */
^COMPRESSED_FILE = "H3706_0000_ND3.JP2"
/* IDENTIFICATION DATA ELEMENTS */
DATA_SET_ID = "MEX-M-HRSC-5-REFDR-MAPPROJECTED-V3.0"
DATA_SET_NAME = "MARS EXPRESS HRSC MAP PROJECTED REFDR V3.0"
DETECTOR_ID = MEX_HRSC_NADIR
EVENT_TYPE = "MARS-LOCAL-STEREO-Gl-Eo-La"
INSTRUMENT_HOST_ID = MEX
INSTRUMENT_HOST_NAME = "MARS EXPRESS"
INSTRUMENT_ID = HRSC
INSTRUMENT_NAME = "HIGH RESOLUTION STEREO CAMERA"
MISSION_NAME = "MARS EXPRESS"
MISSION_PHASE_NAME = ME_Phase_6
PROCESSING_LEVEL_ID = 3
PRODUCT_CREATION_TIME = 2016-04-18T21:43:37.000Z
PRODUCT_ID = "H3706_0000_ND3.JP2"
RELEASE_ID = 0044
REVISION_ID = 0000
/* QUALITY DATA ELEMENTS */
DATA_QUALITY_ID = 2
DATA_QUALITY_DESC = "Data calculated based on photogrammetrically improved orbit and attitude data"
/* TIME DATA ELEMENTS */
SPACECRAFT_CLOCK_START_COUNT = "1/0112617200.08237"
SPACECRAFT_CLOCK_STOP_COUNT = "1/0112617451.39110"
START_TIME = 2006-11-26T10:34:08.968Z
STOP_TIME = 2006-11-26T10:36:25.989Z
/* ORBITAL DATA ELEMENTS */
ASCENDING_NODE_LONGITUDE = 150.61
MAXIMUM_RESOLUTION = 19.5
FOOTPRINT_POINT_LATITUDE = (85.6907,86.0277,86.2443,86.5139, 86.6673,86.8049,87.0191,86.8023,86.6556 ,86.4518,86.2855,86.0574,85.8203, 85.6349,85.5085,85.3806,85.1209,84.9867 ,84.7833,84.6465,84.5088,84.3688, 84.2269,84.0843,83.9411,83.7973,83.577, 83.4291,83.2809,83.1323,82.9809,82.8287 ,82.6763,82.5237,82.2911,82.1348, 81.9784,81.822,81.6626,81.5029,81.3433, 81.102,80.9391,80.7761,80.6132,80.4479, 80.282,80.116,79.95,79.907,79.8624, 79.8202,79.764,79.6791,79.6274,79.5733, 79.5098,79.3976,79.3777,79.5354,79.6929 ,79.9279,80.0819,80.2355,80.3888, 80.6153,80.7649,80.9141,81.0627,81.2084 ,81.3533,81.4978,81.712,81.8519,81.9914 ,82.1302,82.2679,82.4024,82.5365, 82.6692,82.8661,82.9937,83.1202,83.2453 ,83.3697,83.4915,83.6105,83.7279, 83.8438,83.9581,84.1238,84.3366,84.5899 ,84.7784,84.9563,85.0836,85.2366, 85.3447,85.5014,85.6907)
FOOTPRINT_POINT_LONGITUDE = (28.8954,30.9789,32.5379,34.7857, 36.2528,37.7097,40.349,45.8651,48.886, 52.4339,54.91,57.8402,60.4331,62.2172, 63.3268,64.374,66.3004,67.2035,68.4702, 69.2596,70.0087,70.7281,71.418,72.0738, 72.7,73.2928,74.15,74.686,75.1985,75.69 ,76.1654,76.622,77.0597,77.4815,78.0883 ,78.4682,78.8363,79.1911,79.5393, 79.8725,80.1971,80.6567,80.9517,81.2373 ,81.5125,81.7813,82.0414,82.292,82.5344 ,81.6285,80.6046,79.7041,78.5896, 77.0519,76.1841,75.3246,74.3678,72.8008 ,71.3464,70.9939,70.6301,70.0625, 69.6738,69.2724,68.8572,68.2153,67.7712 ,67.3124,66.836,66.354,65.8538,65.3352, 64.523,63.9633,63.3866,62.7881,62.1689, 61.5366,60.8844,60.202,59.1321,58.3971, 57.6337,56.8385,56.0173,55.1674,54.2958 ,53.3891,52.4468,51.4672,49.9461, 47.7913,44.8655,42.3651,39.6761,37.5011 ,34.529,32.1203,27.9698,28.8954)
ORBIT_NUMBER = 3706
ORBITAL_ECCENTRICITY = 0.564
ORBITAL_INCLINATION = 86.68
ORBITAL_SEMIMAJOR_AXIS = 8544.67
PERIAPSIS_ALTITUDE = 343.37
PERIAPSIS_ARGUMENT_ANGLE = 65.92
PERIAPSIS_TIME = 2006-11-26T10:27:25.000Z
SPACECRAFT_ORIENTATION = (0.0,1.0,0.0)
^MEX_ORIENTATION_DESC = "MEX_ORIENTATION_DESC.TXT"
SPACECRAFT_POINTING_MODE = NADIR
^MEX_POINTING_DESC = "MEX_POINTING_DESC.TXT"
RIGHT_ASCENSION = -1e+32
DECLINATION = -1e+32
OFFSET_ANGLE = -1e+32
SPACECRAFT_SOLAR_DISTANCE = 2.33371e+08
TARGET_NAME = MARS
/* CAMERA DATA ELEMENTS */
DETECTOR_TEMPERATURE = 18.1666
FOCAL_PLANE_TEMPERATURE = 7.7677
INST_CMPRS_NAME = "DISCRETE COSINE TRANSFORMATION (DCT)"
INST_CMPRS_RATIO = 7.05924
INST_CMPRS_QUALITY = 0
INST_CMPRS_QUANTZ_TBL_ID = 0
INSTRUMENT_TEMPERATURE = 11.0301
LENS_TEMPERATURE = 8.1755
MACROPIXEL_SIZE = 1
MISSING_FRAMES = 66
PIXEL_SUBSAMPLING_FLAG = N
SIGNAL_CHAIN_ID = 0
/* RADIOMETRIC DATA ELEMENTS */
BANDWIDTH = 177.0
CENTER_FILTER_WAVELENGTH = 677.5
RADIANCE_OFFSET = 2.64831
RADIANCE_SCALING_FACTOR = 0.018728
REFLECTANCE_SCALING_FACTOR = 0.000541838
MEX:REFLECTANCE_OFFSET = 0.0766209
/* IMAGE OBJECT DEFINITIONS */
OBJECT = IMAGE
  INTERCHANGE_FORMAT = BINARY
  LINES = 18236
  LINE_SAMPLES = 14036
  SAMPLE_TYPE = UNSIGNED_INTEGER
  SAMPLE_BITS = 8
  BANDS = 1
  BAND_STORAGE_TYPE = BAND_SEQUENTIAL
  MAXIMUM = 255
  MEAN = 141.092
  MINIMUM = 1
  STANDARD_DEVIATION = 41.875
END_OBJECT = IMAGE
/* MAP OBJECT DEFINITIONS */
OBJECT = IMAGE_MAP_PROJECTION
  ^DATA_SET_MAP_PROJECTION_CATALOG= "DSMAP.CAT"
  A_AXIS_RADIUS = 3396.0
  B_AXIS_RADIUS = 3396.0
  C_AXIS_RADIUS = 3396.0
  CENTER_LATITUDE = 0.0
  CENTER_LONGITUDE = 65.0
  COORDINATE_SYSTEM_NAME = PLANETOGRAPHIC
  COORDINATE_SYSTEM_TYPE = "BODY-FIXED ROTATING"
  EASTERNMOST_LONGITUDE = 82.53440000000001
  FIRST_STANDARD_PARALLEL = "N/A"
  LINE_FIRST_PIXEL = 1
  LINE_LAST_PIXEL = 18236
  LINE_PROJECTION_OFFSET = 206297.0
  MAP_PROJECTION_ROTATION = 0.0
  MAP_PROJECTION_TYPE = SINUSOIDAL
  MAP_RESOLUTION = 2370.85521546667
  MAP_SCALE = 0.025
  MAXIMUM_LATITUDE = 87.01909999999999
  MINIMUM_LATITUDE = 79.3777
  POSITIVE_LONGITUDE_DIRECTION = EAST
  REFERENCE_LATITUDE = "N/A"
  REFERENCE_LONGITUDE = "N/A"
  SAMPLE_FIRST_PIXEL = 1
  SAMPLE_LAST_PIXEL = 14036
  SAMPLE_PROJECTION_OFFSET = 6849.0
  SECOND_STANDARD_PARALLEL = "N/A"
  WESTERNMOST_LONGITUDE = 27.9698
END_OBJECT = IMAGE_MAP_PROJECTION
/* The JPEG2000 image data file associated with this label. */
OBJECT = COMPRESSED_FILE
  FILE_NAME = "H3706_0000_ND3.JP2"
  RECORD_TYPE = UNDEFINED
  FILE_RECORDS = UNK
  ENCODING_TYPE = "JP2"
  INTERCHANGE_FORMAT = BINARY
  UNCOMPRESSED_FILE_NAME = "H3706_0000_ND3.IMG"
  REQUIRED_STORAGE_BYTES = "256002604"
  ^DESCRIPTION = "JP2INFO.TXT"
END_OBJECT = COMPRESSED_FILE
END
