PDS_VERSION_ID = PDS3
/* FILE DATA ELEMENTS */
RECORD_TYPE = STREAM
/* POINTERS TO DATA OBJECTS */
^COMPRESSED_FILE = "H3737_0000_IR3.JP2"
/* IDENTIFICATION DATA ELEMENTS */
DATA_SET_ID = "MEX-M-HRSC-5-REFDR-MAPPROJECTED-V3.0"
DATA_SET_NAME = "MARS EXPRESS HRSC MAP PROJECTED REFDR V3.0"
DETECTOR_ID = MEX_HRSC_IR
EVENT_TYPE = "MARS-REGIONAL-MAPPING-Pf-Eo-La"
INSTRUMENT_HOST_ID = MEX
INSTRUMENT_HOST_NAME = "MARS EXPRESS"
INSTRUMENT_ID = HRSC
INSTRUMENT_NAME = "HIGH RESOLUTION STEREO CAMERA"
MISSION_NAME = "MARS EXPRESS"
MISSION_PHASE_NAME = ME_Phase_6
PROCESSING_LEVEL_ID = 3
PRODUCT_CREATION_TIME = 2016-04-18T21:43:37.000Z
PRODUCT_ID = "H3737_0000_IR3.JP2"
RELEASE_ID = 0044
REVISION_ID = 0000
/* QUALITY DATA ELEMENTS */
DATA_QUALITY_ID = 2
DATA_QUALITY_DESC = "Data calculated based on photogrammetrically improved orbit and attitude data"
/* TIME DATA ELEMENTS */
SPACECRAFT_CLOCK_START_COUNT = "1/0113367236.08233"
SPACECRAFT_CLOCK_STOP_COUNT = "1/0113367622.06413"
START_TIME = 2006-12-05T02:55:53.875Z
STOP_TIME = 2006-12-05T03:00:01.843Z
/* ORBITAL DATA ELEMENTS */
ASCENDING_NODE_LONGITUDE = 149.97
MAXIMUM_RESOLUTION = 54.8
FOOTPRINT_POINT_LATITUDE = (83.1227,83.3175,83.5299,83.7307, 83.9187,84.093,84.2045,84.4612,84.0881, 83.708,83.3187,82.9211,82.5185,82.0056, 81.7985,81.5885,81.2759,81.0629,80.7384 ,80.413,80.0846,79.8639,79.6411,79.3048 ,78.9656,78.738,78.5086,78.2785,78.0467 ,77.7947,77.5603,77.3245,77.087,76.8488 ,76.4883,76.2467,76.0034,75.7588,75.513 ,75.2659,75.0171,74.7668,74.5153, 74.2624,74.0086,73.7532,73.496,73.2378, 73.1433,73.1204,73.0911,73.0588,73.0233 ,72.9844,72.9425,72.8795,72.8108, 72.7638,72.6999,72.7399,72.9903,73.2394 ,73.487,73.7328,73.9771,74.22,74.4615, 74.7016,74.94,75.1764,75.4117,75.6457, 75.8778,76.1083,76.3374,76.565,76.7906, 77.1267,77.477,77.8056,78.1304,78.345, 78.5575,78.8736,79.1856,79.3916,79.5952 ,79.7975,79.9975,80.2939,80.4899, 80.6809,80.8721,81.0606,81.4321,81.7939 ,82.2324,82.5705,82.8975,83.1227)
FOOTPRINT_POINT_LONGITUDE = (246.798,248.765,251.145,253.675, 256.356,259.192,261.236,263.841,265.679 ,267.309,268.764,270.068,271.242, 272.554,273.035,273.497,274.15,274.561, 275.144,275.693,276.208,276.534,276.848 ,277.297,277.72,277.99,278.251,278.501, 278.744,278.997,279.223,279.441,279.653 ,279.857,280.152,280.341,280.525, 280.703,280.876,281.043,281.206,281.365 ,281.519,281.668,281.814,281.956, 282.094,282.228,281.509,280.751,279.887 ,279.026,278.169,277.315,276.465,275.3, 274.141,273.409,272.471,271.194,270.99, 270.78,270.564,270.342,270.113,269.878, 269.635,269.384,269.126,268.862,268.588 ,268.305,268.015,267.714,267.405, 267.086,266.756,266.241,265.67,265.099, 264.5,264.084,263.654,262.978,262.267, 261.772,261.259,260.726,260.174,259.308 ,258.699,258.085,257.433,256.757, 255.315,253.758,251.624,249.757,247.718 ,246.798)
ORBIT_NUMBER = 3737
ORBITAL_ECCENTRICITY = 0.565
ORBITAL_INCLINATION = 86.66
ORBITAL_SEMIMAJOR_AXIS = 8556.95
PERIAPSIS_ALTITUDE = 342.21
PERIAPSIS_ARGUMENT_ANGLE = 60.43
PERIAPSIS_TIME = 2006-12-05T02:45:45.000Z
SPACECRAFT_ORIENTATION = (0.0,1.0,0.0)
^MEX_ORIENTATION_DESC = "MEX_ORIENTATION_DESC.TXT"
SPACECRAFT_POINTING_MODE = ACROSSTRACK
^MEX_POINTING_DESC = "MEX_POINTING_DESC.TXT"
RIGHT_ASCENSION = -1e+32
DECLINATION = -1e+32
OFFSET_ANGLE = -0.2
SPACECRAFT_SOLAR_DISTANCE = 2.31755e+08
TARGET_NAME = MARS
/* CAMERA DATA ELEMENTS */
DETECTOR_TEMPERATURE = 17.7588
FOCAL_PLANE_TEMPERATURE = 9.195
INST_CMPRS_NAME = "DISCRETE COSINE TRANSFORMATION (DCT)"
INST_CMPRS_RATIO = 7.58937
INST_CMPRS_QUALITY = 0
INST_CMPRS_QUANTZ_TBL_ID = 0
INSTRUMENT_TEMPERATURE = 11.6418
LENS_TEMPERATURE = 9.6028
MACROPIXEL_SIZE = 2
MISSING_FRAMES = 3
PIXEL_SUBSAMPLING_FLAG = N
SIGNAL_CHAIN_ID = 3
/* RADIOMETRIC DATA ELEMENTS */
BANDWIDTH = 81.0
CENTER_FILTER_WAVELENGTH = 955.5
RADIANCE_OFFSET = 0.339058
RADIANCE_SCALING_FACTOR = 0.00340517
REFLECTANCE_SCALING_FACTOR = 0.000394566
MEX:REFLECTANCE_OFFSET = 0.0392875
/* IMAGE OBJECT DEFINITIONS */
OBJECT = IMAGE
  INTERCHANGE_FORMAT = BINARY
  LINES = 13973
  LINE_SAMPLES = 7138
  SAMPLE_TYPE = UNSIGNED_INTEGER
  SAMPLE_BITS = 8
  BANDS = 1
  BAND_STORAGE_TYPE = BAND_SEQUENTIAL
  MAXIMUM = 255
  MEAN = 111.936
  MINIMUM = 1
  STANDARD_DEVIATION = 60.4147
END_OBJECT = IMAGE
/* MAP OBJECT DEFINITIONS */
OBJECT = IMAGE_MAP_PROJECTION
  ^DATA_SET_MAP_PROJECTION_CATALOG= "DSMAP.CAT"
  A_AXIS_RADIUS = 3396.0
  B_AXIS_RADIUS = 3396.0
  C_AXIS_RADIUS = 3396.0
  CENTER_LATITUDE = 0.0
  CENTER_LONGITUDE = 270.0
  COORDINATE_SYSTEM_NAME = PLANETOGRAPHIC
  COORDINATE_SYSTEM_TYPE = "BODY-FIXED ROTATING"
  EASTERNMOST_LONGITUDE = 282.228
  FIRST_STANDARD_PARALLEL = "N/A"
  LINE_FIRST_PIXEL = 1
  LINE_LAST_PIXEL = 13973
  LINE_PROJECTION_OFFSET = 100073.25
  MAP_PROJECTION_ROTATION = 0.0
  MAP_PROJECTION_TYPE = SINUSOIDAL
  MAP_RESOLUTION = 1185.42760773333
  MAP_SCALE = 0.05
  MAXIMUM_LATITUDE = 84.46120000000001
  MINIMUM_LATITUDE = 72.6999
  POSITIVE_LONGITUDE_DIRECTION = EAST
  REFERENCE_LATITUDE = "N/A"
  REFERENCE_LONGITUDE = "N/A"
  SAMPLE_FIRST_PIXEL = 1
  SAMPLE_LAST_PIXEL = 7138
  SAMPLE_PROJECTION_OFFSET = 3231.25
  SECOND_STANDARD_PARALLEL = "N/A"
  WESTERNMOST_LONGITUDE = 246.798
END_OBJECT = IMAGE_MAP_PROJECTION
/* The JPEG2000 image data file associated with this label. */
OBJECT = COMPRESSED_FILE
  FILE_NAME = "H3737_0000_IR3.JP2"
  RECORD_TYPE = UNDEFINED
  FILE_RECORDS = UNK
  ENCODING_TYPE = "JP2"
  INTERCHANGE_FORMAT = BINARY
  UNCOMPRESSED_FILE_NAME = "H3737_0000_IR3.IMG"
  REQUIRED_STORAGE_BYTES = "99767826"
  ^DESCRIPTION = "JP2INFO.TXT"
END_OBJECT = COMPRESSED_FILE
END
