PDS_VERSION_ID = PDS3
/* FILE DATA ELEMENTS */
RECORD_TYPE = STREAM
/* POINTERS TO DATA OBJECTS */
^COMPRESSED_FILE = "H4076_0000_S23.JP2"
/* IDENTIFICATION DATA ELEMENTS */
DATA_SET_ID = "MEX-M-HRSC-5-REFDR-MAPPROJECTED-V3.0"
DATA_SET_NAME = "MARS EXPRESS HRSC MAP PROJECTED REFDR V3.0"
DETECTOR_ID = MEX_HRSC_S2
EVENT_TYPE = "MARS-REGIONAL-MAPPING-Vo-Te-Fl"
INSTRUMENT_HOST_ID = MEX
INSTRUMENT_HOST_NAME = "MARS EXPRESS"
INSTRUMENT_ID = HRSC
INSTRUMENT_NAME = "HIGH RESOLUTION STEREO CAMERA"
MISSION_NAME = "MARS EXPRESS"
MISSION_PHASE_NAME = ME_Phase_7
PROCESSING_LEVEL_ID = 3
PRODUCT_CREATION_TIME = 2016-04-19T05:18:48.000Z
PRODUCT_ID = "H4076_0000_S23.JP2"
RELEASE_ID = 0045
REVISION_ID = 0000
/* QUALITY DATA ELEMENTS */
DATA_QUALITY_ID = 1
DATA_QUALITY_DESC = "Data calculated based on original SPICE kernels"
/* TIME DATA ELEMENTS */
SPACECRAFT_CLOCK_START_COUNT = "1/0121566242.09083"
SPACECRAFT_CLOCK_STOP_COUNT = "1/0121566571.17402"
START_TIME = 2007-03-10T00:24:06.441Z
STOP_TIME = 2007-03-10T00:28:10.209Z
/* ORBITAL DATA ELEMENTS */
ASCENDING_NODE_LONGITUDE = 142.9
MAXIMUM_RESOLUTION = 39.5
FOOTPRINT_POINT_LATITUDE = (-36.7985,-36.7959,-36.7896,-36.781, -36.7696,-36.7553,-36.4487,-36.0092, -35.7136,-35.4312,-35.0162,-34.7354, -34.4548,-34.1764,-33.762,-33.3516, -33.0799,-32.8108,-32.5427,-32.2767, -31.88,-31.6161,-31.3557,-30.9653, -30.7076,-30.451,-30.1969,-29.9427, -29.6919,-29.3161,-29.0697,-28.8224, -28.5788,-28.3346,-28.0861,-27.7259, -27.4845,-27.1271,-26.889,-26.6547, -26.419,-26.185,-25.9535,-25.7216, -25.4911,-25.2629,-25.0349,-24.6955, -24.4709,-24.0227,-23.9987,-24.0023, -24.0038,-24.0033,-24.113,-24.3382, -24.5637,-24.7885,-25.1304,-25.3593, -25.5873,-25.82,-26.0523,-26.4022, -26.6379,-26.8733,-27.1111,-27.3498, -27.5878,-27.8306,-28.1945,-28.5629, -28.8082,-29.0572,-29.3066,-29.6848, -29.9378,-30.1935,-30.577,-30.8383, -31.097,-31.3596,-31.7534,-32.0181, -32.4144,-32.8165,-33.0866,-33.3596, -33.6329,-33.9069,-34.1768,-34.4585, -34.744,-35.1648,-35.5909,-35.8771, -36.1668,-36.4611,-36.7509,-36.7985)
FOOTPRINT_POINT_LONGITUDE = (282.346,281.885,281.368,280.908, 280.448,279.987,279.884,279.918,279.938 ,279.962,279.997,280.018,280.038, 280.058,280.087,280.115,280.133,280.151 ,280.168,280.185,280.21,280.226,280.241 ,280.263,280.278,280.292,280.306,280.32 ,280.334,280.353,280.366,280.379, 280.392,280.404,280.414,280.431,280.442 ,280.458,280.468,280.479,280.489, 280.498,280.508,280.517,280.526,280.535 ,280.544,280.557,280.566,280.582, 280.876,281.376,281.738,282.1,282.369, 282.375,282.381,282.388,282.398,282.405 ,282.411,282.418,282.425,282.436, 282.444,282.451,282.458,282.466,282.474 ,282.482,282.494,282.506,282.514, 282.523,282.531,282.544,282.552,282.561 ,282.575,282.583,282.593,282.602, 282.617,282.627,282.644,282.66,282.671, 282.682,282.693,282.706,282.72,282.731, 282.742,282.762,282.782,282.796,282.81, 282.822,282.837,282.346)
ORBIT_NUMBER = 4076
ORBITAL_ECCENTRICITY = 0.571
ORBITAL_INCLINATION = 86.67
ORBITAL_SEMIMAJOR_AXIS = 8630.92
PERIAPSIS_ALTITUDE = 308.96
PERIAPSIS_ARGUMENT_ANGLE = 0.21
PERIAPSIS_TIME = 2007-03-10T00:35:11.000Z
SPACECRAFT_ORIENTATION = (0.0,1.0,0.0)
^MEX_ORIENTATION_DESC = "MEX_ORIENTATION_DESC.TXT"
SPACECRAFT_POINTING_MODE = NADIR
^MEX_POINTING_DESC = "MEX_POINTING_DESC.TXT"
RIGHT_ASCENSION = -1e+32
DECLINATION = -1e+32
OFFSET_ANGLE = -1e+32
SPACECRAFT_SOLAR_DISTANCE = 2.1409e+08
TARGET_NAME = MARS
/* CAMERA DATA ELEMENTS */
DETECTOR_TEMPERATURE = 19.5939
FOCAL_PLANE_TEMPERATURE = 8.3794
INST_CMPRS_NAME = "DISCRETE COSINE TRANSFORMATION (DCT)"
INST_CMPRS_RATIO = 11.9131
INST_CMPRS_QUALITY = 0
INST_CMPRS_QUANTZ_TBL_ID = 0
INSTRUMENT_TEMPERATURE = 11.234
LENS_TEMPERATURE = 8.7872
MACROPIXEL_SIZE = 2
MISSING_FRAMES = 0
PIXEL_SUBSAMPLING_FLAG = N
SIGNAL_CHAIN_ID = 1
/* RADIOMETRIC DATA ELEMENTS */
BANDWIDTH = 178.0
CENTER_FILTER_WAVELENGTH = 679.0
RADIANCE_OFFSET = 1.26335
RADIANCE_SCALING_FACTOR = 0.00948699
REFLECTANCE_SCALING_FACTOR = 0.00023028
MEX:REFLECTANCE_OFFSET = 0.0306656
/* IMAGE OBJECT DEFINITIONS */
OBJECT = IMAGE
  INTERCHANGE_FORMAT = BINARY
  LINES = 30271
  LINE_SAMPLES = 5157
  SAMPLE_TYPE = UNSIGNED_INTEGER
  SAMPLE_BITS = 8
  BANDS = 1
  BAND_STORAGE_TYPE = BAND_SEQUENTIAL
  MAXIMUM = 255
  MEAN = 79.6033
  MINIMUM = 1
  STANDARD_DEVIATION = 24.4137
END_OBJECT = IMAGE
/* MAP OBJECT DEFINITIONS */
OBJECT = IMAGE_MAP_PROJECTION
  ^DATA_SET_MAP_PROJECTION_CATALOG= "DSMAP.CAT"
  A_AXIS_RADIUS = 3396.0
  B_AXIS_RADIUS = 3396.0
  C_AXIS_RADIUS = 3396.0
  CENTER_LATITUDE = 0.0
  CENTER_LONGITUDE = 281.0
  COORDINATE_SYSTEM_NAME = PLANETOGRAPHIC
  COORDINATE_SYSTEM_TYPE = "BODY-FIXED ROTATING"
  EASTERNMOST_LONGITUDE = 282.837
  FIRST_STANDARD_PARALLEL = "N/A"
  LINE_FIRST_PIXEL = 1
  LINE_LAST_PIXEL = 30271
  LINE_PROJECTION_OFFSET = -56852.25
  MAP_PROJECTION_ROTATION = 0.0
  MAP_PROJECTION_TYPE = SINUSOIDAL
  MAP_RESOLUTION = 2370.85521546667
  MAP_SCALE = 0.025
  MAXIMUM_LATITUDE = -23.9987
  MINIMUM_LATITUDE = -36.7985
  POSITIVE_LONGITUDE_DIRECTION = EAST
  REFERENCE_LATITUDE = "N/A"
  REFERENCE_LONGITUDE = "N/A"
  SAMPLE_FIRST_PIXEL = 1
  SAMPLE_LAST_PIXEL = 5157
  SAMPLE_PROJECTION_OFFSET = 1923.75
  SECOND_STANDARD_PARALLEL = "N/A"
  WESTERNMOST_LONGITUDE = 279.884
END_OBJECT = IMAGE_MAP_PROJECTION
/* The JPEG2000 image data file associated with this label. */
OBJECT = COMPRESSED_FILE
  FILE_NAME = "H4076_0000_S23.JP2"
  RECORD_TYPE = UNDEFINED
  FILE_RECORDS = UNK
  ENCODING_TYPE = "JP2"
  INTERCHANGE_FORMAT = BINARY
  UNCOMPRESSED_FILE_NAME = "H4076_0000_S23.IMG"
  REQUIRED_STORAGE_BYTES = "156133332"
  ^DESCRIPTION = "JP2INFO.TXT"
END_OBJECT = COMPRESSED_FILE
END
