PDS_VERSION_ID = PDS3
/* FILE DATA ELEMENTS */
RECORD_TYPE = STREAM
/* POINTERS TO DATA OBJECTS */
^COMPRESSED_FILE = "H4079_0000_ND3.JP2"
/* IDENTIFICATION DATA ELEMENTS */
DATA_SET_ID = "MEX-M-HRSC-5-REFDR-MAPPROJECTED-V3.0"
DATA_SET_NAME = "MARS EXPRESS HRSC MAP PROJECTED REFDR V3.0"
DETECTOR_ID = MEX_HRSC_NADIR
EVENT_TYPE = "MARS-REGIONAL-MAPPING-Im-Fl"
INSTRUMENT_HOST_ID = MEX
INSTRUMENT_HOST_NAME = "MARS EXPRESS"
INSTRUMENT_ID = HRSC
INSTRUMENT_NAME = "HIGH RESOLUTION STEREO CAMERA"
MISSION_NAME = "MARS EXPRESS"
MISSION_PHASE_NAME = ME_Phase_7
PROCESSING_LEVEL_ID = 3
PRODUCT_CREATION_TIME = 2016-04-19T05:18:48.000Z
PRODUCT_ID = "H4079_0000_ND3.JP2"
RELEASE_ID = 0045
REVISION_ID = 0000
/* QUALITY DATA ELEMENTS */
DATA_QUALITY_ID = 1
DATA_QUALITY_DESC = "Data calculated based on original SPICE kernels"
/* TIME DATA ELEMENTS */
SPACECRAFT_CLOCK_START_COUNT = "1/0121638774.09050"
SPACECRAFT_CLOCK_STOP_COUNT = "1/0121639090.38401"
START_TIME = 2007-03-10T20:34:15.002Z
STOP_TIME = 2007-03-10T20:37:30.981Z
/* ORBITAL DATA ELEMENTS */
ASCENDING_NODE_LONGITUDE = 142.85
MAXIMUM_RESOLUTION = 18.5
FOOTPRINT_POINT_LATITUDE = (-38.5191,-38.5149,-38.5103,-38.5024, -38.4968,-38.491,-38.3508,-38.0916, -37.8351,-37.5785,-37.3251,-37.0714, -36.8212,-36.4468,-36.1996,-35.9523, -35.7084,-35.343,-35.1023,-34.7416, -34.5042,-34.1488,-33.9147,-33.5636, -33.3328,-33.1016,-32.7586,-32.5307, -32.3034,-32.0796,-31.8552,-31.6315, -31.4109,-31.19,-30.9692,-30.7519, -30.5345,-30.2096,-29.9958,-29.7818, -29.5675,-29.3574,-29.0417,-28.8311, -28.6245,-28.4177,-28.2107,-28.0047, -27.5984,-27.0886,-27.0906,-27.093, -27.0943,-27.0952,-27.1952,-27.4019, -27.6057,-28.0127,-28.219,-28.4264, -28.6336,-28.8405,-29.0515,-29.3677, -29.5782,-29.7928,-30.0073,-30.2214, -30.547,-30.7649,-30.9825,-31.2037, -31.4251,-31.6462,-31.8703,-32.0952, -32.3197,-32.5475,-32.7758,-33.1196, -33.3514,-33.5827,-33.9347,-34.1695, -34.5259,-34.7639,-35.1257,-35.3671, -35.7337,-35.9783,-36.2263,-36.4743, -36.85,-37.101,-37.3556,-37.6099, -37.8676,-38.1251,-38.3852,-38.5191)
FOOTPRINT_POINT_LONGITUDE = (347.661,347.031,346.62,346.1,345.799, 345.525,345.15,345.171,345.191,345.211, 345.231,345.25,345.268,345.296,345.312, 345.329,345.345,345.37,345.385,345.408, 345.423,345.445,345.459,345.48,345.493, 345.507,345.524,345.534,345.547,345.561 ,345.574,345.586,345.597,345.608, 345.618,345.626,345.638,345.655,345.664 ,345.674,345.683,345.693,345.707, 345.716,345.724,345.733,345.742,345.75, 345.766,345.785,346.27,346.629,346.898, 347.311,347.609,347.614,347.621,347.629 ,347.635,347.64,347.646,347.651,347.656 ,347.665,347.67,347.676,347.682,347.688 ,347.697,347.703,347.709,347.715, 347.722,347.728,347.735,347.741,347.748 ,347.755,347.762,347.772,347.779, 347.786,347.797,347.804,347.815,347.824 ,347.835,347.843,347.854,347.863, 347.871,347.88,347.893,347.902,347.911, 347.92,347.928,347.937,347.947,347.661)
ORBIT_NUMBER = 4079
ORBITAL_ECCENTRICITY = 0.57
ORBITAL_INCLINATION = 86.67
ORBITAL_SEMIMAJOR_AXIS = 8621.66
PERIAPSIS_ALTITUDE = 309.21
PERIAPSIS_ARGUMENT_ANGLE = 359.65
PERIAPSIS_TIME = 2007-03-10T20:44:30.000Z
SPACECRAFT_ORIENTATION = (0.0,1.0,0.0)
^MEX_ORIENTATION_DESC = "MEX_ORIENTATION_DESC.TXT"
SPACECRAFT_POINTING_MODE = NADIR
^MEX_POINTING_DESC = "MEX_POINTING_DESC.TXT"
RIGHT_ASCENSION = -1e+32
DECLINATION = -1e+32
OFFSET_ANGLE = -1e+32
SPACECRAFT_SOLAR_DISTANCE = 2.13958e+08
TARGET_NAME = MARS
/* CAMERA DATA ELEMENTS */
DETECTOR_TEMPERATURE = 18.3705
FOCAL_PLANE_TEMPERATURE = 8.3794
INST_CMPRS_NAME = "DISCRETE COSINE TRANSFORMATION (DCT)"
INST_CMPRS_RATIO = 7.1246
INST_CMPRS_QUALITY = 0
INST_CMPRS_QUANTZ_TBL_ID = 0
INSTRUMENT_TEMPERATURE = 11.4379
LENS_TEMPERATURE = 8.7872
MACROPIXEL_SIZE = 1
MISSING_FRAMES = 2
PIXEL_SUBSAMPLING_FLAG = N
SIGNAL_CHAIN_ID = 0
/* RADIOMETRIC DATA ELEMENTS */
BANDWIDTH = 177.0
CENTER_FILTER_WAVELENGTH = 677.5
RADIANCE_OFFSET = 1.52482
RADIANCE_SCALING_FACTOR = 0.00648644
REFLECTANCE_SCALING_FACTOR = 0.000157744
MEX:REFLECTANCE_OFFSET = 0.0370823
/* IMAGE OBJECT DEFINITIONS */
OBJECT = IMAGE
  INTERCHANGE_FORMAT = BINARY
  LINES = 54205
  LINE_SAMPLES = 10641
  SAMPLE_TYPE = UNSIGNED_INTEGER
  SAMPLE_BITS = 8
  BANDS = 1
  BAND_STORAGE_TYPE = BAND_SEQUENTIAL
  MAXIMUM = 255
  MEAN = 88.9116
  MINIMUM = 1
  STANDARD_DEVIATION = 26.8816
END_OBJECT = IMAGE
/* MAP OBJECT DEFINITIONS */
OBJECT = IMAGE_MAP_PROJECTION
  ^DATA_SET_MAP_PROJECTION_CATALOG= "DSMAP.CAT"
  A_AXIS_RADIUS = 3396.0
  B_AXIS_RADIUS = 3396.0
  C_AXIS_RADIUS = 3396.0
  CENTER_LATITUDE = 0.0
  CENTER_LONGITUDE = 347.0
  COORDINATE_SYSTEM_NAME = PLANETOGRAPHIC
  COORDINATE_SYSTEM_TYPE = "BODY-FIXED ROTATING"
  EASTERNMOST_LONGITUDE = 347.947
  FIRST_STANDARD_PARALLEL = "N/A"
  LINE_FIRST_PIXEL = 1
  LINE_LAST_PIXEL = 54205
  LINE_PROJECTION_OFFSET = -128438.0
  MAP_PROJECTION_ROTATION = 0.0
  MAP_PROJECTION_TYPE = SINUSOIDAL
  MAP_RESOLUTION = 4741.71043093333
  MAP_SCALE = 0.0125
  MAXIMUM_LATITUDE = -27.0886
  MINIMUM_LATITUDE = -38.5191
  POSITIVE_LONGITUDE_DIRECTION = EAST
  REFERENCE_LATITUDE = "N/A"
  REFERENCE_LONGITUDE = "N/A"
  SAMPLE_FIRST_PIXEL = 1
  SAMPLE_LAST_PIXEL = 10641
  SAMPLE_PROJECTION_OFFSET = 6973.0
  SECOND_STANDARD_PARALLEL = "N/A"
  WESTERNMOST_LONGITUDE = 345.15
END_OBJECT = IMAGE_MAP_PROJECTION
/* The JPEG2000 image data file associated with this label. */
OBJECT = COMPRESSED_FILE
  FILE_NAME = "H4079_0000_ND3.JP2"
  RECORD_TYPE = UNDEFINED
  FILE_RECORDS = UNK
  ENCODING_TYPE = "JP2"
  INTERCHANGE_FORMAT = BINARY
  UNCOMPRESSED_FILE_NAME = "H4079_0000_ND3.IMG"
  REQUIRED_STORAGE_BYTES = "576827328"
  ^DESCRIPTION = "JP2INFO.TXT"
END_OBJECT = COMPRESSED_FILE
END
