PDS_VERSION_ID = PDS3
/* FILE DATA ELEMENTS */
RECORD_TYPE = STREAM
/* POINTERS TO DATA OBJECTS */
^COMPRESSED_FILE = "H4079_0000_RE3.JP2"
/* IDENTIFICATION DATA ELEMENTS */
DATA_SET_ID = "MEX-M-HRSC-5-REFDR-MAPPROJECTED-V3.0"
DATA_SET_NAME = "MARS EXPRESS HRSC MAP PROJECTED REFDR V3.0"
DETECTOR_ID = MEX_HRSC_RED
EVENT_TYPE = "MARS-REGIONAL-MAPPING-Im-Fl"
INSTRUMENT_HOST_ID = MEX
INSTRUMENT_HOST_NAME = "MARS EXPRESS"
INSTRUMENT_ID = HRSC
INSTRUMENT_NAME = "HIGH RESOLUTION STEREO CAMERA"
MISSION_NAME = "MARS EXPRESS"
MISSION_PHASE_NAME = ME_Phase_7
PROCESSING_LEVEL_ID = 3
PRODUCT_CREATION_TIME = 2016-04-19T05:18:48.000Z
PRODUCT_ID = "H4079_0000_RE3.JP2"
RELEASE_ID = 0045
REVISION_ID = 0000
/* QUALITY DATA ELEMENTS */
DATA_QUALITY_ID = 1
DATA_QUALITY_DESC = "Data calculated based on original SPICE kernels"
/* TIME DATA ELEMENTS */
SPACECRAFT_CLOCK_START_COUNT = "1/0121638774.09050"
SPACECRAFT_CLOCK_STOP_COUNT = "1/0121639090.38401"
START_TIME = 2007-03-10T20:33:13.331Z
STOP_TIME = 2007-03-10T20:36:50.996Z
/* ORBITAL DATA ELEMENTS */
ASCENDING_NODE_LONGITUDE = 142.85
MAXIMUM_RESOLUTION = 82.7
FOOTPRINT_POINT_LATITUDE = (-38.5857,-38.5844,-38.5787,-38.5713, -38.5647,-38.5529,-38.5386,-38.1121, -37.8568,-37.6042,-37.3508,-37.1007, -36.8511,-36.6031,-36.2319,-35.9858, -35.7427,-35.5002,-35.2599,-35.0191, -34.7803,-34.5426,-34.3071,-34.0692, -33.8389,-33.6059,-33.3759,-33.0309, -32.7937,-32.5645,-32.3393,-32.1161, -31.9003,-31.6764,-31.4542,-31.2347, -30.9029,-30.6797,-30.4644,-30.2524, -30.038,-29.8219,-29.6086,-29.3972, -29.1857,-28.9782,-28.7684,-28.5577, -28.3514,-28.0436,-27.8382,-27.5337, -27.1282,-27.1038,-27.1085,-27.1124, -27.1134,-27.1137,-27.515,-27.8275, -28.1355,-28.3412,-28.5481,-28.7584, -28.9679,-29.284,-29.4963,-29.8144, -30.1373,-30.3521,-30.6792,-30.897, -31.1171,-31.4468,-31.7813,-32.0043, -32.23,-32.5684,-32.9116,-33.1409, -33.372,-33.6036,-33.9545,-34.1882, -34.5446,-34.9015,-35.1411,-35.3829, -35.7477,-35.9911,-36.2366,-36.4832, -36.7326,-36.9818,-37.2321,-37.4846, -37.7412,-37.9971,-38.2536,-38.5857)
FOOTPRINT_POINT_LONGITUDE = (347.976,347.431,346.829,346.37,346.055 ,345.597,345.138,345.036,345.059, 345.081,345.103,345.124,345.145,345.165 ,345.194,345.213,345.232,345.25,345.268 ,345.285,345.302,345.319,345.335,345.35 ,345.367,345.383,345.398,345.42,345.431 ,345.444,345.458,345.473,345.489, 345.501,345.514,345.527,345.544,345.554 ,345.566,345.579,345.59,345.601,345.611 ,345.622,345.632,345.643,345.653, 345.662,345.672,345.686,345.695,345.709 ,345.726,346.089,346.451,346.922, 347.193,347.592,347.685,347.691,347.701 ,347.708,347.714,347.721,347.727, 347.737,347.744,347.755,347.766,347.773 ,347.784,347.791,347.799,347.811, 347.823,347.831,347.84,347.853,347.865, 347.874,347.883,347.892,347.905,347.915 ,347.929,347.944,347.954,347.964, 347.979,347.99,348.001,348.012,348.023, 348.034,348.047,348.059,348.069,348.081 ,348.094,347.976)
ORBIT_NUMBER = 4079
ORBITAL_ECCENTRICITY = 0.57
ORBITAL_INCLINATION = 86.67
ORBITAL_SEMIMAJOR_AXIS = 8621.66
PERIAPSIS_ALTITUDE = 309.21
PERIAPSIS_ARGUMENT_ANGLE = 359.65
PERIAPSIS_TIME = 2007-03-10T20:44:30.000Z
SPACECRAFT_ORIENTATION = (0.0,1.0,0.0)
^MEX_ORIENTATION_DESC = "MEX_ORIENTATION_DESC.TXT"
SPACECRAFT_POINTING_MODE = NADIR
^MEX_POINTING_DESC = "MEX_POINTING_DESC.TXT"
RIGHT_ASCENSION = -1e+32
DECLINATION = -1e+32
OFFSET_ANGLE = -1e+32
SPACECRAFT_SOLAR_DISTANCE = 2.13958e+08
TARGET_NAME = MARS
/* CAMERA DATA ELEMENTS */
DETECTOR_TEMPERATURE = 18.7783
FOCAL_PLANE_TEMPERATURE = 8.3794
INST_CMPRS_NAME = "DISCRETE COSINE TRANSFORMATION (DCT)"
INST_CMPRS_RATIO = 21.1055
INST_CMPRS_QUALITY = 0
INST_CMPRS_QUANTZ_TBL_ID = 0
INSTRUMENT_TEMPERATURE = 11.4379
LENS_TEMPERATURE = 8.7872
MACROPIXEL_SIZE = 4
MISSING_FRAMES = 0
PIXEL_SUBSAMPLING_FLAG = N
SIGNAL_CHAIN_ID = 2
/* RADIOMETRIC DATA ELEMENTS */
BANDWIDTH = 48.0
CENTER_FILTER_WAVELENGTH = 748.0
RADIANCE_OFFSET = 0.464307
RADIANCE_SCALING_FACTOR = 0.00187771
REFLECTANCE_SCALING_FACTOR = 0.000196164
MEX:REFLECTANCE_OFFSET = 0.0485059
/* IMAGE OBJECT DEFINITIONS */
OBJECT = IMAGE
  INTERCHANGE_FORMAT = BINARY
  LINES = 13552
  LINE_SAMPLES = 2661
  SAMPLE_TYPE = UNSIGNED_INTEGER
  SAMPLE_BITS = 8
  BANDS = 1
  BAND_STORAGE_TYPE = BAND_SEQUENTIAL
  MAXIMUM = 255
  MEAN = 87.1336
  MINIMUM = 1
  STANDARD_DEVIATION = 29.8807
END_OBJECT = IMAGE
/* MAP OBJECT DEFINITIONS */
OBJECT = IMAGE_MAP_PROJECTION
  ^DATA_SET_MAP_PROJECTION_CATALOG= "DSMAP.CAT"
  A_AXIS_RADIUS = 3396.0
  B_AXIS_RADIUS = 3396.0
  C_AXIS_RADIUS = 3396.0
  CENTER_LATITUDE = 0.0
  CENTER_LONGITUDE = 347.0
  COORDINATE_SYSTEM_NAME = PLANETOGRAPHIC
  COORDINATE_SYSTEM_TYPE = "BODY-FIXED ROTATING"
  EASTERNMOST_LONGITUDE = 348.094
  FIRST_STANDARD_PARALLEL = "N/A"
  LINE_FIRST_PIXEL = 1
  LINE_LAST_PIXEL = 13552
  LINE_PROJECTION_OFFSET = -32109.875
  MAP_PROJECTION_ROTATION = 0.0
  MAP_PROJECTION_TYPE = SINUSOIDAL
  MAP_RESOLUTION = 1185.42760773333
  MAP_SCALE = 0.05
  MAXIMUM_LATITUDE = -27.1038
  MINIMUM_LATITUDE = -38.5857
  POSITIVE_LONGITUDE_DIRECTION = EAST
  REFERENCE_LATITUDE = "N/A"
  REFERENCE_LONGITUDE = "N/A"
  SAMPLE_FIRST_PIXEL = 1
  SAMPLE_LAST_PIXEL = 2661
  SAMPLE_PROJECTION_OFFSET = 1742.875
  SECOND_STANDARD_PARALLEL = "N/A"
  WESTERNMOST_LONGITUDE = 345.036
END_OBJECT = IMAGE_MAP_PROJECTION
/* The JPEG2000 image data file associated with this label. */
OBJECT = COMPRESSED_FILE
  FILE_NAME = "H4079_0000_RE3.JP2"
  RECORD_TYPE = UNDEFINED
  FILE_RECORDS = UNK
  ENCODING_TYPE = "JP2"
  INTERCHANGE_FORMAT = BINARY
  UNCOMPRESSED_FILE_NAME = "H4079_0000_RE3.IMG"
  REQUIRED_STORAGE_BYTES = "36083160"
  ^DESCRIPTION = "JP2INFO.TXT"
END_OBJECT = COMPRESSED_FILE
END
