PDS_VERSION_ID = PDS3
/* FILE DATA ELEMENTS */
RECORD_TYPE = STREAM
/* POINTERS TO DATA OBJECTS */
^COMPRESSED_FILE = "H4080_0000_ND3.JP2"
/* IDENTIFICATION DATA ELEMENTS */
DATA_SET_ID = "MEX-M-HRSC-5-REFDR-MAPPROJECTED-V3.0"
DATA_SET_NAME = "MARS EXPRESS HRSC MAP PROJECTED REFDR V3.0"
DETECTOR_ID = MEX_HRSC_NADIR
EVENT_TYPE = "MARS-REGIONAL-MAPPING-Vo-Te-Im"
INSTRUMENT_HOST_ID = MEX
INSTRUMENT_HOST_NAME = "MARS EXPRESS"
INSTRUMENT_ID = HRSC
INSTRUMENT_NAME = "HIGH RESOLUTION STEREO CAMERA"
MISSION_NAME = "MARS EXPRESS"
MISSION_PHASE_NAME = ME_Phase_7
PROCESSING_LEVEL_ID = 3
PRODUCT_CREATION_TIME = 2016-04-19T05:18:48.000Z
PRODUCT_ID = "H4080_0000_ND3.JP2"
RELEASE_ID = 0045
REVISION_ID = 0000
/* QUALITY DATA ELEMENTS */
DATA_QUALITY_ID = 1
DATA_QUALITY_DESC = "Data calculated based on original SPICE kernels"
/* TIME DATA ELEMENTS */
SPACECRAFT_CLOCK_START_COUNT = "1/0121662954.09071"
SPACECRAFT_CLOCK_STOP_COUNT = "1/0121663298.05992"
START_TIME = 2007-03-11T03:17:16.247Z
STOP_TIME = 2007-03-11T03:21:00.209Z
/* ORBITAL DATA ELEMENTS */
ASCENDING_NODE_LONGITUDE = 142.82
MAXIMUM_RESOLUTION = 17.7
FOOTPRINT_POINT_LATITUDE = (-39.1252,-39.1205,-39.1156,-39.1072, -39.095,-39.0845,-38.7843,-38.334, -38.0368,-37.5948,-37.3009,-37.0108, -36.7214,-36.435,-36.1496,-35.8669, -35.5853,-35.3063,-35.0281,-34.753, -34.4777,-34.2066,-33.7952,-33.5277, -33.2597,-32.9963,-32.7324,-32.341, -32.081,-31.6954,-31.4395,-31.185, -30.8072,-30.5554,-30.3078,-30.0599, -29.8125,-29.5691,-29.3252,-29.0816, -28.8422,-28.6024,-28.2446,-28.0093, -27.7736,-27.538,-27.3071,-27.0757, -26.6146,-26.1606,-26.0256,-26.0287, -26.0303,-26.0313,-26.2591,-26.7135, -26.9454,-27.293,-27.5243,-27.8778, -28.1138,-28.3493,-28.5895,-28.8297, -29.0695,-29.313,-29.5574,-29.8014, -30.0487,-30.2972,-30.5453,-30.797, -31.0495,-31.4301,-31.6868,-31.9428, -32.2032,-32.5937,-32.8579,-33.2542, -33.5223,-33.7905,-34.0612,-34.3388, -34.7502,-35.0261,-35.3048,-35.5846, -35.8667,-36.1504,-36.4362,-36.7236, -37.0136,-37.3047,-37.599,-37.8937, -38.192,-38.4906,-38.793,-39.1252)
FOOTPRINT_POINT_LONGITUDE = (249.391,248.749,248.33,247.8,247.214, 246.827,246.852,246.89,246.915,246.952, 246.973,246.992,247.013,247.034,247.053 ,247.073,247.092,247.11,247.128,247.146 ,247.163,247.18,247.206,247.222,247.237 ,247.252,247.267,247.288,247.302, 247.324,247.339,247.351,247.368,247.379 ,247.391,247.402,247.414,247.425, 247.437,247.448,247.458,247.467,247.482 ,247.491,247.501,247.51,247.519,247.528 ,247.545,247.561,247.804,248.211, 248.534,249.009,249.294,249.305,249.31, 249.319,249.325,249.334,249.34,249.346, 249.352,249.358,249.365,249.371,249.378 ,249.385,249.391,249.397,249.404, 249.411,249.418,249.429,249.434,249.444 ,249.452,249.462,249.468,249.482, 249.492,249.5,249.509,249.517,249.53, 249.539,249.547,249.557,249.567,249.576 ,249.587,249.596,249.606,249.616, 249.627,249.637,249.647,249.659,249.669 ,249.391)
ORBIT_NUMBER = 4080
ORBITAL_ECCENTRICITY = 0.571
ORBITAL_INCLINATION = 86.67
ORBITAL_SEMIMAJOR_AXIS = 8639.45
PERIAPSIS_ALTITUDE = 308.41
PERIAPSIS_ARGUMENT_ANGLE = 359.48
PERIAPSIS_TIME = 2007-03-11T03:27:38.000Z
SPACECRAFT_ORIENTATION = (0.0,1.0,0.0)
^MEX_ORIENTATION_DESC = "MEX_ORIENTATION_DESC.TXT"
SPACECRAFT_POINTING_MODE = NADIR
^MEX_POINTING_DESC = "MEX_POINTING_DESC.TXT"
RIGHT_ASCENSION = -1e+32
DECLINATION = -1e+32
OFFSET_ANGLE = -1e+32
SPACECRAFT_SOLAR_DISTANCE = 2.13915e+08
TARGET_NAME = MARS
/* CAMERA DATA ELEMENTS */
DETECTOR_TEMPERATURE = 18.3705
FOCAL_PLANE_TEMPERATURE = 8.1755
INST_CMPRS_NAME = "DISCRETE COSINE TRANSFORMATION (DCT)"
INST_CMPRS_RATIO = 7.87449
INST_CMPRS_QUALITY = 0
INST_CMPRS_QUANTZ_TBL_ID = 0
INSTRUMENT_TEMPERATURE = 11.234
LENS_TEMPERATURE = 8.5833
MACROPIXEL_SIZE = 1
MISSING_FRAMES = 2
PIXEL_SUBSAMPLING_FLAG = N
SIGNAL_CHAIN_ID = 0
/* RADIOMETRIC DATA ELEMENTS */
BANDWIDTH = 177.0
CENTER_FILTER_WAVELENGTH = 677.5
RADIANCE_OFFSET = 1.20505
RADIANCE_SCALING_FACTOR = 0.0111803
REFLECTANCE_SCALING_FACTOR = 0.000271783
MEX:REFLECTANCE_OFFSET = 0.0292938
/* IMAGE OBJECT DEFINITIONS */
OBJECT = IMAGE
  INTERCHANGE_FORMAT = BINARY
  LINES = 62140
  LINE_SAMPLES = 10792
  SAMPLE_TYPE = UNSIGNED_INTEGER
  SAMPLE_BITS = 8
  BANDS = 1
  BAND_STORAGE_TYPE = BAND_SEQUENTIAL
  MAXIMUM = 255
  MEAN = 77.4653
  MINIMUM = 1
  STANDARD_DEVIATION = 25.0756
END_OBJECT = IMAGE
/* MAP OBJECT DEFINITIONS */
OBJECT = IMAGE_MAP_PROJECTION
  ^DATA_SET_MAP_PROJECTION_CATALOG= "DSMAP.CAT"
  A_AXIS_RADIUS = 3396.0
  B_AXIS_RADIUS = 3396.0
  C_AXIS_RADIUS = 3396.0
  CENTER_LATITUDE = 0.0
  CENTER_LONGITUDE = 248.0
  COORDINATE_SYSTEM_NAME = PLANETOGRAPHIC
  COORDINATE_SYSTEM_TYPE = "BODY-FIXED ROTATING"
  EASTERNMOST_LONGITUDE = 249.669
  FIRST_STANDARD_PARALLEL = "N/A"
  LINE_FIRST_PIXEL = 1
  LINE_LAST_PIXEL = 62140
  LINE_PROJECTION_OFFSET = -123386.0
  MAP_PROJECTION_ROTATION = 0.0
  MAP_PROJECTION_TYPE = SINUSOIDAL
  MAP_RESOLUTION = 4741.71043093333
  MAP_SCALE = 0.0125
  MAXIMUM_LATITUDE = -26.0256
  MINIMUM_LATITUDE = -39.1252
  POSITIVE_LONGITUDE_DIRECTION = EAST
  REFERENCE_LATITUDE = "N/A"
  REFERENCE_LONGITUDE = "N/A"
  SAMPLE_FIRST_PIXEL = 1
  SAMPLE_LAST_PIXEL = 10792
  SAMPLE_PROJECTION_OFFSET = 4454.0
  SECOND_STANDARD_PARALLEL = "N/A"
  WESTERNMOST_LONGITUDE = 246.827
END_OBJECT = IMAGE_MAP_PROJECTION
/* The JPEG2000 image data file associated with this label. */
OBJECT = COMPRESSED_FILE
  FILE_NAME = "H4080_0000_ND3.JP2"
  RECORD_TYPE = UNDEFINED
  FILE_RECORDS = UNK
  ENCODING_TYPE = "JP2"
  INTERCHANGE_FORMAT = BINARY
  UNCOMPRESSED_FILE_NAME = "H4080_0000_ND3.IMG"
  REQUIRED_STORAGE_BYTES = "670647256"
  ^DESCRIPTION = "JP2INFO.TXT"
END_OBJECT = COMPRESSED_FILE
END
