PDS_VERSION_ID = PDS3
/* FILE DATA ELEMENTS */
RECORD_TYPE = STREAM
/* POINTERS TO DATA OBJECTS */
^COMPRESSED_FILE = "H4087_0000_IR3.JP2"
/* IDENTIFICATION DATA ELEMENTS */
DATA_SET_ID = "MEX-M-HRSC-5-REFDR-MAPPROJECTED-V3.0"
DATA_SET_NAME = "MARS EXPRESS HRSC MAP PROJECTED REFDR V3.0"
DETECTOR_ID = MEX_HRSC_IR
EVENT_TYPE = "MARS-REGIONAL-MAPPING-Vo-Te-Fl"
INSTRUMENT_HOST_ID = MEX
INSTRUMENT_HOST_NAME = "MARS EXPRESS"
INSTRUMENT_ID = HRSC
INSTRUMENT_NAME = "HIGH RESOLUTION STEREO CAMERA"
MISSION_NAME = "MARS EXPRESS"
MISSION_PHASE_NAME = ME_Phase_7
PROCESSING_LEVEL_ID = 3
PRODUCT_CREATION_TIME = 2016-04-19T06:03:05.000Z
PRODUCT_ID = "H4087_0000_IR3.JP2"
RELEASE_ID = 0046
REVISION_ID = 0000
/* QUALITY DATA ELEMENTS */
DATA_QUALITY_ID = 1
DATA_QUALITY_DESC = "Data calculated based on original SPICE kernels"
/* TIME DATA ELEMENTS */
SPACECRAFT_CLOCK_START_COUNT = "1/0121832285.07294"
SPACECRAFT_CLOCK_STOP_COUNT = "1/0121832697.05980"
START_TIME = 2007-03-13T02:20:16.336Z
STOP_TIME = 2007-03-13T02:24:53.443Z
/* ORBITAL DATA ELEMENTS */
ASCENDING_NODE_LONGITUDE = 142.67
MAXIMUM_RESOLUTION = 63.7
FOOTPRINT_POINT_LATITUDE = (-39.962,-39.9612,-39.9593,-39.9567, -39.9533,-39.949,-39.9596,-39.5254, -39.0966,-38.6743,-38.2551,-37.8414, -37.4328,-37.0271,-36.6264,-36.2283, -35.8336,-35.444,-34.8625,-34.4818, -34.103,-33.5404,-32.9866,-32.6201, -32.259,-31.7193,-31.3657,-31.0115, -30.664,-30.3163,-29.8016,-29.4606, -28.9549,-28.6214,-28.2879,-27.9618, -27.6349,-27.1485,-26.8288,-26.509, -26.1911,-25.8791,-25.5665,-25.0998, -24.7951,-24.4901,-24.1851,-23.8797, -23.5734,-23.2679,-22.9614,-22.5016, -22.2939,-22.2871,-22.2824,-22.5897, -22.8967,-23.2031,-23.6621,-23.9683, -24.2743,-24.5798,-25.0383,-25.5042, -25.8173,-26.13,-26.4469,-26.7668, -27.2468,-27.5721,-27.8971,-28.2236, -28.5582,-28.8936,-29.3994,-29.7409, -30.0817,-30.4284,-30.9483,-31.3011, -31.655,-32.1967,-32.5593,-33.1124, -33.4791,-33.8552,-34.2308,-34.6175, -34.9935,-35.3857,-35.9734,-36.5702, -36.9723,-37.3814,-37.7907,-38.2069, -38.6309,-39.0552,-39.4835,-39.962)
FOOTPRINT_POINT_LONGITUDE = (280.892,280.526,280.134,279.741, 279.347,278.951,278.459,278.498,278.536 ,278.571,278.605,278.637,278.668, 278.697,278.726,278.753,278.78,278.805, 278.844,278.867,278.89,278.923,278.955, 278.975,278.994,279.023,279.04,279.058, 279.075,279.091,279.115,279.13,279.153, 279.167,279.181,279.194,279.207,279.225 ,279.238,279.25,279.261,279.272,279.283 ,279.299,279.308,279.318,279.327, 279.337,279.346,279.355,279.364,279.376 ,279.911,280.408,280.825,280.829, 280.833,280.838,280.844,280.848,280.852 ,280.857,280.863,280.87,280.875,280.879 ,280.884,280.889,280.896,280.901, 280.905,280.91,280.916,280.921,280.929, 280.935,280.94,280.946,280.954,280.959, 280.965,280.974,280.98,280.99,280.996, 281.002,281.009,281.017,281.022,281.029 ,281.04,281.051,281.058,281.066,281.074 ,281.081,281.091,281.099,281.108, 280.892)
ORBIT_NUMBER = 4087
ORBITAL_ECCENTRICITY = 0.571
ORBITAL_INCLINATION = 86.67
ORBITAL_SEMIMAJOR_AXIS = 8631.2
PERIAPSIS_ALTITUDE = 307.95
PERIAPSIS_ARGUMENT_ANGLE = 358.26
PERIAPSIS_TIME = 2007-03-13T02:29:42.000Z
SPACECRAFT_ORIENTATION = (0.0,1.0,0.0)
^MEX_ORIENTATION_DESC = "MEX_ORIENTATION_DESC.TXT"
SPACECRAFT_POINTING_MODE = ACROSSTRACK
^MEX_POINTING_DESC = "MEX_POINTING_DESC.TXT"
RIGHT_ASCENSION = -1e+32
DECLINATION = -1e+32
OFFSET_ANGLE = 0.4
SPACECRAFT_SOLAR_DISTANCE = 2.13611e+08
TARGET_NAME = MARS
/* CAMERA DATA ELEMENTS */
DETECTOR_TEMPERATURE = 17.351
FOCAL_PLANE_TEMPERATURE = 7.9716
INST_CMPRS_NAME = "DISCRETE COSINE TRANSFORMATION (DCT)"
INST_CMPRS_RATIO = 9.24903
INST_CMPRS_QUALITY = 0
INST_CMPRS_QUANTZ_TBL_ID = 0
INSTRUMENT_TEMPERATURE = 11.4379
LENS_TEMPERATURE = 8.7872
MACROPIXEL_SIZE = 4
MISSING_FRAMES = 0
PIXEL_SUBSAMPLING_FLAG = N
SIGNAL_CHAIN_ID = 2
/* RADIOMETRIC DATA ELEMENTS */
BANDWIDTH = 81.0
CENTER_FILTER_WAVELENGTH = 955.5
RADIANCE_OFFSET = 0.304921
RADIANCE_SCALING_FACTOR = 0.002188
REFLECTANCE_SCALING_FACTOR = 0.000215392
MEX:REFLECTANCE_OFFSET = 0.0300171
/* IMAGE OBJECT DEFINITIONS */
OBJECT = IMAGE
  INTERCHANGE_FORMAT = BINARY
  LINES = 21009
  LINE_SAMPLES = 2660
  SAMPLE_TYPE = UNSIGNED_INTEGER
  SAMPLE_BITS = 8
  BANDS = 1
  BAND_STORAGE_TYPE = BAND_SEQUENTIAL
  MAXIMUM = 255
  MEAN = 85.5336
  MINIMUM = 1
  STANDARD_DEVIATION = 22.3151
END_OBJECT = IMAGE
/* MAP OBJECT DEFINITIONS */
OBJECT = IMAGE_MAP_PROJECTION
  ^DATA_SET_MAP_PROJECTION_CATALOG= "DSMAP.CAT"
  A_AXIS_RADIUS = 3396.0
  B_AXIS_RADIUS = 3396.0
  C_AXIS_RADIUS = 3396.0
  CENTER_LATITUDE = 0.0
  CENTER_LONGITUDE = 280.0
  COORDINATE_SYSTEM_NAME = PLANETOGRAPHIC
  COORDINATE_SYSTEM_TYPE = "BODY-FIXED ROTATING"
  EASTERNMOST_LONGITUDE = 281.108
  FIRST_STANDARD_PARALLEL = "N/A"
  LINE_FIRST_PIXEL = 1
  LINE_LAST_PIXEL = 21009
  LINE_PROJECTION_OFFSET = -26438.125
  MAP_PROJECTION_ROTATION = 0.0
  MAP_PROJECTION_TYPE = SINUSOIDAL
  MAP_RESOLUTION = 1185.42760773333
  MAP_SCALE = 0.05
  MAXIMUM_LATITUDE = -22.2824
  MINIMUM_LATITUDE = -39.962
  POSITIVE_LONGITUDE_DIRECTION = EAST
  REFERENCE_LATITUDE = "N/A"
  REFERENCE_LONGITUDE = "N/A"
  SAMPLE_FIRST_PIXEL = 1
  SAMPLE_LAST_PIXEL = 2660
  SAMPLE_PROJECTION_OFFSET = 1529.875
  SECOND_STANDARD_PARALLEL = "N/A"
  WESTERNMOST_LONGITUDE = 278.459
END_OBJECT = IMAGE_MAP_PROJECTION
/* The JPEG2000 image data file associated with this label. */
OBJECT = COMPRESSED_FILE
  FILE_NAME = "H4087_0000_IR3.JP2"
  RECORD_TYPE = UNDEFINED
  FILE_RECORDS = UNK
  ENCODING_TYPE = "JP2"
  INTERCHANGE_FORMAT = BINARY
  UNCOMPRESSED_FILE_NAME = "H4087_0000_IR3.IMG"
  REQUIRED_STORAGE_BYTES = "55905220"
  ^DESCRIPTION = "JP2INFO.TXT"
END_OBJECT = COMPRESSED_FILE
END
