PDS_VERSION_ID = PDS3
/* FILE DATA ELEMENTS */
RECORD_TYPE = STREAM
/* POINTERS TO DATA OBJECTS */
^COMPRESSED_FILE = "H4092_0000_GR3.JP2"
/* IDENTIFICATION DATA ELEMENTS */
DATA_SET_ID = "MEX-M-HRSC-5-REFDR-MAPPROJECTED-V3.0"
DATA_SET_NAME = "MARS EXPRESS HRSC MAP PROJECTED REFDR V3.0"
DETECTOR_ID = MEX_HRSC_GREEN
EVENT_TYPE = "MARS-REGIONAL-MAPPING-Im-Fl-Mw"
INSTRUMENT_HOST_ID = MEX
INSTRUMENT_HOST_NAME = "MARS EXPRESS"
INSTRUMENT_ID = HRSC
INSTRUMENT_NAME = "HIGH RESOLUTION STEREO CAMERA"
MISSION_NAME = "MARS EXPRESS"
MISSION_PHASE_NAME = ME_Phase_7
PROCESSING_LEVEL_ID = 3
PRODUCT_CREATION_TIME = 2016-04-19T06:03:05.000Z
PRODUCT_ID = "H4092_0000_GR3.JP2"
RELEASE_ID = 0046
REVISION_ID = 0000
/* QUALITY DATA ELEMENTS */
DATA_QUALITY_ID = 1
DATA_QUALITY_DESC = "Data calculated based on original SPICE kernels"
/* TIME DATA ELEMENTS */
SPACECRAFT_CLOCK_START_COUNT = "1/0121953343.08411"
SPACECRAFT_CLOCK_STOP_COUNT = "1/0121953668.25504"
START_TIME = 2007-03-14T11:56:56.989Z
STOP_TIME = 2007-03-14T12:00:42.858Z
/* ORBITAL DATA ELEMENTS */
ASCENDING_NODE_LONGITUDE = 142.57
MAXIMUM_RESOLUTION = 60.4
FOOTPRINT_POINT_LATITUDE = (-34.982,-34.9803,-34.9778,-34.9744, -34.9702,-34.9657,-34.6435,-34.1648, -33.6894,-33.3779,-32.9117,-32.6049, -32.2981,-31.8456,-31.5436,-31.2473, -30.9507,-30.6558,-30.219,-29.9279, -29.6422,-29.356,-28.9303,-28.5004, -28.2194,-27.9449,-27.6695,-27.2574, -26.9878,-26.7178,-26.4475,-26.1813, -25.9168,-25.6519,-25.3871,-25.1283, -24.7403,-24.4811,-24.2238,-23.9708, -23.7177,-23.4642,-23.2107,-22.9568, -22.7025,-22.4479,-22.1931,-21.938, -21.6826,-21.4271,-21.1713,-21.0116, -21.0139,-21.0148,-21.0162,-21.2724, -21.5282,-21.7838,-22.0394,-22.2943, -22.6766,-22.9311,-23.1853,-23.4392, -23.6927,-24.0728,-24.3259,-24.5849, -24.8443,-25.1031,-25.3617,-25.6262, -25.8914,-26.1554,-26.5559,-26.8264, -27.0965,-27.5058,-27.7819,-28.0565, -28.4737,-28.9042,-29.3303,-29.6171, -29.9036,-30.1946,-30.4865,-30.7787, -31.2239,-31.5209,-31.9732,-32.2752, -32.5825,-32.889,-33.3563,-33.6682, -34.1429,-34.4605,-34.9447,-34.982)
FOOTPRINT_POINT_LONGITUDE = (150.587,150.251,149.916,149.584, 149.253,148.73,148.746,148.77,148.793, 148.807,148.828,148.841,148.854,148.873 ,148.885,148.897,148.909,148.92,148.936 ,148.946,148.957,148.966,148.981, 148.995,149.004,149.012,149.02,149.033, 149.04,149.048,149.055,149.063,149.07, 149.077,149.083,149.09,149.099,149.105, 149.111,149.117,149.122,149.128,149.133 ,149.138,149.143,149.148,149.153, 149.158,149.163,149.167,149.171,149.538 ,150.013,150.32,150.595,150.601,150.606 ,150.611,150.618,150.623,150.632, 150.637,150.643,150.649,150.654,150.663 ,150.67,150.674,150.681,150.687,150.693 ,150.699,150.708,150.712,150.723,150.73 ,150.738,150.752,150.761,150.764, 150.774,150.786,150.801,150.811,150.82, 150.83,150.839,150.852,150.862,150.872, 150.885,150.894,150.906,150.913,150.933 ,150.942,150.957,150.969,150.986, 150.587)
ORBIT_NUMBER = 4092
ORBITAL_ECCENTRICITY = 0.57
ORBITAL_INCLINATION = 86.67
ORBITAL_SEMIMAJOR_AXIS = 8623.25
PERIAPSIS_ALTITUDE = 308.08
PERIAPSIS_ARGUMENT_ANGLE = 357.39
PERIAPSIS_TIME = 2007-03-14T12:05:21.000Z
SPACECRAFT_ORIENTATION = (0.0,1.0,0.0)
^MEX_ORIENTATION_DESC = "MEX_ORIENTATION_DESC.TXT"
SPACECRAFT_POINTING_MODE = ACROSSTRACK
^MEX_POINTING_DESC = "MEX_POINTING_DESC.TXT"
RIGHT_ASCENSION = -1e+32
DECLINATION = -1e+32
OFFSET_ANGLE = -0.6
SPACECRAFT_SOLAR_DISTANCE = 2.13398e+08
TARGET_NAME = MARS
/* CAMERA DATA ELEMENTS */
DETECTOR_TEMPERATURE = 18.3705
FOCAL_PLANE_TEMPERATURE = 8.1755
INST_CMPRS_NAME = "DISCRETE COSINE TRANSFORMATION (DCT)"
INST_CMPRS_RATIO = 7.13578
INST_CMPRS_QUALITY = 0
INST_CMPRS_QUANTZ_TBL_ID = 0
INSTRUMENT_TEMPERATURE = 11.4379
LENS_TEMPERATURE = 8.7872
MACROPIXEL_SIZE = 4
MISSING_FRAMES = 1
PIXEL_SUBSAMPLING_FLAG = N
SIGNAL_CHAIN_ID = 2
/* RADIOMETRIC DATA ELEMENTS */
BANDWIDTH = 88.0
CENTER_FILTER_WAVELENGTH = 538.0
RADIANCE_OFFSET = 0.675241
RADIANCE_SCALING_FACTOR = 0.00257012
REFLECTANCE_SCALING_FACTOR = 0.000100769
MEX:REFLECTANCE_OFFSET = 0.0264748
/* IMAGE OBJECT DEFINITIONS */
OBJECT = IMAGE
  INTERCHANGE_FORMAT = BINARY
  LINES = 16571
  LINE_SAMPLES = 2302
  SAMPLE_TYPE = UNSIGNED_INTEGER
  SAMPLE_BITS = 8
  BANDS = 1
  BAND_STORAGE_TYPE = BAND_SEQUENTIAL
  MAXIMUM = 255
  MEAN = 95.8739
  MINIMUM = 1
  STANDARD_DEVIATION = 25.0825
END_OBJECT = IMAGE
/* MAP OBJECT DEFINITIONS */
OBJECT = IMAGE_MAP_PROJECTION
  ^DATA_SET_MAP_PROJECTION_CATALOG= "DSMAP.CAT"
  A_AXIS_RADIUS = 3396.0
  B_AXIS_RADIUS = 3396.0
  C_AXIS_RADIUS = 3396.0
  CENTER_LATITUDE = 0.0
  CENTER_LONGITUDE = 150.0
  COORDINATE_SYSTEM_NAME = PLANETOGRAPHIC
  COORDINATE_SYSTEM_TYPE = "BODY-FIXED ROTATING"
  EASTERNMOST_LONGITUDE = 150.986
  FIRST_STANDARD_PARALLEL = "N/A"
  LINE_FIRST_PIXEL = 1
  LINE_LAST_PIXEL = 16571
  LINE_PROJECTION_OFFSET = -24915.125
  MAP_PROJECTION_ROTATION = 0.0
  MAP_PROJECTION_TYPE = SINUSOIDAL
  MAP_RESOLUTION = 1185.42760773333
  MAP_SCALE = 0.05
  MAXIMUM_LATITUDE = -21.0116
  MINIMUM_LATITUDE = -34.982
  POSITIVE_LONGITUDE_DIRECTION = EAST
  REFERENCE_LATITUDE = "N/A"
  REFERENCE_LONGITUDE = "N/A"
  SAMPLE_FIRST_PIXEL = 1
  SAMPLE_LAST_PIXEL = 2302
  SAMPLE_PROJECTION_OFFSET = 1274.625
  SECOND_STANDARD_PARALLEL = "N/A"
  WESTERNMOST_LONGITUDE = 148.73
END_OBJECT = IMAGE_MAP_PROJECTION
/* The JPEG2000 image data file associated with this label. */
OBJECT = COMPRESSED_FILE
  FILE_NAME = "H4092_0000_GR3.JP2"
  RECORD_TYPE = UNDEFINED
  FILE_RECORDS = UNK
  ENCODING_TYPE = "JP2"
  INTERCHANGE_FORMAT = BINARY
  UNCOMPRESSED_FILE_NAME = "H4092_0000_GR3.IMG"
  REQUIRED_STORAGE_BYTES = "38169462"
  ^DESCRIPTION = "JP2INFO.TXT"
END_OBJECT = COMPRESSED_FILE
END
