PDS_VERSION_ID = PDS3
/* FILE DATA ELEMENTS */
RECORD_TYPE = STREAM
/* POINTERS TO DATA OBJECTS */
^COMPRESSED_FILE = "H4092_0000_IR3.JP2"
/* IDENTIFICATION DATA ELEMENTS */
DATA_SET_ID = "MEX-M-HRSC-5-REFDR-MAPPROJECTED-V3.0"
DATA_SET_NAME = "MARS EXPRESS HRSC MAP PROJECTED REFDR V3.0"
DETECTOR_ID = MEX_HRSC_IR
EVENT_TYPE = "MARS-REGIONAL-MAPPING-Im-Fl-Mw"
INSTRUMENT_HOST_ID = MEX
INSTRUMENT_HOST_NAME = "MARS EXPRESS"
INSTRUMENT_ID = HRSC
INSTRUMENT_NAME = "HIGH RESOLUTION STEREO CAMERA"
MISSION_NAME = "MARS EXPRESS"
MISSION_PHASE_NAME = ME_Phase_7
PROCESSING_LEVEL_ID = 3
PRODUCT_CREATION_TIME = 2016-04-19T06:03:05.000Z
PRODUCT_ID = "H4092_0000_IR3.JP2"
RELEASE_ID = 0046
REVISION_ID = 0000
/* QUALITY DATA ELEMENTS */
DATA_QUALITY_ID = 1
DATA_QUALITY_DESC = "Data calculated based on original SPICE kernels"
/* TIME DATA ELEMENTS */
SPACECRAFT_CLOCK_START_COUNT = "1/0121953343.08411"
SPACECRAFT_CLOCK_STOP_COUNT = "1/0121953668.25504"
START_TIME = 2007-03-14T11:57:29.509Z
STOP_TIME = 2007-03-14T12:01:04.960Z
/* ORBITAL DATA ELEMENTS */
ASCENDING_NODE_LONGITUDE = 142.57
MAXIMUM_RESOLUTION = 61.4
FOOTPRINT_POINT_LATITUDE = (-34.9622,-34.9551,-34.9477,-34.9398, -34.9491,-34.6318,-34.1558,-33.8431, -33.3762,-33.0701,-32.7638,-32.4611, -32.1615,-31.8621,-31.5657,-31.2716, -30.978,-30.6875,-30.3997,-30.1112, -29.8256,-29.5439,-29.2616,-28.9788, -28.7046,-28.4277,-28.0134,-27.7435, -27.4734,-27.2031,-26.8014,-26.5376, -26.2728,-26.0052,-25.7432,-25.4846, -25.2269,-24.9681,-24.712,-24.4536, -24.185,-23.9261,-23.6675,-23.4088, -23.1509,-22.8929,-22.6336,-22.3736, -22.1141,-21.8542,-21.5938,-21.334, -20.9997,-21.0133,-21.0249,-21.0348, -21.2955,-21.5558,-21.8157,-22.2052, -22.4656,-22.8552,-23.1148,-23.374, -23.6317,-24.0184,-24.4172,-24.804, -25.1898,-25.4474,-25.7049,-25.9644, -26.2283,-26.6248,-27.0207,-27.2957, -27.7042,-27.9734,-28.2444,-28.6561, -28.9321,-29.2141,-29.499,-29.9265, -30.2151,-30.5045,-30.9385,-31.2323, -31.6727,-31.9705,-32.2726,-32.7218, -33.0267,-33.3379,-33.647,-33.9573, -34.2701,-34.5887,-34.9066,-34.9622)
FOOTPRINT_POINT_LONGITUDE = (150.339,150.018,149.699,149.383, 148.784,148.798,148.82,148.834,148.854, 148.867,148.88,148.892,148.903,148.915, 148.926,148.937,148.947,148.957,148.967 ,148.977,148.986,148.995,149.004, 149.013,149.021,149.029,149.041,149.049 ,149.056,149.064,149.074,149.081, 149.088,149.094,149.101,149.107,149.113 ,149.118,149.124,149.129,149.135,149.14 ,149.146,149.151,149.155,149.16,149.165 ,149.17,149.174,149.178,149.183,149.187 ,149.293,149.792,150.235,150.582, 150.587,150.593,150.598,150.606,150.612 ,150.62,150.626,150.631,150.636,150.643 ,150.654,150.662,150.67,150.675,150.681 ,150.687,150.693,150.703,150.712, 150.722,150.735,150.741,150.745,150.753 ,150.76,150.769,150.778,150.793,150.802 ,150.811,150.823,150.831,150.843, 150.851,150.861,150.873,150.881,150.894 ,150.903,150.911,150.922,150.932, 150.943,150.339)
ORBIT_NUMBER = 4092
ORBITAL_ECCENTRICITY = 0.57
ORBITAL_INCLINATION = 86.67
ORBITAL_SEMIMAJOR_AXIS = 8623.25
PERIAPSIS_ALTITUDE = 308.08
PERIAPSIS_ARGUMENT_ANGLE = 357.39
PERIAPSIS_TIME = 2007-03-14T12:05:21.000Z
SPACECRAFT_ORIENTATION = (0.0,1.0,0.0)
^MEX_ORIENTATION_DESC = "MEX_ORIENTATION_DESC.TXT"
SPACECRAFT_POINTING_MODE = ACROSSTRACK
^MEX_POINTING_DESC = "MEX_POINTING_DESC.TXT"
RIGHT_ASCENSION = -1e+32
DECLINATION = -1e+32
OFFSET_ANGLE = -0.6
SPACECRAFT_SOLAR_DISTANCE = 2.13398e+08
TARGET_NAME = MARS
/* CAMERA DATA ELEMENTS */
DETECTOR_TEMPERATURE = 18.3705
FOCAL_PLANE_TEMPERATURE = 8.1755
INST_CMPRS_NAME = "DISCRETE COSINE TRANSFORMATION (DCT)"
INST_CMPRS_RATIO = 7.23767
INST_CMPRS_QUALITY = 0
INST_CMPRS_QUANTZ_TBL_ID = 0
INSTRUMENT_TEMPERATURE = 11.4379
LENS_TEMPERATURE = 8.7872
MACROPIXEL_SIZE = 4
MISSING_FRAMES = 1
PIXEL_SUBSAMPLING_FLAG = N
SIGNAL_CHAIN_ID = 2
/* RADIOMETRIC DATA ELEMENTS */
BANDWIDTH = 81.0
CENTER_FILTER_WAVELENGTH = 955.5
RADIANCE_OFFSET = 0.289878
RADIANCE_SCALING_FACTOR = 0.0020462
REFLECTANCE_SCALING_FACTOR = 0.000201029
MEX:REFLECTANCE_OFFSET = 0.0284791
/* IMAGE OBJECT DEFINITIONS */
OBJECT = IMAGE
  INTERCHANGE_FORMAT = BINARY
  LINES = 16571
  LINE_SAMPLES = 2302
  SAMPLE_TYPE = UNSIGNED_INTEGER
  SAMPLE_BITS = 8
  BANDS = 1
  BAND_STORAGE_TYPE = BAND_SEQUENTIAL
  MAXIMUM = 255
  MEAN = 84.5342
  MINIMUM = 1
  STANDARD_DEVIATION = 24.3688
END_OBJECT = IMAGE
/* MAP OBJECT DEFINITIONS */
OBJECT = IMAGE_MAP_PROJECTION
  ^DATA_SET_MAP_PROJECTION_CATALOG= "DSMAP.CAT"
  A_AXIS_RADIUS = 3396.0
  B_AXIS_RADIUS = 3396.0
  C_AXIS_RADIUS = 3396.0
  CENTER_LATITUDE = 0.0
  CENTER_LONGITUDE = 150.0
  COORDINATE_SYSTEM_NAME = PLANETOGRAPHIC
  COORDINATE_SYSTEM_TYPE = "BODY-FIXED ROTATING"
  EASTERNMOST_LONGITUDE = 150.943
  FIRST_STANDARD_PARALLEL = "N/A"
  LINE_FIRST_PIXEL = 1
  LINE_LAST_PIXEL = 16571
  LINE_PROJECTION_OFFSET = -24915.125
  MAP_PROJECTION_ROTATION = 0.0
  MAP_PROJECTION_TYPE = SINUSOIDAL
  MAP_RESOLUTION = 1185.42760773333
  MAP_SCALE = 0.05
  MAXIMUM_LATITUDE = -20.9997
  MINIMUM_LATITUDE = -34.9622
  POSITIVE_LONGITUDE_DIRECTION = EAST
  REFERENCE_LATITUDE = "N/A"
  REFERENCE_LONGITUDE = "N/A"
  SAMPLE_FIRST_PIXEL = 1
  SAMPLE_LAST_PIXEL = 2302
  SAMPLE_PROJECTION_OFFSET = 1274.625
  SECOND_STANDARD_PARALLEL = "N/A"
  WESTERNMOST_LONGITUDE = 148.784
END_OBJECT = IMAGE_MAP_PROJECTION
/* The JPEG2000 image data file associated with this label. */
OBJECT = COMPRESSED_FILE
  FILE_NAME = "H4092_0000_IR3.JP2"
  RECORD_TYPE = UNDEFINED
  FILE_RECORDS = UNK
  ENCODING_TYPE = "JP2"
  INTERCHANGE_FORMAT = BINARY
  UNCOMPRESSED_FILE_NAME = "H4092_0000_IR3.IMG"
  REQUIRED_STORAGE_BYTES = "38169462"
  ^DESCRIPTION = "JP2INFO.TXT"
END_OBJECT = COMPRESSED_FILE
END
