PDS_VERSION_ID = PDS3
/* FILE DATA ELEMENTS */
RECORD_TYPE = STREAM
/* POINTERS TO DATA OBJECTS */
^COMPRESSED_FILE = "H4094_0000_BL3.JP2"
/* IDENTIFICATION DATA ELEMENTS */
DATA_SET_ID = "MEX-M-HRSC-5-REFDR-MAPPROJECTED-V3.0"
DATA_SET_NAME = "MARS EXPRESS HRSC MAP PROJECTED REFDR V3.0"
DETECTOR_ID = MEX_HRSC_BLUE
EVENT_TYPE = "MARS-REGIONAL-MAPPING-Te-Im-Fl"
INSTRUMENT_HOST_ID = MEX
INSTRUMENT_HOST_NAME = "MARS EXPRESS"
INSTRUMENT_ID = HRSC
INSTRUMENT_NAME = "HIGH RESOLUTION STEREO CAMERA"
MISSION_NAME = "MARS EXPRESS"
MISSION_PHASE_NAME = ME_Phase_7
PROCESSING_LEVEL_ID = 3
PRODUCT_CREATION_TIME = 2016-04-19T06:03:05.000Z
PRODUCT_ID = "H4094_0000_BL3.JP2"
RELEASE_ID = 0046
REVISION_ID = 0000
/* QUALITY DATA ELEMENTS */
DATA_QUALITY_ID = 1
DATA_QUALITY_DESC = "Data calculated based on original SPICE kernels"
/* TIME DATA ELEMENTS */
SPACECRAFT_CLOCK_START_COUNT = "1/0122001734.09057"
SPACECRAFT_CLOCK_STOP_COUNT = "1/0122002018.34315"
START_TIME = 2007-03-15T01:23:07.917Z
STOP_TIME = 2007-03-15T01:26:19.579Z
/* ORBITAL DATA ELEMENTS */
ASCENDING_NODE_LONGITUDE = 142.53
MAXIMUM_RESOLUTION = 127.6
FOOTPRINT_POINT_LATITUDE = (-34.5343,-34.5343,-34.5333,-34.5314, -34.5284,-34.5251,-34.2889,-33.8414, -33.5069,-33.0575,-32.6067,-32.1544, -31.9277,-31.7007,-31.4731,-31.2454, -31.0173,-30.7885,-30.5594,-30.3299, -30.1002,-29.8701,-29.6397,-29.4095, -29.1784,-28.9468,-28.7148,-28.4825, -28.2498,-28.0169,-27.7835,-27.5498, -27.3158,-27.0815,-26.847,-26.612, -26.3767,-26.1409,-25.9049,-25.6686, -25.4311,-25.1951,-24.9607,-24.7293, -24.4976,-24.2655,-24.0335,-23.807, -23.5802,-23.3531,-23.1257,-23.0163, -23.0162,-23.0153,-23.1288,-23.3564, -23.5838,-23.8109,-24.0377,-24.2701, -24.5022,-24.8501,-25.0809,-25.319, -25.6743,-25.9107,-26.1467,-26.3827, -26.6183,-26.8535,-27.0884,-27.323, -27.5572,-27.7912,-28.0249,-28.2584, -28.4915,-28.7232,-28.9564,-29.188, -29.4193,-29.6502,-29.8809,-30.1112, -30.3413,-30.571,-30.8003,-31.0292, -31.2578,-31.486,-31.7139,-31.9415, -32.1687,-32.3955,-32.622,-33.0736, -33.5239,-33.9725,-34.4186,-34.5343)
FOOTPRINT_POINT_LONGITUDE = (313.886,313.531,313.198,312.867, 312.536,312.247,311.912,311.934,311.953 ,311.976,311.998,312.019,312.03,312.04, 312.05,312.06,312.07,312.08,312.089, 312.098,312.108,312.117,312.126,312.135 ,312.144,312.153,312.161,312.169, 312.178,312.186,312.194,312.201,312.209 ,312.217,312.224,312.232,312.239, 312.246,312.253,312.26,312.266,312.273, 312.279,312.286,312.292,312.298,312.304 ,312.31,312.315,312.321,312.326,312.576 ,313.051,313.361,313.825,313.83,313.835 ,313.84,313.844,313.85,313.855,313.863, 313.872,313.875,313.884,313.89,313.896, 313.902,313.908,313.914,313.92,313.925, 313.931,313.937,313.943,313.948,313.954 ,313.962,313.966,313.973,313.979, 313.987,313.993,314.0,314.006,314.013, 314.019,314.026,314.033,314.04,314.047, 314.053,314.06,314.066,314.073,314.087, 314.101,314.115,314.132,313.886)
ORBIT_NUMBER = 4094
ORBITAL_ECCENTRICITY = 0.57
ORBITAL_INCLINATION = 86.68
ORBITAL_SEMIMAJOR_AXIS = 8621.73
PERIAPSIS_ALTITUDE = 307.91
PERIAPSIS_ARGUMENT_ANGLE = 357.02
PERIAPSIS_TIME = 2007-03-15T01:31:36.000Z
SPACECRAFT_ORIENTATION = (0.0,1.0,0.0)
^MEX_ORIENTATION_DESC = "MEX_ORIENTATION_DESC.TXT"
SPACECRAFT_POINTING_MODE = ACROSSTRACK
^MEX_POINTING_DESC = "MEX_POINTING_DESC.TXT"
RIGHT_ASCENSION = -1e+32
DECLINATION = -1e+32
OFFSET_ANGLE = -0.33
SPACECRAFT_SOLAR_DISTANCE = 2.13313e+08
TARGET_NAME = MARS
/* CAMERA DATA ELEMENTS */
DETECTOR_TEMPERATURE = 18.3705
FOCAL_PLANE_TEMPERATURE = 8.3794
INST_CMPRS_NAME = "DISCRETE COSINE TRANSFORMATION (DCT)"
INST_CMPRS_RATIO = 12.6073
INST_CMPRS_QUALITY = 0
INST_CMPRS_QUANTZ_TBL_ID = 0
INSTRUMENT_TEMPERATURE = 11.234
LENS_TEMPERATURE = 8.5833
MACROPIXEL_SIZE = 8
MISSING_FRAMES = 0
PIXEL_SUBSAMPLING_FLAG = N
SIGNAL_CHAIN_ID = 3
/* RADIOMETRIC DATA ELEMENTS */
BANDWIDTH = 76.0
CENTER_FILTER_WAVELENGTH = 444.0
RADIANCE_OFFSET = 0.397986
RADIANCE_SCALING_FACTOR = 0.000759647
REFLECTANCE_SCALING_FACTOR = 3.55147e-05
MEX:REFLECTANCE_OFFSET = 0.0186065
/* IMAGE OBJECT DEFINITIONS */
OBJECT = IMAGE
  INTERCHANGE_FORMAT = BINARY
  LINES = 6828
  LINE_SAMPLES = 1128
  SAMPLE_TYPE = UNSIGNED_INTEGER
  SAMPLE_BITS = 8
  BANDS = 1
  BAND_STORAGE_TYPE = BAND_SEQUENTIAL
  MAXIMUM = 255
  MEAN = 118.444
  MINIMUM = 1
  STANDARD_DEVIATION = 34.4478
END_OBJECT = IMAGE
/* MAP OBJECT DEFINITIONS */
OBJECT = IMAGE_MAP_PROJECTION
  ^DATA_SET_MAP_PROJECTION_CATALOG= "DSMAP.CAT"
  A_AXIS_RADIUS = 3396.0
  B_AXIS_RADIUS = 3396.0
  C_AXIS_RADIUS = 3396.0
  CENTER_LATITUDE = 0.0
  CENTER_LONGITUDE = 313.0
  COORDINATE_SYSTEM_NAME = PLANETOGRAPHIC
  COORDINATE_SYSTEM_TYPE = "BODY-FIXED ROTATING"
  EASTERNMOST_LONGITUDE = 314.132
  FIRST_STANDARD_PARALLEL = "N/A"
  LINE_FIRST_PIXEL = 1
  LINE_LAST_PIXEL = 6828
  LINE_PROJECTION_OFFSET = -13644.0625
  MAP_PROJECTION_ROTATION = 0.0
  MAP_PROJECTION_TYPE = SINUSOIDAL
  MAP_RESOLUTION = 592.713803866667
  MAP_SCALE = 0.1
  MAXIMUM_LATITUDE = -23.0153
  MINIMUM_LATITUDE = -34.5343
  POSITIVE_LONGITUDE_DIRECTION = EAST
  REFERENCE_LATITUDE = "N/A"
  REFERENCE_LONGITUDE = "N/A"
  SAMPLE_FIRST_PIXEL = 1
  SAMPLE_LAST_PIXEL = 1128
  SAMPLE_PROJECTION_OFFSET = 555.5625
  SECOND_STANDARD_PARALLEL = "N/A"
  WESTERNMOST_LONGITUDE = 311.912
END_OBJECT = IMAGE_MAP_PROJECTION
/* The JPEG2000 image data file associated with this label. */
OBJECT = COMPRESSED_FILE
  FILE_NAME = "H4094_0000_BL3.JP2"
  RECORD_TYPE = UNDEFINED
  FILE_RECORDS = UNK
  ENCODING_TYPE = "JP2"
  INTERCHANGE_FORMAT = BINARY
  UNCOMPRESSED_FILE_NAME = "H4094_0000_BL3.IMG"
  REQUIRED_STORAGE_BYTES = "7721160"
  ^DESCRIPTION = "JP2INFO.TXT"
END_OBJECT = COMPRESSED_FILE
END
