PDS_VERSION_ID = PDS3
/* FILE DATA ELEMENTS */
RECORD_TYPE = STREAM
/* POINTERS TO DATA OBJECTS */
^COMPRESSED_FILE = "H4095_0000_P13.JP2"
/* IDENTIFICATION DATA ELEMENTS */
DATA_SET_ID = "MEX-M-HRSC-5-REFDR-MAPPROJECTED-V3.0"
DATA_SET_NAME = "MARS EXPRESS HRSC MAP PROJECTED REFDR V3.0"
DETECTOR_ID = MEX_HRSC_P1
EVENT_TYPE = "MARS-REGIONAL-MAPPING-Vo-Te-Im"
INSTRUMENT_HOST_ID = MEX
INSTRUMENT_HOST_NAME = "MARS EXPRESS"
INSTRUMENT_ID = HRSC
INSTRUMENT_NAME = "HIGH RESOLUTION STEREO CAMERA"
MISSION_NAME = "MARS EXPRESS"
MISSION_PHASE_NAME = ME_Phase_7
PROCESSING_LEVEL_ID = 3
PRODUCT_CREATION_TIME = 2016-04-19T06:03:05.000Z
PRODUCT_ID = "H4095_0000_P13.JP2"
RELEASE_ID = 0046
REVISION_ID = 0000
/* QUALITY DATA ELEMENTS */
DATA_QUALITY_ID = 1
DATA_QUALITY_DESC = "Data calculated based on original SPICE kernels"
/* TIME DATA ELEMENTS */
SPACECRAFT_CLOCK_START_COUNT = "1/0122026059.08433"
SPACECRAFT_CLOCK_STOP_COUNT = "1/0122026339.06786"
START_TIME = 2007-03-15T08:08:53.704Z
STOP_TIME = 2007-03-15T08:12:11.443Z
/* ORBITAL DATA ELEMENTS */
ASCENDING_NODE_LONGITUDE = 142.51
MAXIMUM_RESOLUTION = 27
FOOTPRINT_POINT_LATITUDE = (-27.0588,-27.0632,-27.0674,-27.0713, -27.075,-27.0785,-26.9467,-26.5151, -26.2269,-25.9396,-25.6599,-25.3792, -25.0979,-24.8161,-24.534,-24.255, -23.9709,-23.5451,-23.2616,-22.9794, -22.5586,-22.1337,-21.8502,-21.5666, -21.283,-20.998,-20.7286,-20.487, -20.2483,-20.0128,-19.7758,-19.5383, -19.3032,-18.944,-18.7039,-18.4648, -18.106,-17.8667,-17.6273,-17.3878, -17.0284,-16.7887,-16.549,-16.3093, -16.0672,-15.706,-15.3479,-15.1138, -14.8855,-14.652,-14.4207,-14.188, -14.1467,-14.1361,-14.1291,-14.2378, -14.4705,-14.7032,-14.9358,-15.2846, -15.6413,-15.8815,-16.1215,-16.3616, -16.6015,-16.9614,-17.201,-17.5602, -17.9193,-18.1587,-18.398,-18.6373, -18.9963,-19.3548,-19.5938,-19.8327, -20.1909,-20.4295,-20.6679,-21.0718, -21.3564,-21.6406,-21.9246,-22.3504, -22.7755,-23.0589,-23.3414,-23.6244, -23.9069,-24.1889,-24.4716,-24.7508, -25.0338,-25.3129,-25.5971,-25.8786, -26.3108,-26.5989,-26.8863,-27.0588)
FOOTPRINT_POINT_LONGITUDE = (214.065,213.815,213.562,213.306, 213.049,212.788,212.627,212.646,212.658 ,212.669,212.678,212.689,212.7,212.71, 212.721,212.728,212.74,212.757,212.767, 212.775,212.784,212.797,212.805,212.813 ,212.82,212.829,212.839,212.849,212.856 ,212.858,212.862,212.866,212.867, 212.877,212.883,212.888,212.896,212.9, 212.905,212.91,212.917,212.921,212.925, 212.929,212.936,212.943,212.95,212.955, 212.954,212.959,212.96,212.964,213.28, 213.69,213.944,214.177,214.179,214.18, 214.182,214.184,214.187,214.188,214.19, 214.192,214.194,214.196,214.198,214.201 ,214.204,214.205,214.207,214.209, 214.212,214.215,214.217,214.219,214.222 ,214.224,214.225,214.229,214.231, 214.234,214.236,214.24,214.243,214.246, 214.248,214.251,214.253,214.256,214.258 ,214.261,214.263,214.266,214.268, 214.271,214.275,214.277,214.28,214.065)
ORBIT_NUMBER = 4095
ORBITAL_ECCENTRICITY = 0.571
ORBITAL_INCLINATION = 86.68
ORBITAL_SEMIMAJOR_AXIS = 8626.16
PERIAPSIS_ALTITUDE = 307.63
PERIAPSIS_ARGUMENT_ANGLE = 356.82
PERIAPSIS_TIME = 2007-03-15T08:14:40.000Z
SPACECRAFT_ORIENTATION = (0.0,1.0,0.0)
^MEX_ORIENTATION_DESC = "MEX_ORIENTATION_DESC.TXT"
SPACECRAFT_POINTING_MODE = ACROSSTRACK
^MEX_POINTING_DESC = "MEX_POINTING_DESC.TXT"
RIGHT_ASCENSION = -1e+32
DECLINATION = -1e+32
OFFSET_ANGLE = 0.85
SPACECRAFT_SOLAR_DISTANCE = 2.13271e+08
TARGET_NAME = MARS
/* CAMERA DATA ELEMENTS */
DETECTOR_TEMPERATURE = 17.5549
FOCAL_PLANE_TEMPERATURE = 8.1755
INST_CMPRS_NAME = "DISCRETE COSINE TRANSFORMATION (DCT)"
INST_CMPRS_RATIO = 6.04096
INST_CMPRS_QUALITY = 0
INST_CMPRS_QUANTZ_TBL_ID = 0
INSTRUMENT_TEMPERATURE = 11.234
LENS_TEMPERATURE = 8.5833
MACROPIXEL_SIZE = 2
MISSING_FRAMES = 0
PIXEL_SUBSAMPLING_FLAG = N
SIGNAL_CHAIN_ID = 3
/* RADIOMETRIC DATA ELEMENTS */
BANDWIDTH = 174.0
CENTER_FILTER_WAVELENGTH = 675.0
RADIANCE_OFFSET = 2.28256
RADIANCE_SCALING_FACTOR = 0.0155469
REFLECTANCE_SCALING_FACTOR = 0.00038036
MEX:REFLECTANCE_OFFSET = 0.0558438
/* IMAGE OBJECT DEFINITIONS */
OBJECT = IMAGE
  INTERCHANGE_FORMAT = BINARY
  LINES = 30695
  LINE_SAMPLES = 3807
  SAMPLE_TYPE = UNSIGNED_INTEGER
  SAMPLE_BITS = 8
  BANDS = 1
  BAND_STORAGE_TYPE = BAND_SEQUENTIAL
  MAXIMUM = 255
  MEAN = 82.6211
  MINIMUM = 1
  STANDARD_DEVIATION = 21.941
END_OBJECT = IMAGE
/* MAP OBJECT DEFINITIONS */
OBJECT = IMAGE_MAP_PROJECTION
  ^DATA_SET_MAP_PROJECTION_CATALOG= "DSMAP.CAT"
  A_AXIS_RADIUS = 3396.0
  B_AXIS_RADIUS = 3396.0
  C_AXIS_RADIUS = 3396.0
  CENTER_LATITUDE = 0.0
  CENTER_LONGITUDE = 214.0
  COORDINATE_SYSTEM_NAME = PLANETOGRAPHIC
  COORDINATE_SYSTEM_TYPE = "BODY-FIXED ROTATING"
  EASTERNMOST_LONGITUDE = 214.28
  FIRST_STANDARD_PARALLEL = "N/A"
  LINE_FIRST_PIXEL = 1
  LINE_LAST_PIXEL = 30695
  LINE_PROJECTION_OFFSET = -33533.75
  MAP_PROJECTION_ROTATION = 0.0
  MAP_PROJECTION_TYPE = SINUSOIDAL
  MAP_RESOLUTION = 2370.85521546667
  MAP_SCALE = 0.025
  MAXIMUM_LATITUDE = -14.1291
  MINIMUM_LATITUDE = -27.0785
  POSITIVE_LONGITUDE_DIRECTION = EAST
  REFERENCE_LATITUDE = "N/A"
  REFERENCE_LONGITUDE = "N/A"
  SAMPLE_FIRST_PIXEL = 1
  SAMPLE_LAST_PIXEL = 3807
  SAMPLE_PROJECTION_OFFSET = 3146.25
  SECOND_STANDARD_PARALLEL = "N/A"
  WESTERNMOST_LONGITUDE = 212.627
END_OBJECT = IMAGE_MAP_PROJECTION
/* The JPEG2000 image data file associated with this label. */
OBJECT = COMPRESSED_FILE
  FILE_NAME = "H4095_0000_P13.JP2"
  RECORD_TYPE = UNDEFINED
  FILE_RECORDS = UNK
  ENCODING_TYPE = "JP2"
  INTERCHANGE_FORMAT = BINARY
  UNCOMPRESSED_FILE_NAME = "H4095_0000_P13.IMG"
  REQUIRED_STORAGE_BYTES = "116878707"
  ^DESCRIPTION = "JP2INFO.TXT"
END_OBJECT = COMPRESSED_FILE
END
