PDS_VERSION_ID = PDS3
/* FILE DATA ELEMENTS */
RECORD_TYPE = STREAM
/* POINTERS TO DATA OBJECTS */
^COMPRESSED_FILE = "H4095_0000_RE3.JP2"
/* IDENTIFICATION DATA ELEMENTS */
DATA_SET_ID = "MEX-M-HRSC-5-REFDR-MAPPROJECTED-V3.0"
DATA_SET_NAME = "MARS EXPRESS HRSC MAP PROJECTED REFDR V3.0"
DETECTOR_ID = MEX_HRSC_RED
EVENT_TYPE = "MARS-REGIONAL-MAPPING-Vo-Te-Im"
INSTRUMENT_HOST_ID = MEX
INSTRUMENT_HOST_NAME = "MARS EXPRESS"
INSTRUMENT_ID = HRSC
INSTRUMENT_NAME = "HIGH RESOLUTION STEREO CAMERA"
MISSION_NAME = "MARS EXPRESS"
MISSION_PHASE_NAME = ME_Phase_7
PROCESSING_LEVEL_ID = 3
PRODUCT_CREATION_TIME = 2016-04-19T06:03:05.000Z
PRODUCT_ID = "H4095_0000_RE3.JP2"
RELEASE_ID = 0046
REVISION_ID = 0000
/* QUALITY DATA ELEMENTS */
DATA_QUALITY_ID = 1
DATA_QUALITY_DESC = "Data calculated based on original SPICE kernels"
/* TIME DATA ELEMENTS */
SPACECRAFT_CLOCK_START_COUNT = "1/0122026059.08433"
SPACECRAFT_CLOCK_STOP_COUNT = "1/0122026339.06786"
START_TIME = 2007-03-15T08:07:51.817Z
STOP_TIME = 2007-03-15T08:11:26.078Z
/* ORBITAL DATA ELEMENTS */
ASCENDING_NODE_LONGITUDE = 142.51
MAXIMUM_RESOLUTION = 114.5
FOOTPRINT_POINT_LATITUDE = (-27.1095,-27.0979,-27.0855,-27.072, -27.0575,-27.0212,-26.7352,-26.3091, -26.0246,-25.7443,-25.4636,-25.1836, -24.9102,-24.6348,-24.356,-24.0846, -23.8204,-23.5494,-23.1491,-22.883, -22.6124,-22.3459,-22.0862,-21.8257, -21.5645,-21.3024,-21.0418,-20.7813, -20.5224,-20.2611,-19.9927,-19.5932, -19.3203,-19.0542,-18.7925,-18.5263, -18.2591,-17.9916,-17.7235,-17.4763, -17.0256,-16.6866,-16.4605,-16.121, -15.7856,-15.3297,-14.9864,-14.7555, -14.5274,-14.2973,-14.1309,-14.1531, -14.2898,-14.5192,-14.7484,-14.9773, -15.2058,-15.4341,-15.6623,-15.89, -16.1174,-16.3446,-16.5716,-16.7981, -17.1376,-17.5895,-17.9804,-18.2487, -18.5166,-18.7837,-19.0503,-19.4498, -19.7152,-19.9803,-20.2449,-20.5091, -20.773,-21.0361,-21.2986,-21.5605, -21.822,-22.083,-22.3437,-22.7417, -23.0079,-23.2742,-23.5424,-23.8141, -24.0857,-24.3555,-24.633,-25.0507, -25.325,-25.6044,-25.8846,-26.164, -26.4496,-26.7357,-27.0218,-27.1095)
FOOTPRINT_POINT_LONGITUDE = (213.962,213.696,213.428,213.158, 212.886,212.555,212.568,212.589,212.602 ,212.613,212.625,212.637,212.649, 212.661,212.67,212.679,212.695,212.705, 212.721,212.73,212.735,212.744,212.753, 212.762,212.77,212.778,212.787,212.797, 212.808,212.817,212.821,212.83,212.831, 212.838,212.848,212.855,212.861,212.868 ,212.874,212.88,212.89,212.897,212.902, 212.909,212.92,212.928,212.933,212.935, 212.939,212.942,213.213,213.742,214.199 ,214.202,214.204,214.206,214.208,214.21 ,214.213,214.215,214.217,214.22,214.222 ,214.224,214.228,214.233,214.237,214.24 ,214.243,214.246,214.249,214.254, 214.257,214.26,214.263,214.266,214.269, 214.273,214.276,214.279,214.282,214.286 ,214.289,214.294,214.298,214.301, 214.305,214.309,214.312,214.316,214.32, 214.326,214.33,214.334,214.338,214.342, 214.347,214.351,214.355,213.962)
ORBIT_NUMBER = 4095
ORBITAL_ECCENTRICITY = 0.571
ORBITAL_INCLINATION = 86.68
ORBITAL_SEMIMAJOR_AXIS = 8626.16
PERIAPSIS_ALTITUDE = 307.63
PERIAPSIS_ARGUMENT_ANGLE = 356.82
PERIAPSIS_TIME = 2007-03-15T08:14:40.000Z
SPACECRAFT_ORIENTATION = (0.0,1.0,0.0)
^MEX_ORIENTATION_DESC = "MEX_ORIENTATION_DESC.TXT"
SPACECRAFT_POINTING_MODE = ACROSSTRACK
^MEX_POINTING_DESC = "MEX_POINTING_DESC.TXT"
RIGHT_ASCENSION = -1e+32
DECLINATION = -1e+32
OFFSET_ANGLE = 0.85
SPACECRAFT_SOLAR_DISTANCE = 2.13271e+08
TARGET_NAME = MARS
/* CAMERA DATA ELEMENTS */
DETECTOR_TEMPERATURE = 18.5744
FOCAL_PLANE_TEMPERATURE = 8.1755
INST_CMPRS_NAME = "DISCRETE COSINE TRANSFORMATION (DCT)"
INST_CMPRS_RATIO = 7.06336
INST_CMPRS_QUALITY = 0
INST_CMPRS_QUANTZ_TBL_ID = 0
INSTRUMENT_TEMPERATURE = 11.234
LENS_TEMPERATURE = 8.5833
MACROPIXEL_SIZE = 8
MISSING_FRAMES = 0
PIXEL_SUBSAMPLING_FLAG = N
SIGNAL_CHAIN_ID = 2
/* RADIOMETRIC DATA ELEMENTS */
BANDWIDTH = 48.0
CENTER_FILTER_WAVELENGTH = 748.0
RADIANCE_OFFSET = 0.60795
RADIANCE_SCALING_FACTOR = 0.00464108
REFLECTANCE_SCALING_FACTOR = 0.000481739
MEX:REFLECTANCE_OFFSET = 0.0631045
/* IMAGE OBJECT DEFINITIONS */
OBJECT = IMAGE
  INTERCHANGE_FORMAT = BINARY
  LINES = 7674
  LINE_SAMPLES = 952
  SAMPLE_TYPE = UNSIGNED_INTEGER
  SAMPLE_BITS = 8
  BANDS = 1
  BAND_STORAGE_TYPE = BAND_SEQUENTIAL
  MAXIMUM = 255
  MEAN = 86.4877
  MINIMUM = 1
  STANDARD_DEVIATION = 21.7965
END_OBJECT = IMAGE
/* MAP OBJECT DEFINITIONS */
OBJECT = IMAGE_MAP_PROJECTION
  ^DATA_SET_MAP_PROJECTION_CATALOG= "DSMAP.CAT"
  A_AXIS_RADIUS = 3396.0
  B_AXIS_RADIUS = 3396.0
  C_AXIS_RADIUS = 3396.0
  CENTER_LATITUDE = 0.0
  CENTER_LONGITUDE = 214.0
  COORDINATE_SYSTEM_NAME = PLANETOGRAPHIC
  COORDINATE_SYSTEM_TYPE = "BODY-FIXED ROTATING"
  EASTERNMOST_LONGITUDE = 214.355
  FIRST_STANDARD_PARALLEL = "N/A"
  LINE_FIRST_PIXEL = 1
  LINE_LAST_PIXEL = 7674
  LINE_PROJECTION_OFFSET = -8383.8125
  MAP_PROJECTION_ROTATION = 0.0
  MAP_PROJECTION_TYPE = SINUSOIDAL
  MAP_RESOLUTION = 592.713803866667
  MAP_SCALE = 0.1
  MAXIMUM_LATITUDE = -14.1309
  MINIMUM_LATITUDE = -27.1095
  POSITIVE_LONGITUDE_DIRECTION = EAST
  REFERENCE_LATITUDE = "N/A"
  REFERENCE_LONGITUDE = "N/A"
  SAMPLE_FIRST_PIXEL = 1
  SAMPLE_LAST_PIXEL = 952
  SAMPLE_PROJECTION_OFFSET = 786.1875
  SECOND_STANDARD_PARALLEL = "N/A"
  WESTERNMOST_LONGITUDE = 212.555
END_OBJECT = IMAGE_MAP_PROJECTION
/* The JPEG2000 image data file associated with this label. */
OBJECT = COMPRESSED_FILE
  FILE_NAME = "H4095_0000_RE3.JP2"
  RECORD_TYPE = UNDEFINED
  FILE_RECORDS = UNK
  ENCODING_TYPE = "JP2"
  INTERCHANGE_FORMAT = BINARY
  UNCOMPRESSED_FILE_NAME = "H4095_0000_RE3.IMG"
  REQUIRED_STORAGE_BYTES = "7323736"
  ^DESCRIPTION = "JP2INFO.TXT"
END_OBJECT = COMPRESSED_FILE
END
