PDS_VERSION_ID = PDS3
/* FILE DATA ELEMENTS */
RECORD_TYPE = STREAM
/* POINTERS TO DATA OBJECTS */
^COMPRESSED_FILE = "H4097_0000_P23.JP2"
/* IDENTIFICATION DATA ELEMENTS */
DATA_SET_ID = "MEX-M-HRSC-5-REFDR-MAPPROJECTED-V3.0"
DATA_SET_NAME = "MARS EXPRESS HRSC MAP PROJECTED REFDR V3.0"
DETECTOR_ID = MEX_HRSC_P2
EVENT_TYPE = "MARS-GLOBAL-MAPPING-Te-Im-Eo"
INSTRUMENT_HOST_ID = MEX
INSTRUMENT_HOST_NAME = "MARS EXPRESS"
INSTRUMENT_ID = HRSC
INSTRUMENT_NAME = "HIGH RESOLUTION STEREO CAMERA"
MISSION_NAME = "MARS EXPRESS"
MISSION_PHASE_NAME = ME_Phase_7
PROCESSING_LEVEL_ID = 3
PRODUCT_CREATION_TIME = 2016-04-19T06:03:05.000Z
PRODUCT_ID = "H4097_0000_P23.JP2"
RELEASE_ID = 0046
REVISION_ID = 0000
/* QUALITY DATA ELEMENTS */
DATA_QUALITY_ID = 1
DATA_QUALITY_DESC = "Data calculated based on original SPICE kernels"
/* TIME DATA ELEMENTS */
SPACECRAFT_CLOCK_START_COUNT = "1/0122074212.08240"
SPACECRAFT_CLOCK_STOP_COUNT = "1/0122074617.05943"
START_TIME = 2007-03-15T21:30:42.517Z
STOP_TIME = 2007-03-15T21:36:02.697Z
/* ORBITAL DATA ELEMENTS */
ASCENDING_NODE_LONGITUDE = 142.47
MAXIMUM_RESOLUTION = 32
FOOTPRINT_POINT_LATITUDE = (-39.64,-39.6368,-39.6326,-39.6251, -39.6071,-39.3461,-38.9088,-38.2544, -37.8265,-37.4033,-36.9879,-36.3626, -35.9547,-35.5515,-34.9487,-34.5519, -34.157,-33.7678,-33.1893,-32.6167, -32.2391,-31.6781,-31.125,-30.5801, -30.2173,-29.8608,-29.5042,-29.1528, -28.8029,-28.2861,-27.9418,-27.6005, -27.2604,-26.7553,-26.4244,-25.9308, -25.4382,-25.1174,-24.7936,-24.4724, -24.1589,-23.8404,-23.5238,-23.2127, -22.7482,-22.4368,-21.9666,-21.6531, -21.4859,-21.4868,-21.4868,-21.6433, -21.9562,-22.2688,-22.7381,-23.0511, -23.3609,-23.6735,-23.9906,-24.4636, -24.7852,-25.1082,-25.4303,-25.9234, -26.252,-26.585,-26.9202,-27.2586,-27.6 ,-27.9399,-28.2861,-28.8041,-29.1563, -29.5082,-29.8645,-30.222,-30.5842, -30.9489,-31.3171,-31.6867,-32.062, -32.431,-32.8193,-33.2003,-33.585, -33.9747,-34.3669,-34.763,-35.1644, -35.5692,-35.9773,-36.3867,-36.7969, -37.2149,-37.642,-38.0671,-38.4991, -38.9362,-39.3671,-39.64)
FOOTPRINT_POINT_LONGITUDE = (18.6767,18.2888,17.9564,17.5133, 16.7661,16.2379,16.2767,16.3288,16.3636 ,16.3974,16.4322,16.4767,16.5077, 16.5372,16.5779,16.6039,16.6289,16.6534 ,16.6884,16.7212,16.7426,16.7729, 16.8014,16.8294,16.8466,16.8638,16.8802 ,16.8961,16.9126,16.9355,16.9501, 16.9631,16.9769,16.9945,17.0089,17.0265 ,17.0436,17.0549,17.0649,17.0757, 17.0866,17.0953,17.1049,17.1132,17.1268 ,17.1351,17.1465,17.1542,17.6525, 18.0056,18.4011,18.6215,18.6274,18.6333 ,18.6415,18.6466,18.6529,18.6596, 18.6661,18.6767,18.6837,18.6905,18.6976 ,18.7083,18.7156,18.7231,18.7306, 18.7367,18.7446,18.753,18.7607,18.7742, 18.783,18.7919,18.8013,18.8107,18.8203, 18.8294,18.8393,18.8491,18.8591,18.8732 ,18.8799,18.8922,18.904,18.9161,18.9281 ,18.9404,18.9527,18.9647,18.977,18.9921 ,19.009,19.0236,19.0356,19.0517,19.067, 19.0821,19.1036,18.6767)
ORBIT_NUMBER = 4097
ORBITAL_ECCENTRICITY = 0.571
ORBITAL_INCLINATION = 86.66
ORBITAL_SEMIMAJOR_AXIS = 8626.65
PERIAPSIS_ALTITUDE = 307.7
PERIAPSIS_ARGUMENT_ANGLE = 356.47
PERIAPSIS_TIME = 2007-03-15T21:41:03.000Z
SPACECRAFT_ORIENTATION = (0.0,1.0,0.0)
^MEX_ORIENTATION_DESC = "MEX_ORIENTATION_DESC.TXT"
SPACECRAFT_POINTING_MODE = NADIR
^MEX_POINTING_DESC = "MEX_POINTING_DESC.TXT"
RIGHT_ASCENSION = -1e+32
DECLINATION = -1e+32
OFFSET_ANGLE = -1e+32
SPACECRAFT_SOLAR_DISTANCE = 2.13187e+08
TARGET_NAME = MARS
/* CAMERA DATA ELEMENTS */
DETECTOR_TEMPERATURE = 18.9822
FOCAL_PLANE_TEMPERATURE = 8.9911
INST_CMPRS_NAME = "DISCRETE COSINE TRANSFORMATION (DCT)"
INST_CMPRS_RATIO = 5.84294
INST_CMPRS_QUALITY = 0
INST_CMPRS_QUANTZ_TBL_ID = 0
INSTRUMENT_TEMPERATURE = 11.4379
LENS_TEMPERATURE = 9.195
MACROPIXEL_SIZE = 2
MISSING_FRAMES = 0
PIXEL_SUBSAMPLING_FLAG = N
SIGNAL_CHAIN_ID = 3
/* RADIOMETRIC DATA ELEMENTS */
BANDWIDTH = 177.0
CENTER_FILTER_WAVELENGTH = 676.5
RADIANCE_OFFSET = 1.81885
RADIANCE_SCALING_FACTOR = 0.0103519
REFLECTANCE_SCALING_FACTOR = 0.000249462
MEX:REFLECTANCE_OFFSET = 0.0438308
/* IMAGE OBJECT DEFINITIONS */
OBJECT = IMAGE
  INTERCHANGE_FORMAT = BINARY
  LINES = 42950
  LINE_SAMPLES = 5041
  SAMPLE_TYPE = UNSIGNED_INTEGER
  SAMPLE_BITS = 8
  BANDS = 1
  BAND_STORAGE_TYPE = BAND_SEQUENTIAL
  MAXIMUM = 255
  MEAN = 85.1352
  MINIMUM = 1
  STANDARD_DEVIATION = 21.3536
END_OBJECT = IMAGE
/* MAP OBJECT DEFINITIONS */
OBJECT = IMAGE_MAP_PROJECTION
  ^DATA_SET_MAP_PROJECTION_CATALOG= "DSMAP.CAT"
  A_AXIS_RADIUS = 3396.0
  B_AXIS_RADIUS = 3396.0
  C_AXIS_RADIUS = 3396.0
  CENTER_LATITUDE = 0.0
  CENTER_LONGITUDE = 18.0
  COORDINATE_SYSTEM_NAME = PLANETOGRAPHIC
  COORDINATE_SYSTEM_TYPE = "BODY-FIXED ROTATING"
  EASTERNMOST_LONGITUDE = 19.1036
  FIRST_STANDARD_PARALLEL = "N/A"
  LINE_FIRST_PIXEL = 1
  LINE_LAST_PIXEL = 42950
  LINE_PROJECTION_OFFSET = -50928.75
  MAP_PROJECTION_ROTATION = 0.0
  MAP_PROJECTION_TYPE = SINUSOIDAL
  MAP_RESOLUTION = 2370.85521546667
  MAP_SCALE = 0.025
  MAXIMUM_LATITUDE = -21.4859
  MINIMUM_LATITUDE = -39.64
  POSITIVE_LONGITUDE_DIRECTION = EAST
  REFERENCE_LATITUDE = "N/A"
  REFERENCE_LONGITUDE = "N/A"
  SAMPLE_FIRST_PIXEL = 1
  SAMPLE_LAST_PIXEL = 5041
  SAMPLE_PROJECTION_OFFSET = 3139.75
  SECOND_STANDARD_PARALLEL = "N/A"
  WESTERNMOST_LONGITUDE = 16.2379
END_OBJECT = IMAGE_MAP_PROJECTION
/* The JPEG2000 image data file associated with this label. */
OBJECT = COMPRESSED_FILE
  FILE_NAME = "H4097_0000_P23.JP2"
  RECORD_TYPE = UNDEFINED
  FILE_RECORDS = UNK
  ENCODING_TYPE = "JP2"
  INTERCHANGE_FORMAT = BINARY
  UNCOMPRESSED_FILE_NAME = "H4097_0000_P23.IMG"
  REQUIRED_STORAGE_BYTES = "216536155"
  ^DESCRIPTION = "JP2INFO.TXT"
END_OBJECT = COMPRESSED_FILE
END
