PDS_VERSION_ID = PDS3
/* FILE DATA ELEMENTS */
RECORD_TYPE = STREAM
/* POINTERS TO DATA OBJECTS */
^COMPRESSED_FILE = "H4098_0000_RE3.JP2"
/* IDENTIFICATION DATA ELEMENTS */
DATA_SET_ID = "MEX-M-HRSC-5-REFDR-MAPPROJECTED-V3.0"
DATA_SET_NAME = "MARS EXPRESS HRSC MAP PROJECTED REFDR V3.0"
DETECTOR_ID = MEX_HRSC_RED
EVENT_TYPE = "MARS-REGIONAL-MAPPING-Vo-Te"
INSTRUMENT_HOST_ID = MEX
INSTRUMENT_HOST_NAME = "MARS EXPRESS"
INSTRUMENT_ID = HRSC
INSTRUMENT_NAME = "HIGH RESOLUTION STEREO CAMERA"
MISSION_NAME = "MARS EXPRESS"
MISSION_PHASE_NAME = ME_Phase_7
PROCESSING_LEVEL_ID = 3
PRODUCT_CREATION_TIME = 2016-04-19T06:03:05.000Z
PRODUCT_ID = "H4098_0000_RE3.JP2"
RELEASE_ID = 0046
REVISION_ID = 0000
/* QUALITY DATA ELEMENTS */
DATA_QUALITY_ID = 1
DATA_QUALITY_DESC = "Data calculated based on original SPICE kernels"
/* TIME DATA ELEMENTS */
SPACECRAFT_CLOCK_START_COUNT = "1/0122098701.07282"
SPACECRAFT_CLOCK_STOP_COUNT = "1/0122098930.16122"
START_TIME = 2007-03-16T04:18:32.431Z
STOP_TIME = 2007-03-16T04:21:18.508Z
/* ORBITAL DATA ELEMENTS */
ASCENDING_NODE_LONGITUDE = 142.44
MAXIMUM_RESOLUTION = 111.5
FOOTPRINT_POINT_LATITUDE = (-23.9473,-23.9464,-23.945,-23.9413, -23.9359,-23.6073,-23.3878,-23.1728, -22.9581,-22.7433,-22.4202,-22.2048, -21.9888,-21.7724,-21.5557,-21.3386, -21.1211,-20.903,-20.6847,-20.4666, -20.2481,-19.9199,-19.7007,-19.4804, -19.26,-19.0393,-18.8183,-18.6176, -18.2466,-18.0608,-17.8748,-17.6885, -17.5019,-17.3153,-17.1284,-16.8481, -16.6608,-16.4737,-16.2875,-16.1003, -15.8178,-15.629,-15.3446,-15.1544, -14.9654,-14.6813,-14.4919,-14.302, -14.1119,-13.9215,-13.7621,-13.7627, -13.7622,-13.7612,-14.043,-14.2333, -14.4233,-14.7085,-14.8986,-15.1849, -15.4695,-15.6594,-15.8483,-16.037, -16.2239,-16.5035,-16.7817,-16.9673, -17.156,-17.343,-17.53,-17.7165, -17.9027,-18.0891,-18.2752,-18.4611, -18.6469,-18.8527,-19.0732,-19.4036, -19.6239,-19.8437,-20.1734,-20.3923, -20.6109,-20.8296,-21.0478,-21.3737, -21.5909,-21.808,-22.0244,-22.241, -22.4572,-22.7806,-22.9961,-23.2098, -23.4258,-23.6457,-23.8653,-23.9473)
FOOTPRINT_POINT_LONGITUDE = (279.971,279.663,279.428,279.047, 278.804,278.814,278.821,278.827,278.833 ,278.839,278.848,278.854,278.859, 278.865,278.87,278.876,278.881,278.886, 278.891,278.896,278.901,278.909,278.914 ,278.918,278.923,278.927,278.931, 278.935,278.942,278.946,278.949,278.952 ,278.956,278.959,278.962,278.967,278.97 ,278.973,278.976,278.979,278.984, 278.986,278.99,278.992,278.994,278.998, 279.0,279.003,279.005,279.007,279.197, 279.52,279.9,280.123,280.201,280.203, 280.206,280.21,280.212,280.215,280.219, 280.221,280.223,280.226,280.229,280.234 ,280.24,280.243,280.246,280.249,280.251 ,280.254,280.257,280.26,280.263,280.266 ,280.269,280.272,280.276,280.282, 280.286,280.29,280.295,280.299,280.303, 280.307,280.311,280.317,280.321,280.325 ,280.33,280.334,280.338,280.344,280.348 ,280.353,280.357,280.362,280.366, 279.971)
ORBIT_NUMBER = 4098
ORBITAL_ECCENTRICITY = 0.571
ORBITAL_INCLINATION = 86.67
ORBITAL_SEMIMAJOR_AXIS = 8631.32
PERIAPSIS_ALTITUDE = 307.17
PERIAPSIS_ARGUMENT_ANGLE = 356.3
PERIAPSIS_TIME = 2007-03-16T04:24:17.000Z
SPACECRAFT_ORIENTATION = (0.0,1.0,0.0)
^MEX_ORIENTATION_DESC = "MEX_ORIENTATION_DESC.TXT"
SPACECRAFT_POINTING_MODE = NADIR
^MEX_POINTING_DESC = "MEX_POINTING_DESC.TXT"
RIGHT_ASCENSION = -1e+32
DECLINATION = -1e+32
OFFSET_ANGLE = -1e+32
SPACECRAFT_SOLAR_DISTANCE = 2.13145e+08
TARGET_NAME = MARS
/* CAMERA DATA ELEMENTS */
DETECTOR_TEMPERATURE = 18.7783
FOCAL_PLANE_TEMPERATURE = 8.9911
INST_CMPRS_NAME = "DISCRETE COSINE TRANSFORMATION (DCT)"
INST_CMPRS_RATIO = 12.4047
INST_CMPRS_QUALITY = 0
INST_CMPRS_QUANTZ_TBL_ID = 0
INSTRUMENT_TEMPERATURE = 11.234
LENS_TEMPERATURE = 10.4184
MACROPIXEL_SIZE = 8
MISSING_FRAMES = 0
PIXEL_SUBSAMPLING_FLAG = N
SIGNAL_CHAIN_ID = 2
/* RADIOMETRIC DATA ELEMENTS */
BANDWIDTH = 48.0
CENTER_FILTER_WAVELENGTH = 748.0
RADIANCE_OFFSET = 0.420762
RADIANCE_SCALING_FACTOR = 0.00280954
REFLECTANCE_SCALING_FACTOR = 0.000291282
MEX:REFLECTANCE_OFFSET = 0.043623
/* IMAGE OBJECT DEFINITIONS */
OBJECT = IMAGE
  INTERCHANGE_FORMAT = BINARY
  LINES = 6037
  LINE_SAMPLES = 855
  SAMPLE_TYPE = UNSIGNED_INTEGER
  SAMPLE_BITS = 8
  BANDS = 1
  BAND_STORAGE_TYPE = BAND_SEQUENTIAL
  MAXIMUM = 255
  MEAN = 72.6938
  MINIMUM = 1
  STANDARD_DEVIATION = 20.0569
END_OBJECT = IMAGE
/* MAP OBJECT DEFINITIONS */
OBJECT = IMAGE_MAP_PROJECTION
  ^DATA_SET_MAP_PROJECTION_CATALOG= "DSMAP.CAT"
  A_AXIS_RADIUS = 3396.0
  B_AXIS_RADIUS = 3396.0
  C_AXIS_RADIUS = 3396.0
  CENTER_LATITUDE = 0.0
  CENTER_LONGITUDE = 280.0
  COORDINATE_SYSTEM_NAME = PLANETOGRAPHIC
  COORDINATE_SYSTEM_TYPE = "BODY-FIXED ROTATING"
  EASTERNMOST_LONGITUDE = 280.366
  FIRST_STANDARD_PARALLEL = "N/A"
  LINE_FIRST_PIXEL = 1
  LINE_LAST_PIXEL = 6037
  LINE_PROJECTION_OFFSET = -8144.1875
  MAP_PROJECTION_ROTATION = 0.0
  MAP_PROJECTION_TYPE = SINUSOIDAL
  MAP_RESOLUTION = 592.713803866667
  MAP_SCALE = 0.1
  MAXIMUM_LATITUDE = -13.7612
  MINIMUM_LATITUDE = -23.9473
  POSITIVE_LONGITUDE_DIRECTION = EAST
  REFERENCE_LATITUDE = "N/A"
  REFERENCE_LONGITUDE = "N/A"
  SAMPLE_FIRST_PIXEL = 1
  SAMPLE_LAST_PIXEL = 855
  SAMPLE_PROJECTION_OFFSET = 653.6875
  SECOND_STANDARD_PARALLEL = "N/A"
  WESTERNMOST_LONGITUDE = 278.804
END_OBJECT = IMAGE_MAP_PROJECTION
/* The JPEG2000 image data file associated with this label. */
OBJECT = COMPRESSED_FILE
  FILE_NAME = "H4098_0000_RE3.JP2"
  RECORD_TYPE = UNDEFINED
  FILE_RECORDS = UNK
  ENCODING_TYPE = "JP2"
  INTERCHANGE_FORMAT = BINARY
  UNCOMPRESSED_FILE_NAME = "H4098_0000_RE3.IMG"
  REQUIRED_STORAGE_BYTES = "5180445"
  ^DESCRIPTION = "JP2INFO.TXT"
END_OBJECT = COMPRESSED_FILE
END
