PDS_VERSION_ID = PDS3
/* FILE DATA ELEMENTS */
RECORD_TYPE = STREAM
/* POINTERS TO DATA OBJECTS */
^COMPRESSED_FILE = "H4100_0000_P23.JP2"
/* IDENTIFICATION DATA ELEMENTS */
DATA_SET_ID = "MEX-M-HRSC-5-REFDR-MAPPROJECTED-V3.0"
DATA_SET_NAME = "MARS EXPRESS HRSC MAP PROJECTED REFDR V3.0"
DETECTOR_ID = MEX_HRSC_P2
EVENT_TYPE = "MARS-REGIONAL-MAPPING-Im-Fl"
INSTRUMENT_HOST_ID = MEX
INSTRUMENT_HOST_NAME = "MARS EXPRESS"
INSTRUMENT_ID = HRSC
INSTRUMENT_NAME = "HIGH RESOLUTION STEREO CAMERA"
MISSION_NAME = "MARS EXPRESS"
MISSION_PHASE_NAME = ME_Phase_7
PROCESSING_LEVEL_ID = 3
PRODUCT_CREATION_TIME = 2016-04-19T06:03:05.000Z
PRODUCT_ID = "H4100_0000_P23.JP2"
RELEASE_ID = 0046
REVISION_ID = 0000
/* QUALITY DATA ELEMENTS */
DATA_QUALITY_ID = 1
DATA_QUALITY_DESC = "Data calculated based on original SPICE kernels"
/* TIME DATA ELEMENTS */
SPACECRAFT_CLOCK_START_COUNT = "1/0122147094.09038"
SPACECRAFT_CLOCK_STOP_COUNT = "1/0122147397.07998"
START_TIME = 2007-03-16T17:45:12.142Z
STOP_TIME = 2007-03-16T17:49:13.833Z
/* ORBITAL DATA ELEMENTS */
ASCENDING_NODE_LONGITUDE = 142.4
MAXIMUM_RESOLUTION = 51.2
FOOTPRINT_POINT_LATITUDE = (-23.1556,-23.1558,-23.1554,-23.1544, -23.1519,-23.1399,-22.7938,-22.272, -21.9247,-21.4015,-21.051,-20.6999, -20.1736,-19.9948,-19.6442,-19.3397, -19.044,-18.7461,-18.3015,-18.0048, -17.699,-17.3973,-17.0997,-16.8045, -16.5035,-16.202,-15.75,-15.4471, -15.1446,-14.8414,-14.5455,-14.2512, -13.8084,-13.3649,-13.0693,-12.7731, -12.4811,-12.1941,-11.9062,-11.6186, -11.3306,-11.0374,-10.7481,-10.4602, -10.0283,-9.74003,-9.46058,-9.17843, -8.75504,-8.47619,-8.19468,-7.9129, -7.9049,-7.90427,-8.04502,-8.32723, -8.75008,-9.16297,-9.44313,-9.72368, -10.0126,-10.3121,-10.7427,-11.0321, -11.4663,-11.7538,-12.0417,-12.3293, -12.6156,-12.9126,-13.2033,-13.4982, -13.7941,-14.0942,-14.3926,-14.6858, -14.9855,-15.289,-15.592,-16.0458, -16.347,-16.7981,-17.099,-17.3989, -17.6981,-18.1465,-18.5945,-19.0403, -19.3366,-19.8164,-20.1687,-20.3468, -20.6972,-21.0479,-21.3998,-21.7429, -22.0972,-22.4455,-22.7877,-23.1556)
FOOTPRINT_POINT_LONGITUDE = (83.6594,83.4073,83.1973,82.9732, 82.6232,82.3215,82.331,82.3441,82.3533, 82.3662,82.3742,82.3821,82.3942,82.3968 ,82.4052,82.4113,82.4176,82.423,82.4322 ,82.4383,82.4403,82.4443,82.4501, 82.4572,82.4617,82.466,82.4727,82.4765, 82.4806,82.4844,82.4876,82.491,82.4955, 82.4998,82.5028,82.5056,82.5078,82.5102 ,82.5123,82.5145,82.5165,82.5163, 82.5178,82.52,82.5233,82.5248,82.5263, 82.5266,82.5271,82.5289,82.5296,82.5301 ,82.9678,83.2838,83.6243,83.6262, 83.6292,83.6365,83.6391,83.6415,83.644, 83.6424,83.6481,83.6508,83.6547,83.658, 83.6611,83.6642,83.6678,83.6709,83.6769 ,83.6809,83.6844,83.6858,83.6879, 83.6922,83.6963,83.7003,83.7044,83.7106 ,83.7151,83.722,83.7263,83.7309,83.7357 ,83.7428,83.7497,83.7573,83.7625, 83.7706,83.7769,83.779,83.7858,83.7922, 83.7978,83.8072,83.811,83.8174,83.8264, 83.6594)
ORBIT_NUMBER = 4100
ORBITAL_ECCENTRICITY = 0.571
ORBITAL_INCLINATION = 86.68
ORBITAL_SEMIMAJOR_AXIS = 8629.2
PERIAPSIS_ALTITUDE = 306.57
PERIAPSIS_ARGUMENT_ANGLE = 355.92
PERIAPSIS_TIME = 2007-03-16T17:50:31.000Z
SPACECRAFT_ORIENTATION = (0.0,1.0,0.0)
^MEX_ORIENTATION_DESC = "MEX_ORIENTATION_DESC.TXT"
SPACECRAFT_POINTING_MODE = NADIR
^MEX_POINTING_DESC = "MEX_POINTING_DESC.TXT"
RIGHT_ASCENSION = -1e+32
DECLINATION = -1e+32
OFFSET_ANGLE = -1e+32
SPACECRAFT_SOLAR_DISTANCE = 2.13061e+08
TARGET_NAME = MARS
/* CAMERA DATA ELEMENTS */
DETECTOR_TEMPERATURE = 18.5744
FOCAL_PLANE_TEMPERATURE = 8.3794
INST_CMPRS_NAME = "DISCRETE COSINE TRANSFORMATION (DCT)"
INST_CMPRS_RATIO = 9.53555
INST_CMPRS_QUALITY = 0
INST_CMPRS_QUANTZ_TBL_ID = 0
INSTRUMENT_TEMPERATURE = 11.234
LENS_TEMPERATURE = 9.195
MACROPIXEL_SIZE = 4
MISSING_FRAMES = 0
PIXEL_SUBSAMPLING_FLAG = N
SIGNAL_CHAIN_ID = 3
/* RADIOMETRIC DATA ELEMENTS */
BANDWIDTH = 177.0
CENTER_FILTER_WAVELENGTH = 676.5
RADIANCE_OFFSET = 1.84166
RADIANCE_SCALING_FACTOR = 0.00745769
REFLECTANCE_SCALING_FACTOR = 0.000179503
MEX:REFLECTANCE_OFFSET = 0.0443278
/* IMAGE OBJECT DEFINITIONS */
OBJECT = IMAGE
  INTERCHANGE_FORMAT = BINARY
  LINES = 18105
  LINE_SAMPLES = 1671
  SAMPLE_TYPE = UNSIGNED_INTEGER
  SAMPLE_BITS = 8
  BANDS = 1
  BAND_STORAGE_TYPE = BAND_SEQUENTIAL
  MAXIMUM = 255
  MEAN = 101.56
  MINIMUM = 1
  STANDARD_DEVIATION = 42.0074
END_OBJECT = IMAGE
/* MAP OBJECT DEFINITIONS */
OBJECT = IMAGE_MAP_PROJECTION
  ^DATA_SET_MAP_PROJECTION_CATALOG= "DSMAP.CAT"
  A_AXIS_RADIUS = 3396.0
  B_AXIS_RADIUS = 3396.0
  C_AXIS_RADIUS = 3396.0
  CENTER_LATITUDE = 0.0
  CENTER_LONGITUDE = 83.0
  COORDINATE_SYSTEM_NAME = PLANETOGRAPHIC
  COORDINATE_SYSTEM_TYPE = "BODY-FIXED ROTATING"
  EASTERNMOST_LONGITUDE = 83.82640000000001
  FIRST_STANDARD_PARALLEL = "N/A"
  LINE_FIRST_PIXEL = 1
  LINE_LAST_PIXEL = 18105
  LINE_PROJECTION_OFFSET = -9356.125
  MAP_PROJECTION_ROTATION = 0.0
  MAP_PROJECTION_TYPE = SINUSOIDAL
  MAP_RESOLUTION = 1185.42760773333
  MAP_SCALE = 0.05
  MAXIMUM_LATITUDE = -7.90427
  MINIMUM_LATITUDE = -23.1558
  POSITIVE_LONGITUDE_DIRECTION = EAST
  REFERENCE_LATITUDE = "N/A"
  REFERENCE_LONGITUDE = "N/A"
  SAMPLE_FIRST_PIXEL = 1
  SAMPLE_LAST_PIXEL = 1671
  SAMPLE_PROJECTION_OFFSET = 751.625
  SECOND_STANDARD_PARALLEL = "N/A"
  WESTERNMOST_LONGITUDE = 82.3215
END_OBJECT = IMAGE_MAP_PROJECTION
/* The JPEG2000 image data file associated with this label. */
OBJECT = COMPRESSED_FILE
  FILE_NAME = "H4100_0000_P23.JP2"
  RECORD_TYPE = UNDEFINED
  FILE_RECORDS = UNK
  ENCODING_TYPE = "JP2"
  INTERCHANGE_FORMAT = BINARY
  UNCOMPRESSED_FILE_NAME = "H4100_0000_P23.IMG"
  REQUIRED_STORAGE_BYTES = "30273507"
  ^DESCRIPTION = "JP2INFO.TXT"
END_OBJECT = COMPRESSED_FILE
END
