PDS_VERSION_ID = PDS3
/* FILE DATA ELEMENTS */
RECORD_TYPE = STREAM
/* POINTERS TO DATA OBJECTS */
^COMPRESSED_FILE = "H4100_0000_RE3.JP2"
/* IDENTIFICATION DATA ELEMENTS */
DATA_SET_ID = "MEX-M-HRSC-5-REFDR-MAPPROJECTED-V3.0"
DATA_SET_NAME = "MARS EXPRESS HRSC MAP PROJECTED REFDR V3.0"
DETECTOR_ID = MEX_HRSC_RED
EVENT_TYPE = "MARS-REGIONAL-MAPPING-Im-Fl"
INSTRUMENT_HOST_ID = MEX
INSTRUMENT_HOST_NAME = "MARS EXPRESS"
INSTRUMENT_ID = HRSC
INSTRUMENT_NAME = "HIGH RESOLUTION STEREO CAMERA"
MISSION_NAME = "MARS EXPRESS"
MISSION_PHASE_NAME = ME_Phase_7
PROCESSING_LEVEL_ID = 3
PRODUCT_CREATION_TIME = 2016-04-19T06:03:05.000Z
PRODUCT_ID = "H4100_0000_RE3.JP2"
RELEASE_ID = 0046
REVISION_ID = 0000
/* QUALITY DATA ELEMENTS */
DATA_QUALITY_ID = 1
DATA_QUALITY_DESC = "Data calculated based on original SPICE kernels"
/* TIME DATA ELEMENTS */
SPACECRAFT_CLOCK_START_COUNT = "1/0122147094.09038"
SPACECRAFT_CLOCK_STOP_COUNT = "1/0122147397.07998"
START_TIME = 2007-03-16T17:45:05.188Z
STOP_TIME = 2007-03-16T17:49:09.323Z
/* ORBITAL DATA ELEMENTS */
ASCENDING_NODE_LONGITUDE = 142.4
MAXIMUM_RESOLUTION = 104.2
FOOTPRINT_POINT_LATITUDE = (-23.1767,-23.1773,-23.1767,-23.1755, -23.1723,-23.1576,-22.8177,-22.4769, -21.9637,-21.6172,-21.2778,-20.9324, -20.5867,-20.0687,-19.8899,-19.5474, -19.2038,-18.7654,-18.3294,-18.0355, -17.7332,-17.435,-17.1405,-16.852, -16.556,-16.2587,-15.813,-15.5143, -15.0662,-14.7666,-14.4659,-14.1753, -13.7373,-13.4453,-13.1527,-12.8607, -12.5668,-12.2741,-11.9899,-11.7052, -11.4204,-11.1327,-10.8435,-10.5576, -10.2735,-9.98824,-9.70185,-9.41625, -9.13578,-8.85552,-8.57964,-8.30103, -7.88856,-7.8889,-7.88792,-7.8863, -8.02833,-8.30828,-8.72766,-8.99643, -9.27334,-9.6987,-9.98641,-10.2855, -10.711,-10.9977,-11.2859,-11.5703, -11.9969,-12.4278,-12.7184,-13.1536, -13.591,-13.8835,-14.1842,-14.4763, -14.7758,-15.0751,-15.5241,-15.8231, -16.1211,-16.4178,-16.7145,-17.1596, -17.4547,-17.7496,-18.1916,-18.6332, -19.0712,-19.3883,-19.7367,-20.0835, -20.432,-20.7762,-21.1218,-21.6315, -21.9808,-22.4951,-22.8302,-23.1767)
FOOTPRINT_POINT_LONGITUDE = (83.8354,83.4526,83.1691,82.9283,82.56, 82.322,82.3314,82.3405,82.3536,82.3609, 82.3708,82.3785,82.3863,82.3982,82.4, 82.4091,82.4161,82.4249,82.4346,82.4399 ,82.4423,82.4462,82.4514,82.4589, 82.4637,82.468,82.4748,82.4787,82.4847, 82.4884,82.4917,82.4952,82.4996,82.5026 ,82.5054,82.5084,82.5107,82.5132, 82.5155,82.5176,82.5197,82.5208,82.5214 ,82.5232,82.5256,82.5276,82.5293, 82.5306,82.5308,82.5311,82.5329,82.5338 ,82.5348,82.8913,83.1264,83.4845,83.625 ,83.627,83.6301,83.6359,83.6388,83.6427 ,83.6452,83.6437,83.6495,83.6522, 83.6543,83.6577,83.6626,83.6674,83.6719 ,83.6787,83.6846,83.6881,83.6885, 83.6921,83.6964,83.7006,83.7068,83.7109 ,83.7152,83.7199,83.7245,83.7311,83.736 ,83.7408,83.7479,83.7548,83.7628, 83.7684,83.7744,83.7807,83.7862,83.7931 ,83.7993,83.8114,83.8156,83.8251, 83.8341,83.8354)
ORBIT_NUMBER = 4100
ORBITAL_ECCENTRICITY = 0.571
ORBITAL_INCLINATION = 86.68
ORBITAL_SEMIMAJOR_AXIS = 8629.2
PERIAPSIS_ALTITUDE = 306.57
PERIAPSIS_ARGUMENT_ANGLE = 355.92
PERIAPSIS_TIME = 2007-03-16T17:50:31.000Z
SPACECRAFT_ORIENTATION = (0.0,1.0,0.0)
^MEX_ORIENTATION_DESC = "MEX_ORIENTATION_DESC.TXT"
SPACECRAFT_POINTING_MODE = NADIR
^MEX_POINTING_DESC = "MEX_POINTING_DESC.TXT"
RIGHT_ASCENSION = -1e+32
DECLINATION = -1e+32
OFFSET_ANGLE = -1e+32
SPACECRAFT_SOLAR_DISTANCE = 2.13061e+08
TARGET_NAME = MARS
/* CAMERA DATA ELEMENTS */
DETECTOR_TEMPERATURE = 18.5744
FOCAL_PLANE_TEMPERATURE = 8.3794
INST_CMPRS_NAME = "DISCRETE COSINE TRANSFORMATION (DCT)"
INST_CMPRS_RATIO = 18.2918
INST_CMPRS_QUALITY = 0
INST_CMPRS_QUANTZ_TBL_ID = 0
INSTRUMENT_TEMPERATURE = 11.234
LENS_TEMPERATURE = 9.195
MACROPIXEL_SIZE = 8
MISSING_FRAMES = 0
PIXEL_SUBSAMPLING_FLAG = N
SIGNAL_CHAIN_ID = 2
/* RADIOMETRIC DATA ELEMENTS */
BANDWIDTH = 48.0
CENTER_FILTER_WAVELENGTH = 748.0
RADIANCE_OFFSET = 0.475045
RADIANCE_SCALING_FACTOR = 0.00212905
REFLECTANCE_SCALING_FACTOR = 0.000220559
MEX:REFLECTANCE_OFFSET = 0.0492122
/* IMAGE OBJECT DEFINITIONS */
OBJECT = IMAGE
  INTERCHANGE_FORMAT = BINARY
  LINES = 9053
  LINE_SAMPLES = 836
  SAMPLE_TYPE = UNSIGNED_INTEGER
  SAMPLE_BITS = 8
  BANDS = 1
  BAND_STORAGE_TYPE = BAND_SEQUENTIAL
  MAXIMUM = 255
  MEAN = 101.162
  MINIMUM = 1
  STANDARD_DEVIATION = 41.7872
END_OBJECT = IMAGE
/* MAP OBJECT DEFINITIONS */
OBJECT = IMAGE_MAP_PROJECTION
  ^DATA_SET_MAP_PROJECTION_CATALOG= "DSMAP.CAT"
  A_AXIS_RADIUS = 3396.0
  B_AXIS_RADIUS = 3396.0
  C_AXIS_RADIUS = 3396.0
  CENTER_LATITUDE = 0.0
  CENTER_LONGITUDE = 83.0
  COORDINATE_SYSTEM_NAME = PLANETOGRAPHIC
  COORDINATE_SYSTEM_TYPE = "BODY-FIXED ROTATING"
  EASTERNMOST_LONGITUDE = 83.83540000000001
  FIRST_STANDARD_PARALLEL = "N/A"
  LINE_FIRST_PIXEL = 1
  LINE_LAST_PIXEL = 9053
  LINE_PROJECTION_OFFSET = -4678.3125
  MAP_PROJECTION_ROTATION = 0.0
  MAP_PROJECTION_TYPE = SINUSOIDAL
  MAP_RESOLUTION = 592.713803866667
  MAP_SCALE = 0.1
  MAXIMUM_LATITUDE = -7.8863
  MINIMUM_LATITUDE = -23.1773
  POSITIVE_LONGITUDE_DIRECTION = EAST
  REFERENCE_LATITUDE = "N/A"
  REFERENCE_LONGITUDE = "N/A"
  SAMPLE_FIRST_PIXEL = 1
  SAMPLE_LAST_PIXEL = 836
  SAMPLE_PROJECTION_OFFSET = 375.5625
  SECOND_STANDARD_PARALLEL = "N/A"
  WESTERNMOST_LONGITUDE = 82.322
END_OBJECT = IMAGE_MAP_PROJECTION
/* The JPEG2000 image data file associated with this label. */
OBJECT = COMPRESSED_FILE
  FILE_NAME = "H4100_0000_RE3.JP2"
  RECORD_TYPE = UNDEFINED
  FILE_RECORDS = UNK
  ENCODING_TYPE = "JP2"
  INTERCHANGE_FORMAT = BINARY
  UNCOMPRESSED_FILE_NAME = "H4100_0000_RE3.IMG"
  REQUIRED_STORAGE_BYTES = "7586700"
  ^DESCRIPTION = "JP2INFO.TXT"
END_OBJECT = COMPRESSED_FILE
END
