PDS_VERSION_ID = PDS3
/* FILE DATA ELEMENTS */
RECORD_TYPE = STREAM
/* POINTERS TO DATA OBJECTS */
^COMPRESSED_FILE = "H4101_0000_P13.JP2"
/* IDENTIFICATION DATA ELEMENTS */
DATA_SET_ID = "MEX-M-HRSC-5-REFDR-MAPPROJECTED-V3.0"
DATA_SET_NAME = "MARS EXPRESS HRSC MAP PROJECTED REFDR V3.0"
DETECTOR_ID = MEX_HRSC_P1
EVENT_TYPE = "MARS-REGIONAL-MAPPING-Im-Fl"
INSTRUMENT_HOST_ID = MEX
INSTRUMENT_HOST_NAME = "MARS EXPRESS"
INSTRUMENT_ID = HRSC
INSTRUMENT_NAME = "HIGH RESOLUTION STEREO CAMERA"
MISSION_NAME = "MARS EXPRESS"
MISSION_PHASE_NAME = ME_Phase_7
PROCESSING_LEVEL_ID = 3
PRODUCT_CREATION_TIME = 2016-04-20T19:30:25.000Z
PRODUCT_ID = "H4101_0000_P13.JP2"
RELEASE_ID = 0047
REVISION_ID = 0000
/* QUALITY DATA ELEMENTS */
DATA_QUALITY_ID = 2
DATA_QUALITY_DESC = "Data calculated based on photogrammetrically improved orbit and attitude data"
/* TIME DATA ELEMENTS */
SPACECRAFT_CLOCK_START_COUNT = "1/0122171104.08249"
SPACECRAFT_CLOCK_STOP_COUNT = "1/0122171529.08002"
START_TIME = 2007-03-17T00:26:31.100Z
STOP_TIME = 2007-03-17T00:32:01.827Z
/* ORBITAL DATA ELEMENTS */
ASCENDING_NODE_LONGITUDE = 142.39
MAXIMUM_RESOLUTION = 26.2
FOOTPRINT_POINT_LATITUDE = (-33.2649,-33.2607,-33.2562,-33.2676, -33.0014,-32.7369,-32.4713,-32.2091, -31.6901,-30.9221,-30.4156,-29.9186, -29.4243,-28.9349,-28.4488,-27.9733, -27.2628,-26.7978,-26.1035,-25.399, -24.9309,-24.2314,-23.7569,-23.2878, -22.8169,-22.1688,-21.774,-21.3787, -20.9827,-20.5862,-20.1919,-19.7955, -19.1997,-18.8026,-18.4042,-18.0066, -17.6096,-17.2177,-16.8322,-16.446, -16.0606,-15.6748,-15.0972,-14.7224, -14.1614,-13.4147,-12.8566,-12.4836, -12.1103,-11.7481,-11.7224,-11.7217, -12.2703,-12.6427,-13.0161,-13.3894, -13.9492,-14.5094,-14.8827,-15.262, -15.6486,-16.0347,-16.6133,-17.191, -17.5838,-17.981,-18.5808,-18.9791, -19.371,-19.768,-20.3638,-20.7607, -21.1581,-21.553,-21.9487,-22.3437, -23.0266,-23.4961,-23.9657,-24.4351, -24.9037,-25.3719,-26.0739,-26.5399, -27.2388,-27.7111,-28.1889,-28.6697, -29.1578,-29.6479,-30.146,-30.6511, -31.1561,-31.6707,-32.1916,-32.4556, -32.7188,-32.9832,-33.2502,-33.2649)
FOOTPRINT_POINT_LONGITUDE = (345.282,344.756,344.324,343.743, 343.756,343.769,343.782,343.794,343.818 ,343.852,343.873,343.892,343.911, 343.931,343.948,343.965,343.988,344.003 ,344.022,344.044,344.058,344.074, 344.089,344.1,344.111,344.125,344.134, 344.142,344.15,344.157,344.164,344.171, 344.181,344.187,344.194,344.2,344.205, 344.21,344.215,344.22,344.224,344.228, 344.234,344.238,344.243,344.249,344.252 ,344.255,344.257,344.259,344.809, 345.396,345.401,345.404,345.407,345.411 ,345.416,345.421,345.425,345.429, 345.434,345.438,345.444,345.451,345.456 ,345.46,345.469,345.474,345.477,345.482 ,345.49,345.496,345.502,345.507,345.513 ,345.518,345.528,345.535,345.542, 345.549,345.556,345.563,345.575,345.582 ,345.594,345.602,345.611,345.619, 345.628,345.637,345.646,345.657,345.664 ,345.674,345.685,345.691,345.695,345.7, 345.706,345.282)
ORBIT_NUMBER = 4101
ORBITAL_ECCENTRICITY = 0.57
ORBITAL_INCLINATION = 86.67
ORBITAL_SEMIMAJOR_AXIS = 8621.13
PERIAPSIS_ALTITUDE = 307.41
PERIAPSIS_ARGUMENT_ANGLE = 355.75
PERIAPSIS_TIME = 2007-03-17T00:33:38.000Z
SPACECRAFT_ORIENTATION = (0.0,1.0,0.0)
^MEX_ORIENTATION_DESC = "MEX_ORIENTATION_DESC.TXT"
SPACECRAFT_POINTING_MODE = NADIR
^MEX_POINTING_DESC = "MEX_POINTING_DESC.TXT"
RIGHT_ASCENSION = -1e+32
DECLINATION = -1e+32
OFFSET_ANGLE = -1e+32
SPACECRAFT_SOLAR_DISTANCE = 2.1302e+08
TARGET_NAME = MARS
/* CAMERA DATA ELEMENTS */
DETECTOR_TEMPERATURE = 17.5549
FOCAL_PLANE_TEMPERATURE = 9.3989
INST_CMPRS_NAME = "DISCRETE COSINE TRANSFORMATION (DCT)"
INST_CMPRS_RATIO = 11.8974
INST_CMPRS_QUALITY = 0
INST_CMPRS_QUANTZ_TBL_ID = 0
INSTRUMENT_TEMPERATURE = 11.4379
LENS_TEMPERATURE = 9.8067
MACROPIXEL_SIZE = 2
MISSING_FRAMES = 0
PIXEL_SUBSAMPLING_FLAG = N
SIGNAL_CHAIN_ID = 3
/* RADIOMETRIC DATA ELEMENTS */
BANDWIDTH = 174.0
CENTER_FILTER_WAVELENGTH = 675.0
RADIANCE_OFFSET = 2.0158
RADIANCE_SCALING_FACTOR = 0.00676414
REFLECTANCE_SCALING_FACTOR = 0.000165098
MEX:REFLECTANCE_OFFSET = 0.0492012
/* IMAGE OBJECT DEFINITIONS */
OBJECT = IMAGE
  INTERCHANGE_FORMAT = BINARY
  LINES = 51131
  LINE_SAMPLES = 4193
  SAMPLE_TYPE = UNSIGNED_INTEGER
  SAMPLE_BITS = 8
  BANDS = 1
  BAND_STORAGE_TYPE = BAND_SEQUENTIAL
  MAXIMUM = 255
  MEAN = 112.721
  MINIMUM = 1
  STANDARD_DEVIATION = 25.9273
END_OBJECT = IMAGE
/* MAP OBJECT DEFINITIONS */
OBJECT = IMAGE_MAP_PROJECTION
  ^DATA_SET_MAP_PROJECTION_CATALOG= "DSMAP.CAT"
  A_AXIS_RADIUS = 3396.0
  B_AXIS_RADIUS = 3396.0
  C_AXIS_RADIUS = 3396.0
  CENTER_LATITUDE = 0.0
  CENTER_LONGITUDE = 345.0
  COORDINATE_SYSTEM_NAME = PLANETOGRAPHIC
  COORDINATE_SYSTEM_TYPE = "BODY-FIXED ROTATING"
  EASTERNMOST_LONGITUDE = 345.706
  FIRST_STANDARD_PARALLEL = "N/A"
  LINE_FIRST_PIXEL = 1
  LINE_LAST_PIXEL = 51131
  LINE_PROJECTION_OFFSET = -27781.75
  MAP_PROJECTION_ROTATION = 0.0
  MAP_PROJECTION_TYPE = SINUSOIDAL
  MAP_RESOLUTION = 2370.85521546667
  MAP_SCALE = 0.025
  MAXIMUM_LATITUDE = -11.7217
  MINIMUM_LATITUDE = -33.2676
  POSITIVE_LONGITUDE_DIRECTION = EAST
  REFERENCE_LATITUDE = "N/A"
  REFERENCE_LONGITUDE = "N/A"
  SAMPLE_FIRST_PIXEL = 1
  SAMPLE_LAST_PIXEL = 4193
  SAMPLE_PROJECTION_OFFSET = 2645.75
  SECOND_STANDARD_PARALLEL = "N/A"
  WESTERNMOST_LONGITUDE = 343.743
END_OBJECT = IMAGE_MAP_PROJECTION
/* The JPEG2000 image data file associated with this label. */
OBJECT = COMPRESSED_FILE
  FILE_NAME = "H4101_0000_P13.JP2"
  RECORD_TYPE = UNDEFINED
  FILE_RECORDS = UNK
  ENCODING_TYPE = "JP2"
  INTERCHANGE_FORMAT = BINARY
  UNCOMPRESSED_FILE_NAME = "H4101_0000_P13.IMG"
  REQUIRED_STORAGE_BYTES = "214417441"
  ^DESCRIPTION = "JP2INFO.TXT"
END_OBJECT = COMPRESSED_FILE
END
