PDS_VERSION_ID = PDS3
/* FILE DATA ELEMENTS */
RECORD_TYPE = STREAM
/* POINTERS TO DATA OBJECTS */
^COMPRESSED_FILE = "H4112_0000_ND3.JP2"
/* IDENTIFICATION DATA ELEMENTS */
DATA_SET_ID = "MEX-M-HRSC-5-REFDR-MAPPROJECTED-V3.0"
DATA_SET_NAME = "MARS EXPRESS HRSC MAP PROJECTED REFDR V3.0"
DETECTOR_ID = MEX_HRSC_NADIR
EVENT_TYPE = "MARS-REGIONAL-MAPPING-Im-Fl-La"
INSTRUMENT_HOST_ID = MEX
INSTRUMENT_HOST_NAME = "MARS EXPRESS"
INSTRUMENT_ID = HRSC
INSTRUMENT_NAME = "HIGH RESOLUTION STEREO CAMERA"
MISSION_NAME = "MARS EXPRESS"
MISSION_PHASE_NAME = ME_Phase_7
PROCESSING_LEVEL_ID = 3
PRODUCT_CREATION_TIME = 2016-04-20T19:30:25.000Z
PRODUCT_ID = "H4112_0000_ND3.JP2"
RELEASE_ID = 0047
REVISION_ID = 0000
/* QUALITY DATA ELEMENTS */
DATA_QUALITY_ID = 1
DATA_QUALITY_DESC = "Data calculated based on original SPICE kernels"
/* TIME DATA ELEMENTS */
SPACECRAFT_CLOCK_START_COUNT = "1/0122437465.07309"
SPACECRAFT_CLOCK_STOP_COUNT = "1/0122437745.40812"
START_TIME = 2007-03-20T02:28:08.616Z
STOP_TIME = 2007-03-20T02:28:40.571Z
/* ORBITAL DATA ELEMENTS */
ASCENDING_NODE_LONGITUDE = 142.16
MAXIMUM_RESOLUTION = 12.4
FOOTPRINT_POINT_LATITUDE = (-6.75485,-6.75501,-6.75534,-6.7556, -6.75574,-6.75587,-6.75612,-6.75637, -6.75669,-6.75691,-6.75702,-6.75714, -6.75732,-6.75741,-6.75756,-6.73576, -6.69289,-6.65001,-6.60714,-6.56471, -6.48204,-6.39938,-6.33738,-6.27538, -6.1927,-6.1307,-6.04798,-5.96521, -5.88251,-5.79982,-5.71713,-5.61378, -5.53111,-5.42778,-5.34511,-5.2625, -5.20054,-5.11787,-5.05392,-4.98962, -4.94673,-4.90386,-4.861,-4.81813, -4.77527,-4.71099,-4.66812,-4.65347, -4.65336,-4.65324,-4.65312,-4.65295, -4.65282,-4.65266,-4.65248,-4.65229, -4.65214,-4.65199,-4.65186,-4.65168, -4.65152,-4.65137,-4.65123,-4.65108, -4.65083,-4.65062,-4.65045,-4.65029, -4.6502,-4.69307,-4.73595,-4.77883, -4.82169,-4.86457,-4.90743,-4.95031, -5.01461,-5.05748,-5.16254,-5.24523, -5.32792,-5.43129,-5.49331,-5.59668, -5.67937,-5.76208,-5.8241,-5.92748, -6.01018,-6.13422,-6.21692,-6.29962, -6.40299,-6.48568,-6.56838,-6.61107, -6.65395,-6.69683,-6.73971,-6.75485)
FOOTPRINT_POINT_LONGITUDE = (344.322,344.28,344.195,344.12,344.078, 344.035,343.961,343.876,343.759,343.674 ,343.632,343.578,343.493,343.451, 343.376,343.303,343.303,343.303,343.302 ,343.302,343.302,343.302,343.302, 343.302,343.302,343.302,343.301,343.3, 343.299,343.299,343.298,343.298,343.298 ,343.298,343.298,343.299,343.299, 343.299,343.298,343.298,343.298,343.298 ,343.297,343.297,343.297,343.297, 343.297,343.34,343.383,343.425,343.468, 343.533,343.575,343.629,343.693,343.757 ,343.8,343.843,343.886,343.939,343.982, 344.025,344.068,344.11,344.175,344.228, 344.271,344.314,344.383,344.383,344.383 ,344.383,344.384,344.384,344.384, 344.384,344.385,344.385,344.385,344.385 ,344.386,344.386,344.386,344.387, 344.387,344.387,344.387,344.388,344.388 ,344.388,344.389,344.389,344.389,344.39 ,344.39,344.39,344.391,344.391,344.391, 344.322)
ORBIT_NUMBER = 4112
ORBITAL_ECCENTRICITY = 0.571
ORBITAL_INCLINATION = 86.67
ORBITAL_SEMIMAJOR_AXIS = 8620.49
PERIAPSIS_ALTITUDE = 306.46
PERIAPSIS_ARGUMENT_ANGLE = 353.79
PERIAPSIS_TIME = 2007-03-20T02:28:18.000Z
SPACECRAFT_ORIENTATION = (0.0,1.0,0.0)
^MEX_ORIENTATION_DESC = "MEX_ORIENTATION_DESC.TXT"
SPACECRAFT_POINTING_MODE = NADIR
^MEX_POINTING_DESC = "MEX_POINTING_DESC.TXT"
RIGHT_ASCENSION = -1e+32
DECLINATION = -1e+32
OFFSET_ANGLE = -1e+32
SPACECRAFT_SOLAR_DISTANCE = 2.12569e+08
TARGET_NAME = MARS
/* CAMERA DATA ELEMENTS */
DETECTOR_TEMPERATURE = 18.5744
FOCAL_PLANE_TEMPERATURE = 8.9911
INST_CMPRS_NAME = "DISCRETE COSINE TRANSFORMATION (DCT)"
INST_CMPRS_RATIO = 6.43378
INST_CMPRS_QUALITY = 0
INST_CMPRS_QUANTZ_TBL_ID = 0
INSTRUMENT_TEMPERATURE = 11.4379
LENS_TEMPERATURE = 8.1755
MACROPIXEL_SIZE = 1
MISSING_FRAMES = 0
PIXEL_SUBSAMPLING_FLAG = N
SIGNAL_CHAIN_ID = 0
/* RADIOMETRIC DATA ELEMENTS */
BANDWIDTH = 177.0
CENTER_FILTER_WAVELENGTH = 677.5
RADIANCE_OFFSET = 2.09827
RADIANCE_SCALING_FACTOR = 0.00436211
REFLECTANCE_SCALING_FACTOR = 0.000104709
MEX:REFLECTANCE_OFFSET = 0.0503672
/* IMAGE OBJECT DEFINITIONS */
OBJECT = IMAGE
  INTERCHANGE_FORMAT = BINARY
  LINES = 9992
  LINE_SAMPLES = 5492
  SAMPLE_TYPE = UNSIGNED_INTEGER
  SAMPLE_BITS = 8
  BANDS = 1
  BAND_STORAGE_TYPE = BAND_SEQUENTIAL
  MAXIMUM = 255
  MEAN = 95.5029
  MINIMUM = 1
  STANDARD_DEVIATION = 24.5977
END_OBJECT = IMAGE
/* MAP OBJECT DEFINITIONS */
OBJECT = IMAGE_MAP_PROJECTION
  ^DATA_SET_MAP_PROJECTION_CATALOG= "DSMAP.CAT"
  A_AXIS_RADIUS = 3396.0
  B_AXIS_RADIUS = 3396.0
  C_AXIS_RADIUS = 3396.0
  CENTER_LATITUDE = 0.0
  CENTER_LONGITUDE = 344.0
  COORDINATE_SYSTEM_NAME = PLANETOGRAPHIC
  COORDINATE_SYSTEM_TYPE = "BODY-FIXED ROTATING"
  EASTERNMOST_LONGITUDE = 344.391
  FIRST_STANDARD_PARALLEL = "N/A"
  LINE_FIRST_PIXEL = 1
  LINE_LAST_PIXEL = 9992
  LINE_PROJECTION_OFFSET = -22052.0
  MAP_PROJECTION_ROTATION = 0.0
  MAP_PROJECTION_TYPE = SINUSOIDAL
  MAP_RESOLUTION = 4741.71043093333
  MAP_SCALE = 0.0125
  MAXIMUM_LATITUDE = -4.6502
  MINIMUM_LATITUDE = -6.75756
  POSITIVE_LONGITUDE_DIRECTION = EAST
  REFERENCE_LATITUDE = "N/A"
  REFERENCE_LONGITUDE = "N/A"
  SAMPLE_FIRST_PIXEL = 1
  SAMPLE_LAST_PIXEL = 5492
  SAMPLE_PROJECTION_OFFSET = 3486.0
  SECOND_STANDARD_PARALLEL = "N/A"
  WESTERNMOST_LONGITUDE = 343.297
END_OBJECT = IMAGE_MAP_PROJECTION
/* The JPEG2000 image data file associated with this label. */
OBJECT = COMPRESSED_FILE
  FILE_NAME = "H4112_0000_ND3.JP2"
  RECORD_TYPE = UNDEFINED
  FILE_RECORDS = UNK
  ENCODING_TYPE = "JP2"
  INTERCHANGE_FORMAT = BINARY
  UNCOMPRESSED_FILE_NAME = "H4112_0000_ND3.IMG"
  REQUIRED_STORAGE_BYTES = "54903524"
  ^DESCRIPTION = "JP2INFO.TXT"
END_OBJECT = COMPRESSED_FILE
END
