PDS_VERSION_ID = PDS3
/* FILE DATA ELEMENTS */
RECORD_TYPE = STREAM
/* POINTERS TO DATA OBJECTS */
^COMPRESSED_FILE = "H4114_0000_RE3.JP2"
/* IDENTIFICATION DATA ELEMENTS */
DATA_SET_ID = "MEX-M-HRSC-5-REFDR-MAPPROJECTED-V3.0"
DATA_SET_NAME = "MARS EXPRESS HRSC MAP PROJECTED REFDR V3.0"
DETECTOR_ID = MEX_HRSC_RED
EVENT_TYPE = "MARS-REGIONAL-MAPPING-Im-Fl-Mw"
INSTRUMENT_HOST_ID = MEX
INSTRUMENT_HOST_NAME = "MARS EXPRESS"
INSTRUMENT_ID = HRSC
INSTRUMENT_NAME = "HIGH RESOLUTION STEREO CAMERA"
MISSION_NAME = "MARS EXPRESS"
MISSION_PHASE_NAME = ME_Phase_7
PROCESSING_LEVEL_ID = 3
PRODUCT_CREATION_TIME = 2016-04-20T19:30:25.000Z
PRODUCT_ID = "H4114_0000_RE3.JP2"
RELEASE_ID = 0047
REVISION_ID = 0000
/* QUALITY DATA ELEMENTS */
DATA_QUALITY_ID = 2
DATA_QUALITY_DESC = "Data calculated based on photogrammetrically improved orbit and attitude data"
/* TIME DATA ELEMENTS */
SPACECRAFT_CLOCK_START_COUNT = "1/0122485574.09051"
SPACECRAFT_CLOCK_STOP_COUNT = "1/0122485894.49089"
START_TIME = 2007-03-20T15:46:28.084Z
STOP_TIME = 2007-03-20T15:50:38.274Z
/* ORBITAL DATA ELEMENTS */
ASCENDING_NODE_LONGITUDE = 142.11
MAXIMUM_RESOLUTION = 60.2
FOOTPRINT_POINT_LATITUDE = (-35.0913,-35.1056,-35.1185,-35.1395, -35.1256,-34.7935,-34.4625,-34.1355, -33.8095,-33.488,-33.1652,-32.8479, -32.5292,-32.2149,-31.901,-31.436, -31.127,-30.8207,-30.5174,-30.2135, -29.9136,-29.6152,-29.3171,-29.025, -28.7313,-28.2943,-28.0067,-27.7148, -27.2836,-27.0029,-26.7185,-26.2973, -26.0191,-25.7404,-25.4636,-25.1914, -24.9183,-24.5073,-24.0961,-23.8213, -23.4077,-23.1309,-22.8525,-22.5739, -22.2959,-22.0174,-21.7404,-21.4603, -21.0404,-20.7594,-20.4462,-20.4285, -20.4065,-20.3864,-20.4865,-20.8864, -21.3065,-21.5867,-21.866,-22.1447, -22.4228,-22.8393,-23.1183,-23.535, -23.8109,-24.0858,-24.3612,-24.6332, -24.9087,-25.1815,-25.4543,-25.7319, -26.01,-26.2841,-26.7055,-26.9899, -27.2733,-27.5594,-27.8487,-28.1406, -28.4263,-28.7206,-29.0185,-29.3117, -29.7589,-30.0574,-30.361,-30.8165, -31.2797,-31.5881,-31.9021,-32.2152, -32.6911,-33.0102,-33.3337,-33.8103, -34.1401,-34.4752,-34.8011,-35.0913)
FOOTPRINT_POINT_LONGITUDE = (149.411,149.07,148.732,148.066,147.451 ,147.467,147.481,147.496,147.509, 147.522,147.535,147.548,147.56,147.572, 147.583,147.599,147.61,147.62,147.63, 147.639,147.649,147.658,147.666,147.674 ,147.683,147.694,147.701,147.709, 147.721,147.727,147.733,147.743,147.749 ,147.755,147.76,147.766,147.771,147.779 ,147.786,147.791,147.797,147.802, 147.806,147.811,147.815,147.819,147.822 ,147.826,147.831,147.835,148.012, 148.304,148.643,148.961,149.239,149.249 ,149.259,149.266,149.273,149.28,149.287 ,149.298,149.303,149.312,149.32,149.328 ,149.335,149.345,149.351,149.359, 149.367,149.376,149.385,149.397,149.411 ,149.419,149.428,149.437,149.446, 149.453,149.466,149.476,149.482,149.493 ,149.51,149.521,149.532,149.549,149.565 ,149.577,149.588,149.601,149.618,149.63 ,149.642,149.67,149.683,149.689,149.71, 149.411)
ORBIT_NUMBER = 4114
ORBITAL_ECCENTRICITY = 0.571
ORBITAL_INCLINATION = 86.67
ORBITAL_SEMIMAJOR_AXIS = 8622.79
PERIAPSIS_ALTITUDE = 306.37
PERIAPSIS_ARGUMENT_ANGLE = 353.48
PERIAPSIS_TIME = 2007-03-20T15:54:39.000Z
SPACECRAFT_ORIENTATION = (0.0,1.0,0.0)
^MEX_ORIENTATION_DESC = "MEX_ORIENTATION_DESC.TXT"
SPACECRAFT_POINTING_MODE = ACROSSTRACK
^MEX_POINTING_DESC = "MEX_POINTING_DESC.TXT"
RIGHT_ASCENSION = -1e+32
DECLINATION = -1e+32
OFFSET_ANGLE = -1.145
SPACECRAFT_SOLAR_DISTANCE = 2.12489e+08
TARGET_NAME = MARS
/* CAMERA DATA ELEMENTS */
DETECTOR_TEMPERATURE = 18.9822
FOCAL_PLANE_TEMPERATURE = 9.195
INST_CMPRS_NAME = "DISCRETE COSINE TRANSFORMATION (DCT)"
INST_CMPRS_RATIO = 9.71752
INST_CMPRS_QUALITY = 0
INST_CMPRS_QUANTZ_TBL_ID = 0
INSTRUMENT_TEMPERATURE = 11.6418
LENS_TEMPERATURE = 9.3989
MACROPIXEL_SIZE = 4
MISSING_FRAMES = 0
PIXEL_SUBSAMPLING_FLAG = N
SIGNAL_CHAIN_ID = 2
/* RADIOMETRIC DATA ELEMENTS */
BANDWIDTH = 48.0
CENTER_FILTER_WAVELENGTH = 748.0
RADIANCE_OFFSET = 0.485387
RADIANCE_SCALING_FACTOR = 0.00220693
REFLECTANCE_SCALING_FACTOR = 0.0002274
MEX:REFLECTANCE_OFFSET = 0.0500138
/* IMAGE OBJECT DEFINITIONS */
OBJECT = IMAGE
  INTERCHANGE_FORMAT = BINARY
  LINES = 17398
  LINE_SAMPLES = 2144
  SAMPLE_TYPE = UNSIGNED_INTEGER
  SAMPLE_BITS = 8
  BANDS = 1
  BAND_STORAGE_TYPE = BAND_SEQUENTIAL
  MAXIMUM = 255
  MEAN = 102.447
  MINIMUM = 1
  STANDARD_DEVIATION = 25.4696
END_OBJECT = IMAGE
/* MAP OBJECT DEFINITIONS */
OBJECT = IMAGE_MAP_PROJECTION
  ^DATA_SET_MAP_PROJECTION_CATALOG= "DSMAP.CAT"
  A_AXIS_RADIUS = 3396.0
  B_AXIS_RADIUS = 3396.0
  C_AXIS_RADIUS = 3396.0
  CENTER_LATITUDE = 0.0
  CENTER_LONGITUDE = 149.0
  COORDINATE_SYSTEM_NAME = PLANETOGRAPHIC
  COORDINATE_SYSTEM_TYPE = "BODY-FIXED ROTATING"
  EASTERNMOST_LONGITUDE = 149.71
  FIRST_STANDARD_PARALLEL = "N/A"
  LINE_FIRST_PIXEL = 1
  LINE_LAST_PIXEL = 17398
  LINE_PROJECTION_OFFSET = -24191.125
  MAP_PROJECTION_ROTATION = 0.0
  MAP_PROJECTION_TYPE = SINUSOIDAL
  MAP_RESOLUTION = 1185.42760773333
  MAP_SCALE = 0.05
  MAXIMUM_LATITUDE = -20.3864
  MINIMUM_LATITUDE = -35.1395
  POSITIVE_LONGITUDE_DIRECTION = EAST
  REFERENCE_LATITUDE = "N/A"
  REFERENCE_LONGITUDE = "N/A"
  SAMPLE_FIRST_PIXEL = 1
  SAMPLE_LAST_PIXEL = 2144
  SAMPLE_PROJECTION_OFFSET = 1446.375
  SECOND_STANDARD_PARALLEL = "N/A"
  WESTERNMOST_LONGITUDE = 147.451
END_OBJECT = IMAGE_MAP_PROJECTION
/* The JPEG2000 image data file associated with this label. */
OBJECT = COMPRESSED_FILE
  FILE_NAME = "H4114_0000_RE3.JP2"
  RECORD_TYPE = UNDEFINED
  FILE_RECORDS = UNK
  ENCODING_TYPE = "JP2"
  INTERCHANGE_FORMAT = BINARY
  UNCOMPRESSED_FILE_NAME = "H4114_0000_RE3.IMG"
  REQUIRED_STORAGE_BYTES = "37322752"
  ^DESCRIPTION = "JP2INFO.TXT"
END_OBJECT = COMPRESSED_FILE
END
