PDS_VERSION_ID = PDS3
/* FILE DATA ELEMENTS */
RECORD_TYPE = STREAM
/* POINTERS TO DATA OBJECTS */
^COMPRESSED_FILE = "H4117_0000_IR3.JP2"
/* IDENTIFICATION DATA ELEMENTS */
DATA_SET_ID = "MEX-M-HRSC-5-REFDR-MAPPROJECTED-V3.0"
DATA_SET_NAME = "MARS EXPRESS HRSC MAP PROJECTED REFDR V3.0"
DETECTOR_ID = MEX_HRSC_IR
EVENT_TYPE = "MARS-REGIONAL-MAPPING-Vo-Te-Fl"
INSTRUMENT_HOST_ID = MEX
INSTRUMENT_HOST_NAME = "MARS EXPRESS"
INSTRUMENT_ID = HRSC
INSTRUMENT_NAME = "HIGH RESOLUTION STEREO CAMERA"
MISSION_NAME = "MARS EXPRESS"
MISSION_PHASE_NAME = ME_Phase_7
PROCESSING_LEVEL_ID = 3
PRODUCT_CREATION_TIME = 2016-04-20T19:30:25.000Z
PRODUCT_ID = "H4117_0000_IR3.JP2"
RELEASE_ID = 0047
REVISION_ID = 0000
/* QUALITY DATA ELEMENTS */
DATA_QUALITY_ID = 2
DATA_QUALITY_DESC = "Data calculated based on photogrammetrically improved orbit and attitude data"
/* TIME DATA ELEMENTS */
SPACECRAFT_CLOCK_START_COUNT = "1/0122558289.07289"
SPACECRAFT_CLOCK_STOP_COUNT = "1/0122558592.24401"
START_TIME = 2007-03-21T11:59:21.345Z
STOP_TIME = 2007-03-21T12:03:10.017Z
/* ORBITAL DATA ELEMENTS */
ASCENDING_NODE_LONGITUDE = 142.05
MAXIMUM_RESOLUTION = 103.2
FOOTPRINT_POINT_LATITUDE = (-27.0089,-27.0075,-27.0063,-27.0038, -27.0115,-26.6459,-26.2815,-25.9157, -25.5659,-25.1047,-24.6428,-24.1814, -23.8737,-23.5653,-23.2612,-22.9531, -22.6419,-22.1788,-21.8691,-21.561, -21.2528,-20.9429,-20.6353,-20.186, -19.8864,-19.5852,-19.2914,-18.839, -18.5379,-18.0921,-17.8002,-17.5112, -17.0786,-16.7862,-16.4988,-16.1967, -15.9116,-15.6302,-15.2083,-14.7893, -14.3704,-14.0912,-13.6724,-13.254, -12.8352,-12.5563,-12.2775,-11.9987, -11.8618,-11.8609,-11.8608,-12.0, -12.2778,-12.6956,-12.9742,-13.2523, -13.5298,-13.9482,-14.227,-14.6449, -14.9261,-15.2022,-15.485,-15.774, -16.0648,-16.5132,-16.9476,-17.382, -17.6716,-17.9611,-18.2507,-18.5455, -18.8443,-19.1466,-19.4394,-19.7386, -20.0365,-20.335,-20.7966,-21.106, -21.5697,-21.8786,-22.1877,-22.6496, -22.9499,-23.2604,-23.5723,-23.8824, -24.1898,-24.4986,-24.8087,-25.2702, -25.5783,-25.9298,-26.1132,-26.2967, -26.4805,-26.6654,-26.8486,-27.0089)
FOOTPRINT_POINT_LONGITUDE = (212.871,212.611,212.393,212.024, 211.752,211.763,211.772,211.782,211.791 ,211.803,211.815,211.826,211.833,211.84 ,211.845,211.851,211.859,211.868, 211.874,211.88,211.885,211.891,211.895, 211.903,211.907,211.913,211.915,211.922 ,211.927,211.935,211.939,211.942, 211.947,211.951,211.953,211.955,211.956 ,211.956,211.959,211.962,211.965, 211.967,211.969,211.972,211.974,211.975 ,211.976,211.977,212.274,212.592, 212.797,213.071,213.072,213.075,213.076 ,213.078,213.079,213.082,213.084, 213.087,213.089,213.09,213.094,213.096, 213.099,213.103,213.107,213.111,213.114 ,213.116,213.119,213.122,213.124, 213.128,213.129,213.132,213.134,213.137 ,213.144,213.148,213.153,213.156, 213.159,213.164,213.164,213.169,213.174 ,213.178,213.181,213.185,213.19,213.196 ,213.2,213.204,213.207,213.209,213.212, 213.215,213.217,212.871)
ORBIT_NUMBER = 4117
ORBITAL_ECCENTRICITY = 0.571
ORBITAL_INCLINATION = 86.68
ORBITAL_SEMIMAJOR_AXIS = 8623.94
PERIAPSIS_ALTITUDE = 305.74
PERIAPSIS_ARGUMENT_ANGLE = 352.91
PERIAPSIS_TIME = 2007-03-21T12:04:01.000Z
SPACECRAFT_ORIENTATION = (0.0,1.0,0.0)
^MEX_ORIENTATION_DESC = "MEX_ORIENTATION_DESC.TXT"
SPACECRAFT_POINTING_MODE = NADIR
^MEX_POINTING_DESC = "MEX_POINTING_DESC.TXT"
RIGHT_ASCENSION = -1e+32
DECLINATION = -1e+32
OFFSET_ANGLE = -1e+32
SPACECRAFT_SOLAR_DISTANCE = 2.12369e+08
TARGET_NAME = MARS
/* CAMERA DATA ELEMENTS */
DETECTOR_TEMPERATURE = 17.7588
FOCAL_PLANE_TEMPERATURE = 9.3989
INST_CMPRS_NAME = "DISCRETE COSINE TRANSFORMATION (DCT)"
INST_CMPRS_RATIO = 5.494
INST_CMPRS_QUALITY = 0
INST_CMPRS_QUANTZ_TBL_ID = 0
INSTRUMENT_TEMPERATURE = 11.6418
LENS_TEMPERATURE = 9.8067
MACROPIXEL_SIZE = 8
MISSING_FRAMES = 1
PIXEL_SUBSAMPLING_FLAG = N
SIGNAL_CHAIN_ID = 2
/* RADIOMETRIC DATA ELEMENTS */
BANDWIDTH = 81.0
CENTER_FILTER_WAVELENGTH = 955.5
RADIANCE_OFFSET = 0.609265
RADIANCE_SCALING_FACTOR = 0.00524475
REFLECTANCE_SCALING_FACTOR = 0.000510313
MEX:REFLECTANCE_OFFSET = 0.0592813
/* IMAGE OBJECT DEFINITIONS */
OBJECT = IMAGE
  INTERCHANGE_FORMAT = BINARY
  LINES = 8995
  LINE_SAMPLES = 852
  SAMPLE_TYPE = UNSIGNED_INTEGER
  SAMPLE_BITS = 8
  BANDS = 1
  BAND_STORAGE_TYPE = BAND_SEQUENTIAL
  MAXIMUM = 255
  MEAN = 95.0854
  MINIMUM = 1
  STANDARD_DEVIATION = 23.8533
END_OBJECT = IMAGE
/* MAP OBJECT DEFINITIONS */
OBJECT = IMAGE_MAP_PROJECTION
  ^DATA_SET_MAP_PROJECTION_CATALOG= "DSMAP.CAT"
  A_AXIS_RADIUS = 3396.0
  B_AXIS_RADIUS = 3396.0
  C_AXIS_RADIUS = 3396.0
  CENTER_LATITUDE = 0.0
  CENTER_LONGITUDE = 213.0
  COORDINATE_SYSTEM_NAME = PLANETOGRAPHIC
  COORDINATE_SYSTEM_TYPE = "BODY-FIXED ROTATING"
  EASTERNMOST_LONGITUDE = 213.217
  FIRST_STANDARD_PARALLEL = "N/A"
  LINE_FIRST_PIXEL = 1
  LINE_LAST_PIXEL = 8995
  LINE_PROJECTION_OFFSET = -7032.1875
  MAP_PROJECTION_ROTATION = 0.0
  MAP_PROJECTION_TYPE = SINUSOIDAL
  MAP_RESOLUTION = 592.713803866667
  MAP_SCALE = 0.1
  MAXIMUM_LATITUDE = -11.8608
  MINIMUM_LATITUDE = -27.0115
  POSITIVE_LONGITUDE_DIRECTION = EAST
  REFERENCE_LATITUDE = "N/A"
  REFERENCE_LONGITUDE = "N/A"
  SAMPLE_FIRST_PIXEL = 1
  SAMPLE_LAST_PIXEL = 852
  SAMPLE_PROJECTION_OFFSET = 702.5625
  SECOND_STANDARD_PARALLEL = "N/A"
  WESTERNMOST_LONGITUDE = 211.752
END_OBJECT = IMAGE_MAP_PROJECTION
/* The JPEG2000 image data file associated with this label. */
OBJECT = COMPRESSED_FILE
  FILE_NAME = "H4117_0000_IR3.JP2"
  RECORD_TYPE = UNDEFINED
  FILE_RECORDS = UNK
  ENCODING_TYPE = "JP2"
  INTERCHANGE_FORMAT = BINARY
  UNCOMPRESSED_FILE_NAME = "H4117_0000_IR3.IMG"
  REQUIRED_STORAGE_BYTES = "7682484"
  ^DESCRIPTION = "JP2INFO.TXT"
END_OBJECT = COMPRESSED_FILE
END
