PDS_VERSION_ID = PDS3
/* FILE DATA ELEMENTS */
RECORD_TYPE = STREAM
/* POINTERS TO DATA OBJECTS */
^COMPRESSED_FILE = "H4117_0000_S13.JP2"
/* IDENTIFICATION DATA ELEMENTS */
DATA_SET_ID = "MEX-M-HRSC-5-REFDR-MAPPROJECTED-V3.0"
DATA_SET_NAME = "MARS EXPRESS HRSC MAP PROJECTED REFDR V3.0"
DETECTOR_ID = MEX_HRSC_S1
EVENT_TYPE = "MARS-REGIONAL-MAPPING-Vo-Te-Fl"
INSTRUMENT_HOST_ID = MEX
INSTRUMENT_HOST_NAME = "MARS EXPRESS"
INSTRUMENT_ID = HRSC
INSTRUMENT_NAME = "HIGH RESOLUTION STEREO CAMERA"
MISSION_NAME = "MARS EXPRESS"
MISSION_PHASE_NAME = ME_Phase_7
PROCESSING_LEVEL_ID = 3
PRODUCT_CREATION_TIME = 2016-04-20T19:30:25.000Z
PRODUCT_ID = "H4117_0000_S13.JP2"
RELEASE_ID = 0047
REVISION_ID = 0000
/* QUALITY DATA ELEMENTS */
DATA_QUALITY_ID = 2
DATA_QUALITY_DESC = "Data calculated based on photogrammetrically improved orbit and attitude data"
/* TIME DATA ELEMENTS */
SPACECRAFT_CLOCK_START_COUNT = "1/0122558289.07289"
SPACECRAFT_CLOCK_STOP_COUNT = "1/0122558592.24401"
START_TIME = 2007-03-21T11:59:26.914Z
STOP_TIME = 2007-03-21T12:03:14.537Z
/* ORBITAL DATA ELEMENTS */
ASCENDING_NODE_LONGITUDE = 142.05
MAXIMUM_RESOLUTION = 26.2
FOOTPRINT_POINT_LATITUDE = (-27.0117,-27.0106,-27.0094,-27.0078, -27.0064,-27.0049,-26.6445,-26.2733, -25.919,-25.4498,-25.1367,-24.6659, -24.1959,-23.8827,-23.5686,-23.2599, -22.9464,-22.6291,-22.1576,-21.8427, -21.5292,-21.2158,-20.9024,-20.6001, -20.2965,-19.9919,-19.6843,-19.3874, -19.0836,-18.7747,-18.4767,-18.1767, -17.8782,-17.5849,-17.1457,-16.8499, -16.3977,-16.1054,-15.8224,-15.5437, -15.2607,-14.9774,-14.6943,-14.4112, -14.1281,-13.7037,-13.2798,-12.7142, -12.4317,-12.1494,-11.8681,-11.8675, -11.8667,-11.8659,-12.0062,-12.2877, -12.7097,-12.9918,-13.2731,-13.5541, -13.978,-14.2605,-14.6839,-15.1078, -15.3928,-15.8204,-16.2631,-16.5569, -16.864,-17.3048,-17.5988,-18.0397, -18.3338,-18.6279,-18.9274,-19.3818, -19.6844,-19.9869,-20.2897,-20.5988, -20.9061,-21.3771,-21.691,-22.0052, -22.3198,-22.633,-22.9378,-23.2517, -23.5708,-23.8869,-24.3568,-24.6717, -24.9931,-25.3008,-25.6148,-25.9281, -26.2836,-26.4706,-26.6602,-27.0117)
FOOTPRINT_POINT_LONGITUDE = (213.209,212.927,212.7,212.403,212.177, 211.951,211.754,211.764,211.773,211.786 ,211.794,211.806,211.817,211.824, 211.831,211.836,211.843,211.85,211.86, 211.866,211.871,211.877,211.882,211.887 ,211.892,211.896,211.902,211.904, 211.908,211.914,211.919,211.924,211.929 ,211.932,211.937,211.941,211.944, 211.947,211.946,211.947,211.949,211.951 ,211.953,211.955,211.957,211.96,211.962 ,211.965,211.966,211.967,211.968,212.16 ,212.363,212.715,213.072,213.073, 213.075,213.077,213.078,213.079,213.082 ,213.084,213.087,213.09,213.092,213.096 ,213.101,213.103,213.106,213.11,213.112 ,213.116,213.119,213.122,213.124, 213.128,213.13,213.132,213.135,213.14, 213.144,213.149,213.152,213.156,213.159 ,213.162,213.163,213.166,213.172, 213.176,213.181,213.185,213.192,213.194 ,213.198,213.202,213.206,213.208, 213.212,213.209)
ORBIT_NUMBER = 4117
ORBITAL_ECCENTRICITY = 0.571
ORBITAL_INCLINATION = 86.68
ORBITAL_SEMIMAJOR_AXIS = 8623.94
PERIAPSIS_ALTITUDE = 305.74
PERIAPSIS_ARGUMENT_ANGLE = 352.91
PERIAPSIS_TIME = 2007-03-21T12:04:01.000Z
SPACECRAFT_ORIENTATION = (0.0,1.0,0.0)
^MEX_ORIENTATION_DESC = "MEX_ORIENTATION_DESC.TXT"
SPACECRAFT_POINTING_MODE = NADIR
^MEX_POINTING_DESC = "MEX_POINTING_DESC.TXT"
RIGHT_ASCENSION = -1e+32
DECLINATION = -1e+32
OFFSET_ANGLE = -1e+32
SPACECRAFT_SOLAR_DISTANCE = 2.12369e+08
TARGET_NAME = MARS
/* CAMERA DATA ELEMENTS */
DETECTOR_TEMPERATURE = 17.7588
FOCAL_PLANE_TEMPERATURE = 9.3989
INST_CMPRS_NAME = "DISCRETE COSINE TRANSFORMATION (DCT)"
INST_CMPRS_RATIO = 6.8457
INST_CMPRS_QUALITY = 0
INST_CMPRS_QUANTZ_TBL_ID = 0
INSTRUMENT_TEMPERATURE = 11.6418
LENS_TEMPERATURE = 9.8067
MACROPIXEL_SIZE = 2
MISSING_FRAMES = 4
PIXEL_SUBSAMPLING_FLAG = N
SIGNAL_CHAIN_ID = 1
/* RADIOMETRIC DATA ELEMENTS */
BANDWIDTH = 180.0
CENTER_FILTER_WAVELENGTH = 677.0
RADIANCE_OFFSET = 2.77765
RADIANCE_SCALING_FACTOR = 0.0185177
REFLECTANCE_SCALING_FACTOR = 0.000435725
MEX:REFLECTANCE_OFFSET = 0.0653587
/* IMAGE OBJECT DEFINITIONS */
OBJECT = IMAGE
  INTERCHANGE_FORMAT = BINARY
  LINES = 35977
  LINE_SAMPLES = 3407
  SAMPLE_TYPE = UNSIGNED_INTEGER
  SAMPLE_BITS = 8
  BANDS = 1
  BAND_STORAGE_TYPE = BAND_SEQUENTIAL
  MAXIMUM = 255
  MEAN = 96.2444
  MINIMUM = 1
  STANDARD_DEVIATION = 24.7473
END_OBJECT = IMAGE
/* MAP OBJECT DEFINITIONS */
OBJECT = IMAGE_MAP_PROJECTION
  ^DATA_SET_MAP_PROJECTION_CATALOG= "DSMAP.CAT"
  A_AXIS_RADIUS = 3396.0
  B_AXIS_RADIUS = 3396.0
  C_AXIS_RADIUS = 3396.0
  CENTER_LATITUDE = 0.0
  CENTER_LONGITUDE = 213.0
  COORDINATE_SYSTEM_NAME = PLANETOGRAPHIC
  COORDINATE_SYSTEM_TYPE = "BODY-FIXED ROTATING"
  EASTERNMOST_LONGITUDE = 213.212
  FIRST_STANDARD_PARALLEL = "N/A"
  LINE_FIRST_PIXEL = 1
  LINE_LAST_PIXEL = 35977
  LINE_PROJECTION_OFFSET = -28127.25
  MAP_PROJECTION_ROTATION = 0.0
  MAP_PROJECTION_TYPE = SINUSOIDAL
  MAP_RESOLUTION = 2370.85521546667
  MAP_SCALE = 0.025
  MAXIMUM_LATITUDE = -11.8659
  MINIMUM_LATITUDE = -27.0117
  POSITIVE_LONGITUDE_DIRECTION = EAST
  REFERENCE_LATITUDE = "N/A"
  REFERENCE_LONGITUDE = "N/A"
  SAMPLE_FIRST_PIXEL = 1
  SAMPLE_LAST_PIXEL = 3407
  SAMPLE_PROJECTION_OFFSET = 2811.75
  SECOND_STANDARD_PARALLEL = "N/A"
  WESTERNMOST_LONGITUDE = 211.754
END_OBJECT = IMAGE_MAP_PROJECTION
/* The JPEG2000 image data file associated with this label. */
OBJECT = COMPRESSED_FILE
  FILE_NAME = "H4117_0000_S13.JP2"
  RECORD_TYPE = UNDEFINED
  FILE_RECORDS = UNK
  ENCODING_TYPE = "JP2"
  INTERCHANGE_FORMAT = BINARY
  UNCOMPRESSED_FILE_NAME = "H4117_0000_S13.IMG"
  REQUIRED_STORAGE_BYTES = "122597488"
  ^DESCRIPTION = "JP2INFO.TXT"
END_OBJECT = COMPRESSED_FILE
END
