PDS_VERSION_ID = PDS3
/* FILE DATA ELEMENTS */
RECORD_TYPE = STREAM
/* POINTERS TO DATA OBJECTS */
^COMPRESSED_FILE = "H4118_0000_GR3.JP2"
/* IDENTIFICATION DATA ELEMENTS */
DATA_SET_ID = "MEX-M-HRSC-5-REFDR-MAPPROJECTED-V3.0"
DATA_SET_NAME = "MARS EXPRESS HRSC MAP PROJECTED REFDR V3.0"
DETECTOR_ID = MEX_HRSC_GREEN
EVENT_TYPE = "MARS-REGIONAL-MAPPING-Vo-Te"
INSTRUMENT_HOST_ID = MEX
INSTRUMENT_HOST_NAME = "MARS EXPRESS"
INSTRUMENT_ID = HRSC
INSTRUMENT_NAME = "HIGH RESOLUTION STEREO CAMERA"
MISSION_NAME = "MARS EXPRESS"
MISSION_PHASE_NAME = ME_Phase_7
PROCESSING_LEVEL_ID = 3
PRODUCT_CREATION_TIME = 2016-04-20T19:30:25.000Z
PRODUCT_ID = "H4118_0000_GR3.JP2"
RELEASE_ID = 0047
REVISION_ID = 0000
/* QUALITY DATA ELEMENTS */
DATA_QUALITY_ID = 2
DATA_QUALITY_DESC = "Data calculated based on photogrammetrically improved orbit and attitude data"
/* TIME DATA ELEMENTS */
SPACECRAFT_CLOCK_START_COUNT = "1/0122582474.09093"
SPACECRAFT_CLOCK_STOP_COUNT = "1/0122582707.08272"
START_TIME = 2007-03-21T18:42:03.947Z
STOP_TIME = 2007-03-21T18:44:45.800Z
/* ORBITAL DATA ELEMENTS */
ASCENDING_NODE_LONGITUDE = 142.02
MAXIMUM_RESOLUTION = 104
FOOTPRINT_POINT_LATITUDE = (-27.7194,-27.7179,-27.7142,-27.7118, -27.5929,-27.3606,-27.128,-26.8953, -26.6622,-26.429,-26.1955,-25.9619, -25.728,-25.4939,-25.2595,-25.0249, -24.673,-24.4541,-24.2571,-24.06, -23.8628,-23.6654,-23.4679,-23.2702, -23.0725,-22.8747,-22.6767,-22.4786, -22.2803,-22.0819,-21.8835,-21.685, -21.4863,-21.2874,-20.989,-20.7899, -20.5907,-20.3914,-20.0923,-19.8928, -19.5949,-19.2082,-18.9179,-18.5306, -18.3368,-18.143,-17.852,-17.4643, -17.2707,-17.2715,-17.272,-17.2723, -17.2739,-17.7527,-17.9468,-18.1409, -18.3348,-18.5289,-18.7227,-19.1101, -19.4005,-19.792,-19.9917,-20.1914, -20.391,-20.5905,-20.7898,-20.989, -21.1882,-21.3872,-21.5862,-21.7849, -21.9836,-22.1821,-22.4799,-22.6783, -22.8764,-23.0745,-23.2724,-23.4703, -23.668,-23.8655,-24.063,-24.2603, -24.4575,-24.6758,-24.9107,-25.1455, -25.3803,-25.6147,-25.849,-26.083, -26.3168,-26.5506,-26.784,-27.0172, -27.2502,-27.483,-27.7156,-27.7194)
FOOTPRINT_POINT_LONGITUDE = (114.547,114.319,113.892,113.664, 113.413,113.421,113.428,113.436,113.443 ,113.45,113.457,113.464,113.471,113.478 ,113.485,113.491,113.5,113.506,113.511, 113.516,113.521,113.525,113.53,113.535, 113.539,113.543,113.548,113.552,113.556 ,113.561,113.565,113.568,113.572, 113.576,113.582,113.586,113.589,113.593 ,113.598,113.601,113.606,113.612, 113.617,113.622,113.625,113.628,113.632 ,113.637,113.792,114.034,114.265, 114.485,114.812,114.817,114.819,114.821 ,114.823,114.825,114.827,114.831, 114.834,114.837,114.84,114.842,114.844, 114.846,114.849,114.851,114.853,114.855 ,114.858,114.86,114.862,114.864,114.868 ,114.871,114.873,114.875,114.878,114.88 ,114.883,114.885,114.888,114.89,114.893 ,114.896,114.899,114.902,114.905, 114.908,114.911,114.914,114.918,114.921 ,114.924,114.928,114.931,114.934, 114.938,114.547)
ORBIT_NUMBER = 4118
ORBITAL_ECCENTRICITY = 0.571
ORBITAL_INCLINATION = 86.66
ORBITAL_SEMIMAJOR_AXIS = 8627.21
PERIAPSIS_ALTITUDE = 305.44
PERIAPSIS_ARGUMENT_ANGLE = 352.73
PERIAPSIS_TIME = 2007-03-21T18:47:14.000Z
SPACECRAFT_ORIENTATION = (0.0,1.0,0.0)
^MEX_ORIENTATION_DESC = "MEX_ORIENTATION_DESC.TXT"
SPACECRAFT_POINTING_MODE = NADIR
^MEX_POINTING_DESC = "MEX_POINTING_DESC.TXT"
RIGHT_ASCENSION = -1e+32
DECLINATION = -1e+32
OFFSET_ANGLE = -1e+32
SPACECRAFT_SOLAR_DISTANCE = 2.12329e+08
TARGET_NAME = MARS
/* CAMERA DATA ELEMENTS */
DETECTOR_TEMPERATURE = 18.5744
FOCAL_PLANE_TEMPERATURE = 10.4184
INST_CMPRS_NAME = "DISCRETE COSINE TRANSFORMATION (DCT)"
INST_CMPRS_RATIO = 11.4121
INST_CMPRS_QUALITY = 0
INST_CMPRS_QUANTZ_TBL_ID = 0
INSTRUMENT_TEMPERATURE = 11.4379
LENS_TEMPERATURE = 50.9945
MACROPIXEL_SIZE = 8
MISSING_FRAMES = 0
PIXEL_SUBSAMPLING_FLAG = N
SIGNAL_CHAIN_ID = 2
/* RADIOMETRIC DATA ELEMENTS */
BANDWIDTH = 88.0
CENTER_FILTER_WAVELENGTH = 538.0
RADIANCE_OFFSET = 1.01512
RADIANCE_SCALING_FACTOR = 0.00270987
REFLECTANCE_SCALING_FACTOR = 0.000105186
MEX:REFLECTANCE_OFFSET = 0.0394029
/* IMAGE OBJECT DEFINITIONS */
OBJECT = IMAGE
  INTERCHANGE_FORMAT = BINARY
  LINES = 6189
  LINE_SAMPLES = 856
  SAMPLE_TYPE = UNSIGNED_INTEGER
  SAMPLE_BITS = 8
  BANDS = 1
  BAND_STORAGE_TYPE = BAND_SEQUENTIAL
  MAXIMUM = 255
  MEAN = 97.6166
  MINIMUM = 1
  STANDARD_DEVIATION = 19.9723
END_OBJECT = IMAGE
/* MAP OBJECT DEFINITIONS */
OBJECT = IMAGE_MAP_PROJECTION
  ^DATA_SET_MAP_PROJECTION_CATALOG= "DSMAP.CAT"
  A_AXIS_RADIUS = 3396.0
  B_AXIS_RADIUS = 3396.0
  C_AXIS_RADIUS = 3396.0
  CENTER_LATITUDE = 0.0
  CENTER_LONGITUDE = 114.0
  COORDINATE_SYSTEM_NAME = PLANETOGRAPHIC
  COORDINATE_SYSTEM_TYPE = "BODY-FIXED ROTATING"
  EASTERNMOST_LONGITUDE = 114.938
  FIRST_STANDARD_PARALLEL = "N/A"
  LINE_FIRST_PIXEL = 1
  LINE_LAST_PIXEL = 6189
  LINE_PROJECTION_OFFSET = -10251.9375
  MAP_PROJECTION_ROTATION = 0.0
  MAP_PROJECTION_TYPE = SINUSOIDAL
  MAP_RESOLUTION = 592.713803866667
  MAP_SCALE = 0.1
  MAXIMUM_LATITUDE = -17.2707
  MINIMUM_LATITUDE = -27.7194
  POSITIVE_LONGITUDE_DIRECTION = EAST
  REFERENCE_LATITUDE = "N/A"
  REFERENCE_LONGITUDE = "N/A"
  SAMPLE_FIRST_PIXEL = 1
  SAMPLE_LAST_PIXEL = 856
  SAMPLE_PROJECTION_OFFSET = 340.8125
  SECOND_STANDARD_PARALLEL = "N/A"
  WESTERNMOST_LONGITUDE = 113.413
END_OBJECT = IMAGE_MAP_PROJECTION
/* The JPEG2000 image data file associated with this label. */
OBJECT = COMPRESSED_FILE
  FILE_NAME = "H4118_0000_GR3.JP2"
  RECORD_TYPE = UNDEFINED
  FILE_RECORDS = UNK
  ENCODING_TYPE = "JP2"
  INTERCHANGE_FORMAT = BINARY
  UNCOMPRESSED_FILE_NAME = "H4118_0000_GR3.IMG"
  REQUIRED_STORAGE_BYTES = "5316616"
  ^DESCRIPTION = "JP2INFO.TXT"
END_OBJECT = COMPRESSED_FILE
END
