PDS_VERSION_ID = PDS3
/* FILE DATA ELEMENTS */
RECORD_TYPE = STREAM
/* POINTERS TO DATA OBJECTS */
^COMPRESSED_FILE = "H4118_0000_IR3.JP2"
/* IDENTIFICATION DATA ELEMENTS */
DATA_SET_ID = "MEX-M-HRSC-5-REFDR-MAPPROJECTED-V3.0"
DATA_SET_NAME = "MARS EXPRESS HRSC MAP PROJECTED REFDR V3.0"
DETECTOR_ID = MEX_HRSC_IR
EVENT_TYPE = "MARS-REGIONAL-MAPPING-Vo-Te"
INSTRUMENT_HOST_ID = MEX
INSTRUMENT_HOST_NAME = "MARS EXPRESS"
INSTRUMENT_ID = HRSC
INSTRUMENT_NAME = "HIGH RESOLUTION STEREO CAMERA"
MISSION_NAME = "MARS EXPRESS"
MISSION_PHASE_NAME = ME_Phase_7
PROCESSING_LEVEL_ID = 3
PRODUCT_CREATION_TIME = 2016-04-20T19:30:25.000Z
PRODUCT_ID = "H4118_0000_IR3.JP2"
RELEASE_ID = 0047
REVISION_ID = 0000
/* QUALITY DATA ELEMENTS */
DATA_QUALITY_ID = 2
DATA_QUALITY_DESC = "Data calculated based on photogrammetrically improved orbit and attitude data"
/* TIME DATA ELEMENTS */
SPACECRAFT_CLOCK_START_COUNT = "1/0122582474.09093"
SPACECRAFT_CLOCK_STOP_COUNT = "1/0122582707.08272"
START_TIME = 2007-03-21T18:42:26.933Z
STOP_TIME = 2007-03-21T18:45:04.411Z
/* ORBITAL DATA ELEMENTS */
ASCENDING_NODE_LONGITUDE = 142.02
MAXIMUM_RESOLUTION = 107
FOOTPRINT_POINT_LATITUDE = (-27.7065,-27.7049,-27.7034,-27.7005, -27.7089,-27.3477,-27.1068,-26.8655, -26.6241,-26.3829,-26.1412,-25.9072, -25.6032,-25.4004,-25.1973,-24.9934, -24.7909,-24.5889,-24.3862,-24.0817, -23.8787,-23.6756,-23.4722,-23.2692, -23.0661,-22.863,-22.6596,-22.4563, -22.2525,-22.0489,-21.8454,-21.6425, -21.4387,-21.2347,-20.9288,-20.6329, -20.4357,-20.2384,-20.0411,-19.7457, -19.5486,-19.3515,-19.1541,-18.9566, -18.6625,-18.472,-18.2812,-18.0904, -17.8995,-17.518,-17.2815,-17.2809, -17.2812,-17.2823,-17.4736,-17.7604, -18.0473,-18.2382,-18.525,-18.7159, -18.9127,-19.1101,-19.3079,-19.505, -19.7023,-19.8993,-20.1958,-20.3935, -20.591,-20.887,-21.0893,-21.2932, -21.5991,-21.8024,-22.1076,-22.3116, -22.6176,-22.8211,-23.0244,-23.2278, -23.4314,-23.6346,-23.8378,-24.0411, -24.2442,-24.4475,-24.6506,-24.8536, -25.056,-25.2594,-25.5639,-25.7668, -25.9725,-26.2141,-26.4557,-26.8187, -27.0602,-27.3013,-27.6632,-27.7065)
FOOTPRINT_POINT_LONGITUDE = (114.566,114.302,114.08,113.705,113.429 ,113.44,113.447,113.455,113.462,113.469 ,113.476,113.482,113.49,113.496,113.501 ,113.507,113.512,113.517,113.521, 113.529,113.533,113.538,113.543,113.547 ,113.551,113.556,113.56,113.564,113.568 ,113.572,113.576,113.58,113.583,113.587 ,113.593,113.598,113.601,113.604, 113.607,113.612,113.615,113.618,113.62, 113.623,113.627,113.63,113.632,113.635, 113.637,113.642,113.872,114.221,114.461 ,114.806,114.808,114.81,114.813,114.814 ,114.817,114.819,114.821,114.822, 114.824,114.826,114.828,114.83,114.833, 114.835,114.837,114.84,114.842,114.844, 114.847,114.849,114.852,114.854,114.858 ,114.86,114.862,114.864,114.867,114.869 ,114.871,114.874,114.876,114.878, 114.881,114.883,114.885,114.888,114.891 ,114.894,114.896,114.899,114.902, 114.907,114.91,114.913,114.918,114.566)
ORBIT_NUMBER = 4118
ORBITAL_ECCENTRICITY = 0.571
ORBITAL_INCLINATION = 86.66
ORBITAL_SEMIMAJOR_AXIS = 8627.21
PERIAPSIS_ALTITUDE = 305.44
PERIAPSIS_ARGUMENT_ANGLE = 352.73
PERIAPSIS_TIME = 2007-03-21T18:47:14.000Z
SPACECRAFT_ORIENTATION = (0.0,1.0,0.0)
^MEX_ORIENTATION_DESC = "MEX_ORIENTATION_DESC.TXT"
SPACECRAFT_POINTING_MODE = NADIR
^MEX_POINTING_DESC = "MEX_POINTING_DESC.TXT"
RIGHT_ASCENSION = -1e+32
DECLINATION = -1e+32
OFFSET_ANGLE = -1e+32
SPACECRAFT_SOLAR_DISTANCE = 2.12329e+08
TARGET_NAME = MARS
/* CAMERA DATA ELEMENTS */
DETECTOR_TEMPERATURE = 18.3705
FOCAL_PLANE_TEMPERATURE = 10.4184
INST_CMPRS_NAME = "DISCRETE COSINE TRANSFORMATION (DCT)"
INST_CMPRS_RATIO = 13.3322
INST_CMPRS_QUALITY = 0
INST_CMPRS_QUANTZ_TBL_ID = 0
INSTRUMENT_TEMPERATURE = 11.4379
LENS_TEMPERATURE = 50.9945
MACROPIXEL_SIZE = 8
MISSING_FRAMES = 0
PIXEL_SUBSAMPLING_FLAG = N
SIGNAL_CHAIN_ID = 2
/* RADIOMETRIC DATA ELEMENTS */
BANDWIDTH = 81.0
CENTER_FILTER_WAVELENGTH = 955.5
RADIANCE_OFFSET = 0.511989
RADIANCE_SCALING_FACTOR = 0.00229463
REFLECTANCE_SCALING_FACTOR = 0.000223183
MEX:REFLECTANCE_OFFSET = 0.0497977
/* IMAGE OBJECT DEFINITIONS */
OBJECT = IMAGE
  INTERCHANGE_FORMAT = BINARY
  LINES = 6189
  LINE_SAMPLES = 856
  SAMPLE_TYPE = UNSIGNED_INTEGER
  SAMPLE_BITS = 8
  BANDS = 1
  BAND_STORAGE_TYPE = BAND_SEQUENTIAL
  MAXIMUM = 255
  MEAN = 78.179
  MINIMUM = 1
  STANDARD_DEVIATION = 21.1055
END_OBJECT = IMAGE
/* MAP OBJECT DEFINITIONS */
OBJECT = IMAGE_MAP_PROJECTION
  ^DATA_SET_MAP_PROJECTION_CATALOG= "DSMAP.CAT"
  A_AXIS_RADIUS = 3396.0
  B_AXIS_RADIUS = 3396.0
  C_AXIS_RADIUS = 3396.0
  CENTER_LATITUDE = 0.0
  CENTER_LONGITUDE = 114.0
  COORDINATE_SYSTEM_NAME = PLANETOGRAPHIC
  COORDINATE_SYSTEM_TYPE = "BODY-FIXED ROTATING"
  EASTERNMOST_LONGITUDE = 114.918
  FIRST_STANDARD_PARALLEL = "N/A"
  LINE_FIRST_PIXEL = 1
  LINE_LAST_PIXEL = 6189
  LINE_PROJECTION_OFFSET = -10251.9375
  MAP_PROJECTION_ROTATION = 0.0
  MAP_PROJECTION_TYPE = SINUSOIDAL
  MAP_RESOLUTION = 592.713803866667
  MAP_SCALE = 0.1
  MAXIMUM_LATITUDE = -17.2809
  MINIMUM_LATITUDE = -27.7089
  POSITIVE_LONGITUDE_DIRECTION = EAST
  REFERENCE_LATITUDE = "N/A"
  REFERENCE_LONGITUDE = "N/A"
  SAMPLE_FIRST_PIXEL = 1
  SAMPLE_LAST_PIXEL = 856
  SAMPLE_PROJECTION_OFFSET = 340.8125
  SECOND_STANDARD_PARALLEL = "N/A"
  WESTERNMOST_LONGITUDE = 113.429
END_OBJECT = IMAGE_MAP_PROJECTION
/* The JPEG2000 image data file associated with this label. */
OBJECT = COMPRESSED_FILE
  FILE_NAME = "H4118_0000_IR3.JP2"
  RECORD_TYPE = UNDEFINED
  FILE_RECORDS = UNK
  ENCODING_TYPE = "JP2"
  INTERCHANGE_FORMAT = BINARY
  UNCOMPRESSED_FILE_NAME = "H4118_0000_IR3.IMG"
  REQUIRED_STORAGE_BYTES = "5316616"
  ^DESCRIPTION = "JP2INFO.TXT"
END_OBJECT = COMPRESSED_FILE
END
