PDS_VERSION_ID = PDS3
/* FILE DATA ELEMENTS */
RECORD_TYPE = STREAM
/* POINTERS TO DATA OBJECTS */
^COMPRESSED_FILE = "H4118_0000_S23.JP2"
/* IDENTIFICATION DATA ELEMENTS */
DATA_SET_ID = "MEX-M-HRSC-5-REFDR-MAPPROJECTED-V3.0"
DATA_SET_NAME = "MARS EXPRESS HRSC MAP PROJECTED REFDR V3.0"
DETECTOR_ID = MEX_HRSC_S2
EVENT_TYPE = "MARS-REGIONAL-MAPPING-Vo-Te"
INSTRUMENT_HOST_ID = MEX
INSTRUMENT_HOST_NAME = "MARS EXPRESS"
INSTRUMENT_ID = HRSC
INSTRUMENT_NAME = "HIGH RESOLUTION STEREO CAMERA"
MISSION_NAME = "MARS EXPRESS"
MISSION_PHASE_NAME = ME_Phase_7
PROCESSING_LEVEL_ID = 3
PRODUCT_CREATION_TIME = 2016-04-20T19:30:25.000Z
PRODUCT_ID = "H4118_0000_S23.JP2"
RELEASE_ID = 0047
REVISION_ID = 0000
/* QUALITY DATA ELEMENTS */
DATA_QUALITY_ID = 2
DATA_QUALITY_DESC = "Data calculated based on photogrammetrically improved orbit and attitude data"
/* TIME DATA ELEMENTS */
SPACECRAFT_CLOCK_START_COUNT = "1/0122582474.09093"
SPACECRAFT_CLOCK_STOP_COUNT = "1/0122582707.08272"
START_TIME = 2007-03-21T18:41:18.336Z
STOP_TIME = 2007-03-21T18:44:10.351Z
/* ORBITAL DATA ELEMENTS */
ASCENDING_NODE_LONGITUDE = 142.02
MAXIMUM_RESOLUTION = 28.6
FOOTPRINT_POINT_LATITUDE = (-27.7578,-27.7573,-27.7559,-27.7514, -27.7477,-27.7245,-27.4969,-27.2728, -27.0484,-26.7118,-26.3792,-26.0495, -25.8293,-25.6085,-25.2779,-25.0575, -24.8348,-24.6112,-24.2761,-24.0526, -23.8286,-23.6042,-23.3798,-23.1545, -22.9286,-22.7027,-22.4764,-22.2504, -22.0258,-21.8353,-21.6439,-21.3578, -21.167,-20.9758,-20.7839,-20.5924, -20.3039,-20.1114,-19.9182,-19.7249, -19.5313,-19.3376,-19.1439,-18.9502, -18.7563,-18.4641,-18.2693,-18.0742, -17.879,-17.5861,-17.3904,-17.2967, -17.2996,-17.2999,-17.3964,-17.5916, -17.7871,-17.9822,-18.1773,-18.3727, -18.5667,-18.7616,-19.0533,-19.2468, -19.441,-19.6347,-19.8286,-20.0216, -20.214,-20.5026,-20.7906,-20.9828, -21.1743,-21.3657,-21.5567,-21.9386, -22.146,-22.3725,-22.7118,-22.9381, -23.1639,-23.3892,-23.6143,-23.8388, -24.0632,-24.2873,-24.5105,-24.8452, -25.0684,-25.4006,-25.622,-25.9532, -26.1743,-26.3945,-26.6144,-26.8397, -27.0644,-27.2892,-27.5132,-27.7578)
FOOTPRINT_POINT_LONGITUDE = (114.913,114.625,114.368,113.921, 113.665,113.334,113.342,113.351,113.359 ,113.371,113.383,113.394,113.402, 113.409,113.42,113.428,113.434,113.441, 113.451,113.457,113.463,113.47,113.476, 113.482,113.488,113.493,113.499,113.505 ,113.51,113.515,113.519,113.526,113.53, 113.535,113.539,113.543,113.549,113.553 ,113.556,113.56,113.564,113.567,113.571 ,113.574,113.578,113.583,113.586, 113.589,113.592,113.597,113.6,113.864, 114.223,114.462,114.837,114.84,114.842, 114.845,114.847,114.85,114.852,114.855, 114.858,114.861,114.864,114.866,114.868 ,114.871,114.874,114.878,114.882, 114.885,114.888,114.89,114.893,114.899, 114.902,114.905,114.911,114.914,114.918 ,114.921,114.925,114.929,114.932, 114.936,114.94,114.945,114.949,114.955, 114.959,114.965,114.969,114.973,114.977 ,114.981,114.986,114.99,114.994, 114.913)
ORBIT_NUMBER = 4118
ORBITAL_ECCENTRICITY = 0.571
ORBITAL_INCLINATION = 86.66
ORBITAL_SEMIMAJOR_AXIS = 8627.21
PERIAPSIS_ALTITUDE = 305.44
PERIAPSIS_ARGUMENT_ANGLE = 352.73
PERIAPSIS_TIME = 2007-03-21T18:47:14.000Z
SPACECRAFT_ORIENTATION = (0.0,1.0,0.0)
^MEX_ORIENTATION_DESC = "MEX_ORIENTATION_DESC.TXT"
SPACECRAFT_POINTING_MODE = NADIR
^MEX_POINTING_DESC = "MEX_POINTING_DESC.TXT"
RIGHT_ASCENSION = -1e+32
DECLINATION = -1e+32
OFFSET_ANGLE = -1e+32
SPACECRAFT_SOLAR_DISTANCE = 2.12329e+08
TARGET_NAME = MARS
/* CAMERA DATA ELEMENTS */
DETECTOR_TEMPERATURE = 18.3705
FOCAL_PLANE_TEMPERATURE = 10.4184
INST_CMPRS_NAME = "DISCRETE COSINE TRANSFORMATION (DCT)"
INST_CMPRS_RATIO = 9.67012
INST_CMPRS_QUALITY = 0
INST_CMPRS_QUANTZ_TBL_ID = 0
INSTRUMENT_TEMPERATURE = 11.4379
LENS_TEMPERATURE = 50.9945
MACROPIXEL_SIZE = 2
MISSING_FRAMES = 0
PIXEL_SUBSAMPLING_FLAG = N
SIGNAL_CHAIN_ID = 1
/* RADIOMETRIC DATA ELEMENTS */
BANDWIDTH = 178.0
CENTER_FILTER_WAVELENGTH = 679.0
RADIANCE_OFFSET = 2.50907
RADIANCE_SCALING_FACTOR = 0.00913106
REFLECTANCE_SCALING_FACTOR = 0.000218008
MEX:REFLECTANCE_OFFSET = 0.0599051
/* IMAGE OBJECT DEFINITIONS */
OBJECT = IMAGE
  INTERCHANGE_FORMAT = BINARY
  LINES = 24753
  LINE_SAMPLES = 3424
  SAMPLE_TYPE = UNSIGNED_INTEGER
  SAMPLE_BITS = 8
  BANDS = 1
  BAND_STORAGE_TYPE = BAND_SEQUENTIAL
  MAXIMUM = 255
  MEAN = 84.8457
  MINIMUM = 1
  STANDARD_DEVIATION = 20.7171
END_OBJECT = IMAGE
/* MAP OBJECT DEFINITIONS */
OBJECT = IMAGE_MAP_PROJECTION
  ^DATA_SET_MAP_PROJECTION_CATALOG= "DSMAP.CAT"
  A_AXIS_RADIUS = 3396.0
  B_AXIS_RADIUS = 3396.0
  C_AXIS_RADIUS = 3396.0
  CENTER_LATITUDE = 0.0
  CENTER_LONGITUDE = 114.0
  COORDINATE_SYSTEM_NAME = PLANETOGRAPHIC
  COORDINATE_SYSTEM_TYPE = "BODY-FIXED ROTATING"
  EASTERNMOST_LONGITUDE = 114.994
  FIRST_STANDARD_PARALLEL = "N/A"
  LINE_FIRST_PIXEL = 1
  LINE_LAST_PIXEL = 24753
  LINE_PROJECTION_OFFSET = -41006.25
  MAP_PROJECTION_ROTATION = 0.0
  MAP_PROJECTION_TYPE = SINUSOIDAL
  MAP_RESOLUTION = 2370.85521546667
  MAP_SCALE = 0.025
  MAXIMUM_LATITUDE = -17.2967
  MINIMUM_LATITUDE = -27.7578
  POSITIVE_LONGITUDE_DIRECTION = EAST
  REFERENCE_LATITUDE = "N/A"
  REFERENCE_LONGITUDE = "N/A"
  SAMPLE_FIRST_PIXEL = 1
  SAMPLE_LAST_PIXEL = 3424
  SAMPLE_PROJECTION_OFFSET = 1364.75
  SECOND_STANDARD_PARALLEL = "N/A"
  WESTERNMOST_LONGITUDE = 113.334
END_OBJECT = IMAGE_MAP_PROJECTION
/* The JPEG2000 image data file associated with this label. */
OBJECT = COMPRESSED_FILE
  FILE_NAME = "H4118_0000_S23.JP2"
  RECORD_TYPE = UNDEFINED
  FILE_RECORDS = UNK
  ENCODING_TYPE = "JP2"
  INTERCHANGE_FORMAT = BINARY
  UNCOMPRESSED_FILE_NAME = "H4118_0000_S23.IMG"
  REQUIRED_STORAGE_BYTES = "84778240"
  ^DESCRIPTION = "JP2INFO.TXT"
END_OBJECT = COMPRESSED_FILE
END
