PDS_VERSION_ID = PDS3
/* FILE DATA ELEMENTS */
RECORD_TYPE = STREAM
/* POINTERS TO DATA OBJECTS */
^COMPRESSED_FILE = "H4123_0000_IR3.JP2"
/* IDENTIFICATION DATA ELEMENTS */
DATA_SET_ID = "MEX-M-HRSC-5-REFDR-MAPPROJECTED-V3.0"
DATA_SET_NAME = "MARS EXPRESS HRSC MAP PROJECTED REFDR V3.0"
DETECTOR_ID = MEX_HRSC_IR
EVENT_TYPE = "MARS-REGIONAL-MAPPING-Fl-La"
INSTRUMENT_HOST_ID = MEX
INSTRUMENT_HOST_NAME = "MARS EXPRESS"
INSTRUMENT_ID = HRSC
INSTRUMENT_NAME = "HIGH RESOLUTION STEREO CAMERA"
MISSION_NAME = "MARS EXPRESS"
MISSION_PHASE_NAME = ME_Phase_7
PROCESSING_LEVEL_ID = 3
PRODUCT_CREATION_TIME = 2016-04-20T19:30:25.000Z
PRODUCT_ID = "H4123_0000_IR3.JP2"
RELEASE_ID = 0047
REVISION_ID = 0000
/* QUALITY DATA ELEMENTS */
DATA_QUALITY_ID = 2
DATA_QUALITY_DESC = "Data calculated based on photogrammetrically improved orbit and attitude data"
/* TIME DATA ELEMENTS */
SPACECRAFT_CLOCK_START_COUNT = "1/0122703628.08250"
SPACECRAFT_CLOCK_STOP_COUNT = "1/0122703854.41531"
START_TIME = 2007-03-23T04:21:24.672Z
STOP_TIME = 2007-03-23T04:24:12.085Z
/* ORBITAL DATA ELEMENTS */
ASCENDING_NODE_LONGITUDE = 141.93
MAXIMUM_RESOLUTION = 102.7
FOOTPRINT_POINT_LATITUDE = (-15.7858,-15.7858,-15.7857,-15.7856, -15.7856,-15.6866,-15.4622,-15.237, -14.8993,-14.6731,-14.4485,-14.2226, -13.9986,-13.7737,-13.4364,-13.2109, -12.9861,-12.7614,-12.4247,-12.1999, -11.9755,-11.751,-11.5271,-11.3099, -11.0907,-10.8748,-10.6583,-10.4424, -10.2263,-10.0101,-9.79458,-9.58017, -9.36471,-9.04347,-8.72085,-8.50596, -8.29019,-7.96697,-7.75228,-7.5361, -7.32381,-7.11081,-6.78151,-6.44802, -6.11291,-5.89043,-5.67051,-5.33905, -5.11756,-4.89659,-4.77006,-4.7694, -4.76901,-4.76922,-4.88106,-5.21301, -5.43788,-5.66055,-5.88125,-6.09715, -6.42994,-6.6525,-6.87327,-7.19966, -7.41388,-7.73583,-8.05768,-8.37862, -8.59297,-8.8084,-9.13157,-9.34717, -9.67066,-9.88654,-10.1016,-10.3238, -10.5394,-10.7517,-10.9675,-11.1843, -11.4007,-11.6237,-11.8477,-12.0723, -12.2972,-12.5217,-12.7461,-12.9708, -13.3079,-13.532,-13.76,-13.9909, -14.2168,-14.4361,-14.6564,-14.882, -15.2205,-15.4476,-15.672,-15.7858)
FOOTPRINT_POINT_LONGITUDE = (343.352,343.193,342.886,342.706, 342.537,342.325,342.327,342.328,342.331 ,342.333,342.334,342.335,342.336, 342.337,342.339,342.34,342.341,342.342, 342.343,342.344,342.345,342.345,342.346 ,342.345,342.347,342.347,342.347, 342.348,342.348,342.348,342.348,342.347 ,342.347,342.346,342.346,342.345, 342.345,342.345,342.344,342.344,342.343 ,342.342,342.341,342.34,342.339,342.338 ,342.337,342.335,342.334,342.332, 342.493,342.81,343.014,343.198,343.42, 343.42,343.422,343.423,343.423,343.421, 343.421,343.422,343.422,343.423,343.423 ,343.424,343.425,343.425,343.425, 343.426,343.427,343.428,343.429,343.43, 343.431,343.434,343.435,343.434,343.435 ,343.436,343.437,343.439,343.439, 343.441,343.442,343.443,343.444,343.445 ,343.447,343.448,343.451,343.454, 343.456,343.455,343.455,343.456,343.459 ,343.461,343.462,343.352)
ORBIT_NUMBER = 4123
ORBITAL_ECCENTRICITY = 0.571
ORBITAL_INCLINATION = 86.68
ORBITAL_SEMIMAJOR_AXIS = 8619.59
PERIAPSIS_ALTITUDE = 305.48
PERIAPSIS_ARGUMENT_ANGLE = 351.84
PERIAPSIS_TIME = 2007-03-23T04:22:58.000Z
SPACECRAFT_ORIENTATION = (0.0,1.0,0.0)
^MEX_ORIENTATION_DESC = "MEX_ORIENTATION_DESC.TXT"
SPACECRAFT_POINTING_MODE = NADIR
^MEX_POINTING_DESC = "MEX_POINTING_DESC.TXT"
RIGHT_ASCENSION = -1e+32
DECLINATION = -1e+32
OFFSET_ANGLE = -1e+32
SPACECRAFT_SOLAR_DISTANCE = 2.12132e+08
TARGET_NAME = MARS
/* CAMERA DATA ELEMENTS */
DETECTOR_TEMPERATURE = 17.5549
FOCAL_PLANE_TEMPERATURE = 9.6028
INST_CMPRS_NAME = "DISCRETE COSINE TRANSFORMATION (DCT)"
INST_CMPRS_RATIO = 12.6479
INST_CMPRS_QUALITY = 0
INST_CMPRS_QUANTZ_TBL_ID = 0
INSTRUMENT_TEMPERATURE = 11.6418
LENS_TEMPERATURE = 9.8067
MACROPIXEL_SIZE = 8
MISSING_FRAMES = 0
PIXEL_SUBSAMPLING_FLAG = N
SIGNAL_CHAIN_ID = 2
/* RADIOMETRIC DATA ELEMENTS */
BANDWIDTH = 81.0
CENTER_FILTER_WAVELENGTH = 955.5
RADIANCE_OFFSET = 0.531563
RADIANCE_SCALING_FACTOR = 0.0016514
REFLECTANCE_SCALING_FACTOR = 0.000160322
MEX:REFLECTANCE_OFFSET = 0.0516054
/* IMAGE OBJECT DEFINITIONS */
OBJECT = IMAGE
  INTERCHANGE_FORMAT = BINARY
  LINES = 6550
  LINE_SAMPLES = 707
  SAMPLE_TYPE = UNSIGNED_INTEGER
  SAMPLE_BITS = 8
  BANDS = 1
  BAND_STORAGE_TYPE = BAND_SEQUENTIAL
  MAXIMUM = 255
  MEAN = 109.226
  MINIMUM = 1
  STANDARD_DEVIATION = 29.117
END_OBJECT = IMAGE
/* MAP OBJECT DEFINITIONS */
OBJECT = IMAGE_MAP_PROJECTION
  ^DATA_SET_MAP_PROJECTION_CATALOG= "DSMAP.CAT"
  A_AXIS_RADIUS = 3396.0
  B_AXIS_RADIUS = 3396.0
  C_AXIS_RADIUS = 3396.0
  CENTER_LATITUDE = 0.0
  CENTER_LONGITUDE = 343.0
  COORDINATE_SYSTEM_NAME = PLANETOGRAPHIC
  COORDINATE_SYSTEM_TYPE = "BODY-FIXED ROTATING"
  EASTERNMOST_LONGITUDE = 343.462
  FIRST_STANDARD_PARALLEL = "N/A"
  LINE_FIRST_PIXEL = 1
  LINE_LAST_PIXEL = 6550
  LINE_PROJECTION_OFFSET = -2813.8125
  MAP_PROJECTION_ROTATION = 0.0
  MAP_PROJECTION_TYPE = SINUSOIDAL
  MAP_RESOLUTION = 592.713803866667
  MAP_SCALE = 0.1
  MAXIMUM_LATITUDE = -4.76901
  MINIMUM_LATITUDE = -15.7858
  POSITIVE_LONGITUDE_DIRECTION = EAST
  REFERENCE_LATITUDE = "N/A"
  REFERENCE_LONGITUDE = "N/A"
  SAMPLE_FIRST_PIXEL = 1
  SAMPLE_LAST_PIXEL = 707
  SAMPLE_PROJECTION_OFFSET = 418.6875
  SECOND_STANDARD_PARALLEL = "N/A"
  WESTERNMOST_LONGITUDE = 342.325
END_OBJECT = IMAGE_MAP_PROJECTION
/* The JPEG2000 image data file associated with this label. */
OBJECT = COMPRESSED_FILE
  FILE_NAME = "H4123_0000_IR3.JP2"
  RECORD_TYPE = UNDEFINED
  FILE_RECORDS = UNK
  ENCODING_TYPE = "JP2"
  INTERCHANGE_FORMAT = BINARY
  UNCOMPRESSED_FILE_NAME = "H4123_0000_IR3.IMG"
  REQUIRED_STORAGE_BYTES = "4649232"
  ^DESCRIPTION = "JP2INFO.TXT"
END_OBJECT = COMPRESSED_FILE
END
