PDS_VERSION_ID = PDS3
/* FILE DATA ELEMENTS */
RECORD_TYPE = STREAM
/* POINTERS TO DATA OBJECTS */
^COMPRESSED_FILE = "H4123_0000_ND3.JP2"
/* IDENTIFICATION DATA ELEMENTS */
DATA_SET_ID = "MEX-M-HRSC-5-REFDR-MAPPROJECTED-V3.0"
DATA_SET_NAME = "MARS EXPRESS HRSC MAP PROJECTED REFDR V3.0"
DETECTOR_ID = MEX_HRSC_NADIR
EVENT_TYPE = "MARS-REGIONAL-MAPPING-Fl-La"
INSTRUMENT_HOST_ID = MEX
INSTRUMENT_HOST_NAME = "MARS EXPRESS"
INSTRUMENT_ID = HRSC
INSTRUMENT_NAME = "HIGH RESOLUTION STEREO CAMERA"
MISSION_NAME = "MARS EXPRESS"
MISSION_PHASE_NAME = ME_Phase_7
PROCESSING_LEVEL_ID = 3
PRODUCT_CREATION_TIME = 2016-04-20T19:30:25.000Z
PRODUCT_ID = "H4123_0000_ND3.JP2"
RELEASE_ID = 0047
REVISION_ID = 0000
/* QUALITY DATA ELEMENTS */
DATA_QUALITY_ID = 2
DATA_QUALITY_DESC = "Data calculated based on photogrammetrically improved orbit and attitude data"
/* TIME DATA ELEMENTS */
SPACECRAFT_CLOCK_START_COUNT = "1/0122703628.08250"
SPACECRAFT_CLOCK_STOP_COUNT = "1/0122703854.41531"
START_TIME = 2007-03-23T04:21:01.449Z
STOP_TIME = 2007-03-23T04:23:49.464Z
/* ORBITAL DATA ELEMENTS */
ASCENDING_NODE_LONGITUDE = 141.93
MAXIMUM_RESOLUTION = 12.3
FOOTPRINT_POINT_LATITUDE = (-15.7973,-15.7976,-15.7972,-15.6808, -15.4505,-15.2201,-14.9934,-14.7709, -14.5482,-14.3254,-14.1026,-13.8796, -13.6566,-13.4336,-13.2105,-12.9873, -12.7641,-12.5408,-12.3174,-12.0941, -11.8706,-11.5353,-11.3117,-11.0882, -10.8646,-10.6409,-10.4172,-10.1935, -9.86131,-9.6455,-9.42965,-9.21378, -8.88999,-8.67413,-8.45824,-8.13444, -7.91857,-7.70267,-7.37883,-7.16291, -6.947,-6.62322,-6.40738,-6.19155, -5.97575,-5.75997,-5.54414,-5.3221, -5.09838,-4.74966,-4.74899,-4.74795, -4.74712,-4.85823,-5.08203,-5.30572, -5.52822,-5.74405,-6.06797,-6.28394, -6.49981,-6.82372,-7.03965,-7.36358, -7.57954,-7.7955,-8.01146,-8.22745, -8.44343,-8.65939,-8.98327,-9.19921, -9.41512,-9.63101,-9.84688,-10.1787, -10.4025,-10.6262,-10.8501,-11.0738, -11.2975,-11.5211,-11.7447,-11.9683, -12.1918,-12.4153,-12.6387,-12.8621, -13.0854,-13.3086,-13.5319,-13.7549, -13.9778,-14.2008,-14.4239,-14.6468, -14.8696,-15.0923,-15.4377,-15.7973)
FOOTPRINT_POINT_LONGITUDE = (343.35,343.089,342.601,342.307,342.308 ,342.31,342.312,342.314,342.316,342.318 ,342.319,342.321,342.322,342.323, 342.325,342.326,342.327,342.328,342.329 ,342.33,342.331,342.332,342.332,342.334 ,342.334,342.335,342.336,342.336, 342.336,342.337,342.336,342.336,342.336 ,342.336,342.335,342.336,342.336, 342.335,342.335,342.334,342.333,342.332 ,342.332,342.331,342.331,342.33,342.329 ,342.328,342.327,342.411,342.636, 342.958,343.184,343.414,343.414,343.416 ,343.417,343.418,343.417,343.417, 343.418,343.418,343.419,343.42,343.421, 343.422,343.422,343.423,343.423,343.424 ,343.426,343.427,343.428,343.429,343.43 ,343.432,343.435,343.436,343.436, 343.437,343.438,343.44,343.441,343.442, 343.444,343.445,343.447,343.448,343.449 ,343.451,343.452,343.454,343.458,343.46 ,343.46,343.46,343.462,343.464,343.467, 343.35)
ORBIT_NUMBER = 4123
ORBITAL_ECCENTRICITY = 0.571
ORBITAL_INCLINATION = 86.68
ORBITAL_SEMIMAJOR_AXIS = 8619.59
PERIAPSIS_ALTITUDE = 305.48
PERIAPSIS_ARGUMENT_ANGLE = 351.84
PERIAPSIS_TIME = 2007-03-23T04:22:58.000Z
SPACECRAFT_ORIENTATION = (0.0,1.0,0.0)
^MEX_ORIENTATION_DESC = "MEX_ORIENTATION_DESC.TXT"
SPACECRAFT_POINTING_MODE = NADIR
^MEX_POINTING_DESC = "MEX_POINTING_DESC.TXT"
RIGHT_ASCENSION = -1e+32
DECLINATION = -1e+32
OFFSET_ANGLE = -1e+32
SPACECRAFT_SOLAR_DISTANCE = 2.12132e+08
TARGET_NAME = MARS
/* CAMERA DATA ELEMENTS */
DETECTOR_TEMPERATURE = 18.5744
FOCAL_PLANE_TEMPERATURE = 9.6028
INST_CMPRS_NAME = "DISCRETE COSINE TRANSFORMATION (DCT)"
INST_CMPRS_RATIO = 5.87546
INST_CMPRS_QUALITY = 0
INST_CMPRS_QUANTZ_TBL_ID = 0
INSTRUMENT_TEMPERATURE = 11.6418
LENS_TEMPERATURE = 9.8067
MACROPIXEL_SIZE = 1
MISSING_FRAMES = 0
PIXEL_SUBSAMPLING_FLAG = N
SIGNAL_CHAIN_ID = 0
/* RADIOMETRIC DATA ELEMENTS */
BANDWIDTH = 177.0
CENTER_FILTER_WAVELENGTH = 677.5
RADIANCE_OFFSET = 2.12357
RADIANCE_SCALING_FACTOR = 0.00603041
REFLECTANCE_SCALING_FACTOR = 0.000144159
MEX:REFLECTANCE_OFFSET = 0.0507647
/* IMAGE OBJECT DEFINITIONS */
OBJECT = IMAGE
  INTERCHANGE_FORMAT = BINARY
  LINES = 52400
  LINE_SAMPLES = 5651
  SAMPLE_TYPE = UNSIGNED_INTEGER
  SAMPLE_BITS = 8
  BANDS = 1
  BAND_STORAGE_TYPE = BAND_SEQUENTIAL
  MAXIMUM = 255
  MEAN = 105.258
  MINIMUM = 1
  STANDARD_DEVIATION = 27.9751
END_OBJECT = IMAGE
/* MAP OBJECT DEFINITIONS */
OBJECT = IMAGE_MAP_PROJECTION
  ^DATA_SET_MAP_PROJECTION_CATALOG= "DSMAP.CAT"
  A_AXIS_RADIUS = 3396.0
  B_AXIS_RADIUS = 3396.0
  C_AXIS_RADIUS = 3396.0
  CENTER_LATITUDE = 0.0
  CENTER_LONGITUDE = 343.0
  COORDINATE_SYSTEM_NAME = PLANETOGRAPHIC
  COORDINATE_SYSTEM_TYPE = "BODY-FIXED ROTATING"
  EASTERNMOST_LONGITUDE = 343.467
  FIRST_STANDARD_PARALLEL = "N/A"
  LINE_FIRST_PIXEL = 1
  LINE_LAST_PIXEL = 52400
  LINE_PROJECTION_OFFSET = -22507.0
  MAP_PROJECTION_ROTATION = 0.0
  MAP_PROJECTION_TYPE = SINUSOIDAL
  MAP_RESOLUTION = 4741.71043093333
  MAP_SCALE = 0.0125
  MAXIMUM_LATITUDE = -4.74712
  MINIMUM_LATITUDE = -15.7976
  POSITIVE_LONGITUDE_DIRECTION = EAST
  REFERENCE_LATITUDE = "N/A"
  REFERENCE_LONGITUDE = "N/A"
  SAMPLE_FIRST_PIXEL = 1
  SAMPLE_LAST_PIXEL = 5651
  SAMPLE_PROJECTION_OFFSET = 3353.0
  SECOND_STANDARD_PARALLEL = "N/A"
  WESTERNMOST_LONGITUDE = 342.307
END_OBJECT = IMAGE_MAP_PROJECTION
/* The JPEG2000 image data file associated with this label. */
OBJECT = COMPRESSED_FILE
  FILE_NAME = "H4123_0000_ND3.JP2"
  RECORD_TYPE = UNDEFINED
  FILE_RECORDS = UNK
  ENCODING_TYPE = "JP2"
  INTERCHANGE_FORMAT = BINARY
  UNCOMPRESSED_FILE_NAME = "H4123_0000_ND3.IMG"
  REQUIRED_STORAGE_BYTES = "296140655"
  ^DESCRIPTION = "JP2INFO.TXT"
END_OBJECT = COMPRESSED_FILE
END
