PDS_VERSION_ID = PDS3
/* FILE DATA ELEMENTS */
RECORD_TYPE = STREAM
/* POINTERS TO DATA OBJECTS */
^COMPRESSED_FILE = "H4123_0000_P13.JP2"
/* IDENTIFICATION DATA ELEMENTS */
DATA_SET_ID = "MEX-M-HRSC-5-REFDR-MAPPROJECTED-V3.0"
DATA_SET_NAME = "MARS EXPRESS HRSC MAP PROJECTED REFDR V3.0"
DETECTOR_ID = MEX_HRSC_P1
EVENT_TYPE = "MARS-REGIONAL-MAPPING-Fl-La"
INSTRUMENT_HOST_ID = MEX
INSTRUMENT_HOST_NAME = "MARS EXPRESS"
INSTRUMENT_ID = HRSC
INSTRUMENT_NAME = "HIGH RESOLUTION STEREO CAMERA"
MISSION_NAME = "MARS EXPRESS"
MISSION_PHASE_NAME = ME_Phase_7
PROCESSING_LEVEL_ID = 3
PRODUCT_CREATION_TIME = 2016-04-20T19:30:25.000Z
PRODUCT_ID = "H4123_0000_P13.JP2"
RELEASE_ID = 0047
REVISION_ID = 0000
/* QUALITY DATA ELEMENTS */
DATA_QUALITY_ID = 2
DATA_QUALITY_DESC = "Data calculated based on photogrammetrically improved orbit and attitude data"
/* TIME DATA ELEMENTS */
SPACECRAFT_CLOCK_START_COUNT = "1/0122703628.08250"
SPACECRAFT_CLOCK_STOP_COUNT = "1/0122703854.41531"
START_TIME = 2007-03-23T04:21:19.711Z
STOP_TIME = 2007-03-23T04:24:07.428Z
/* ORBITAL DATA ELEMENTS */
ASCENDING_NODE_LONGITUDE = 141.93
MAXIMUM_RESOLUTION = 25.3
FOOTPRINT_POINT_LATITUDE = (-15.8016,-15.8016,-15.8015,-15.8131, -15.5883,-15.3644,-15.1397,-14.9157, -14.6895,-14.4653,-14.2398,-14.0161, -13.7917,-13.4549,-13.2301,-12.8932, -12.5567,-12.3321,-11.9956,-11.7713, -11.5471,-11.3254,-10.9916,-10.7756, -10.5595,-10.3436,-10.1274,-9.91145, -9.69603,-9.4814,-9.26713,-9.05171, -8.72879,-8.51361,-8.29782,-7.97433, -7.6516,-7.43632,-7.22316,-7.00953, -6.79486,-6.46444,-6.24196,-6.01841, -5.79643,-5.46434,-5.24195,-5.02013, -4.7987,-4.76163,-4.76122,-4.7605, -4.76065,-4.87107,-5.20383,-5.42849, -5.65143,-5.87274,-6.09045,-6.31231, -6.53551,-6.75473,-6.9693,-7.18415, -7.39877,-7.61366,-7.93604,-8.25772, -8.47222,-8.68754,-8.90403,-9.11877, -9.33446,-9.65818,-9.87408,-10.0894, -10.3089,-10.526,-10.7387,-10.9548, -11.1728,-11.397,-11.6213,-11.8452, -12.0698,-12.2943,-12.5186,-12.8551, -13.0797,-13.3041,-13.6418,-13.8691, -14.2096,-14.4297,-14.6507,-14.8757, -15.2133,-15.4395,-15.7757,-15.8016)
FOOTPRINT_POINT_LONGITUDE = (343.117,342.83,342.654,342.313,342.315 ,342.316,342.318,342.319,342.321, 342.323,342.324,342.325,342.327,342.328 ,342.33,342.331,342.332,342.333,342.334 ,342.335,342.336,342.335,342.337, 342.337,342.338,342.338,342.338,342.338 ,342.338,342.338,342.337,342.337, 342.337,342.336,342.336,342.336,342.335 ,342.335,342.333,342.332,342.332, 342.331,342.33,342.33,342.329,342.327, 342.326,342.325,342.323,342.46,342.704, 343.022,343.235,343.419,343.419,343.421 ,343.422,343.422,343.42,343.42,343.421, 343.421,343.422,343.422,343.423,343.423 ,343.424,343.425,343.425,343.426, 343.427,343.427,343.428,343.429,343.43, 343.431,343.434,343.435,343.435,343.436 ,343.437,343.438,343.439,343.44,343.441 ,343.443,343.444,343.446,343.447, 343.448,343.451,343.453,343.457,343.456 ,343.456,343.458,343.46,343.463,343.465 ,343.117)
ORBIT_NUMBER = 4123
ORBITAL_ECCENTRICITY = 0.571
ORBITAL_INCLINATION = 86.68
ORBITAL_SEMIMAJOR_AXIS = 8619.59
PERIAPSIS_ALTITUDE = 305.48
PERIAPSIS_ARGUMENT_ANGLE = 351.84
PERIAPSIS_TIME = 2007-03-23T04:22:58.000Z
SPACECRAFT_ORIENTATION = (0.0,1.0,0.0)
^MEX_ORIENTATION_DESC = "MEX_ORIENTATION_DESC.TXT"
SPACECRAFT_POINTING_MODE = NADIR
^MEX_POINTING_DESC = "MEX_POINTING_DESC.TXT"
RIGHT_ASCENSION = -1e+32
DECLINATION = -1e+32
OFFSET_ANGLE = -1e+32
SPACECRAFT_SOLAR_DISTANCE = 2.12132e+08
TARGET_NAME = MARS
/* CAMERA DATA ELEMENTS */
DETECTOR_TEMPERATURE = 17.5549
FOCAL_PLANE_TEMPERATURE = 9.6028
INST_CMPRS_NAME = "DISCRETE COSINE TRANSFORMATION (DCT)"
INST_CMPRS_RATIO = 9.78443
INST_CMPRS_QUALITY = 0
INST_CMPRS_QUANTZ_TBL_ID = 0
INSTRUMENT_TEMPERATURE = 11.6418
LENS_TEMPERATURE = 9.8067
MACROPIXEL_SIZE = 2
MISSING_FRAMES = 0
PIXEL_SUBSAMPLING_FLAG = N
SIGNAL_CHAIN_ID = 3
/* RADIOMETRIC DATA ELEMENTS */
BANDWIDTH = 174.0
CENTER_FILTER_WAVELENGTH = 675.0
RADIANCE_OFFSET = 2.49375
RADIANCE_SCALING_FACTOR = 0.00602481
REFLECTANCE_SCALING_FACTOR = 0.000145828
MEX:REFLECTANCE_OFFSET = 0.0603601
/* IMAGE OBJECT DEFINITIONS */
OBJECT = IMAGE
  INTERCHANGE_FORMAT = BINARY
  LINES = 26200
  LINE_SAMPLES = 2826
  SAMPLE_TYPE = UNSIGNED_INTEGER
  SAMPLE_BITS = 8
  BANDS = 1
  BAND_STORAGE_TYPE = BAND_SEQUENTIAL
  MAXIMUM = 255
  MEAN = 104.39
  MINIMUM = 1
  STANDARD_DEVIATION = 27.659
END_OBJECT = IMAGE
/* MAP OBJECT DEFINITIONS */
OBJECT = IMAGE_MAP_PROJECTION
  ^DATA_SET_MAP_PROJECTION_CATALOG= "DSMAP.CAT"
  A_AXIS_RADIUS = 3396.0
  B_AXIS_RADIUS = 3396.0
  C_AXIS_RADIUS = 3396.0
  CENTER_LATITUDE = 0.0
  CENTER_LONGITUDE = 343.0
  COORDINATE_SYSTEM_NAME = PLANETOGRAPHIC
  COORDINATE_SYSTEM_TYPE = "BODY-FIXED ROTATING"
  EASTERNMOST_LONGITUDE = 343.465
  FIRST_STANDARD_PARALLEL = "N/A"
  LINE_FIRST_PIXEL = 1
  LINE_LAST_PIXEL = 26200
  LINE_PROJECTION_OFFSET = -11253.75
  MAP_PROJECTION_ROTATION = 0.0
  MAP_PROJECTION_TYPE = SINUSOIDAL
  MAP_RESOLUTION = 2370.85521546667
  MAP_SCALE = 0.025
  MAXIMUM_LATITUDE = -4.7605
  MINIMUM_LATITUDE = -15.8131
  POSITIVE_LONGITUDE_DIRECTION = EAST
  REFERENCE_LATITUDE = "N/A"
  REFERENCE_LONGITUDE = "N/A"
  SAMPLE_FIRST_PIXEL = 1
  SAMPLE_LAST_PIXEL = 2826
  SAMPLE_PROJECTION_OFFSET = 1676.25
  SECOND_STANDARD_PARALLEL = "N/A"
  WESTERNMOST_LONGITUDE = 342.313
END_OBJECT = IMAGE_MAP_PROJECTION
/* The JPEG2000 image data file associated with this label. */
OBJECT = COMPRESSED_FILE
  FILE_NAME = "H4123_0000_P13.JP2"
  RECORD_TYPE = UNDEFINED
  FILE_RECORDS = UNK
  ENCODING_TYPE = "JP2"
  INTERCHANGE_FORMAT = BINARY
  UNCOMPRESSED_FILE_NAME = "H4123_0000_P13.IMG"
  REQUIRED_STORAGE_BYTES = "74063808"
  ^DESCRIPTION = "JP2INFO.TXT"
END_OBJECT = COMPRESSED_FILE
END
