PDS_VERSION_ID = PDS3
/* FILE DATA ELEMENTS */
RECORD_TYPE = STREAM
/* POINTERS TO DATA OBJECTS */
^COMPRESSED_FILE = "H4125_0000_RE3.JP2"
/* IDENTIFICATION DATA ELEMENTS */
DATA_SET_ID = "MEX-M-HRSC-5-REFDR-MAPPROJECTED-V3.0"
DATA_SET_NAME = "MARS EXPRESS HRSC MAP PROJECTED REFDR V3.0"
DETECTOR_ID = MEX_HRSC_RED
EVENT_TYPE = "MARS-REGIONAL-MAPPING-Im-Fl-Mw"
INSTRUMENT_HOST_ID = MEX
INSTRUMENT_HOST_NAME = "MARS EXPRESS"
INSTRUMENT_ID = HRSC
INSTRUMENT_NAME = "HIGH RESOLUTION STEREO CAMERA"
MISSION_NAME = "MARS EXPRESS"
MISSION_PHASE_NAME = ME_Phase_7
PROCESSING_LEVEL_ID = 3
PRODUCT_CREATION_TIME = 2016-04-20T19:30:25.000Z
PRODUCT_ID = "H4125_0000_RE3.JP2"
RELEASE_ID = 0047
REVISION_ID = 0000
/* QUALITY DATA ELEMENTS */
DATA_QUALITY_ID = 2
DATA_QUALITY_DESC = "Data calculated based on photogrammetrically improved orbit and attitude data"
/* TIME DATA ELEMENTS */
SPACECRAFT_CLOCK_START_COUNT = "1/0122751690.09037"
SPACECRAFT_CLOCK_STOP_COUNT = "1/0122752005.56686"
START_TIME = 2007-03-23T17:41:43.299Z
STOP_TIME = 2007-03-23T17:45:51.964Z
/* ORBITAL DATA ELEMENTS */
ASCENDING_NODE_LONGITUDE = 141.88
MAXIMUM_RESOLUTION = 57.7
FOOTPRINT_POINT_LATITUDE = (-35.1475,-35.1586,-35.1683,-35.1767, -35.1837,-35.1675,-34.8298,-34.4915, -34.1597,-33.6629,-33.3361,-33.009, -32.5265,-32.2042,-31.7283,-31.4109, -31.0989,-30.7885,-30.4777,-30.1718, -29.8654,-29.5619,-29.2617,-28.8108, -28.3624,-27.9211,-27.6263,-27.3364, -26.9009,-26.6106,-26.3192,-26.0266, -25.7343,-25.441,-25.1477,-24.8529, -24.4118,-24.1157,-23.8196,-23.3738, -23.0757,-22.8029,-22.5529,-22.3035, -22.0527,-21.6768,-21.4246,-21.0468, -20.7942,-20.5408,-20.3329,-20.3126, -20.2893,-20.5439,-20.7954,-21.0474, -21.2996,-21.5518,-21.8036,-22.179, -22.5546,-22.8055,-23.094,-23.3929, -23.6897,-23.9854,-24.2815,-24.5757, -24.8709,-25.1655,-25.6047,-25.8981, -26.1901,-26.6283,-27.0613,-27.3506, -27.6407,-27.9372,-28.2332,-28.5312, -28.832,-29.1324,-29.4311,-29.8885, -30.194,-30.6583,-30.9701,-31.2825, -31.7573,-32.0747,-32.3965,-32.7184, -33.0438,-33.3716,-33.6976,-34.0294, -34.3615,-34.6978,-35.0357,-35.1475)
FOOTPRINT_POINT_LONGITUDE = (148.142,147.822,147.504,147.189, 146.877,146.296,146.311,146.327,146.341 ,146.363,146.376,146.389,146.408,146.42 ,146.438,146.449,146.46,146.47,146.48, 146.49,146.5,146.509,146.518,146.53, 146.543,146.555,146.562,146.569,146.58, 146.587,146.593,146.6,146.606,146.612, 146.618,146.624,146.632,146.637,146.642 ,146.65,146.655,146.659,146.663,146.666 ,146.67,146.675,146.678,146.683,146.686 ,146.689,147.234,147.618,148.018, 148.022,148.028,148.034,148.039,148.045 ,148.05,148.059,148.068,148.073,148.077 ,148.083,148.09,148.098,148.105,148.113 ,148.12,148.127,148.139,148.145,148.153 ,148.164,148.178,148.186,148.194, 148.202,148.21,148.215,148.222,148.232, 148.243,148.256,148.266,148.278,148.289 ,148.298,148.313,148.323,148.333, 148.345,148.354,148.366,148.378,148.391 ,148.404,148.416,148.429,148.142)
ORBIT_NUMBER = 4125
ORBITAL_ECCENTRICITY = 0.571
ORBITAL_INCLINATION = 86.67
ORBITAL_SEMIMAJOR_AXIS = 8622.14
PERIAPSIS_ALTITUDE = 305.41
PERIAPSIS_ARGUMENT_ANGLE = 351.53
PERIAPSIS_TIME = 2007-03-23T17:49:20.000Z
SPACECRAFT_ORIENTATION = (0.0,1.0,0.0)
^MEX_ORIENTATION_DESC = "MEX_ORIENTATION_DESC.TXT"
SPACECRAFT_POINTING_MODE = ACROSSTRACK
^MEX_POINTING_DESC = "MEX_POINTING_DESC.TXT"
RIGHT_ASCENSION = -1e+32
DECLINATION = -1e+32
OFFSET_ANGLE = -0.95
SPACECRAFT_SOLAR_DISTANCE = 2.12054e+08
TARGET_NAME = MARS
/* CAMERA DATA ELEMENTS */
DETECTOR_TEMPERATURE = 18.7783
FOCAL_PLANE_TEMPERATURE = 8.7872
INST_CMPRS_NAME = "DISCRETE COSINE TRANSFORMATION (DCT)"
INST_CMPRS_RATIO = 9.46207
INST_CMPRS_QUALITY = 0
INST_CMPRS_QUANTZ_TBL_ID = 0
INSTRUMENT_TEMPERATURE = 11.4379
LENS_TEMPERATURE = 9.3989
MACROPIXEL_SIZE = 4
MISSING_FRAMES = 0
PIXEL_SUBSAMPLING_FLAG = N
SIGNAL_CHAIN_ID = 2
/* RADIOMETRIC DATA ELEMENTS */
BANDWIDTH = 48.0
CENTER_FILTER_WAVELENGTH = 748.0
RADIANCE_OFFSET = 0.579465
RADIANCE_SCALING_FACTOR = 0.00269101
REFLECTANCE_SCALING_FACTOR = 0.000276145
MEX:REFLECTANCE_OFFSET = 0.0594632
/* IMAGE OBJECT DEFINITIONS */
OBJECT = IMAGE
  INTERCHANGE_FORMAT = BINARY
  LINES = 17559
  LINE_SAMPLES = 2025
  SAMPLE_TYPE = UNSIGNED_INTEGER
  SAMPLE_BITS = 8
  BANDS = 1
  BAND_STORAGE_TYPE = BAND_SEQUENTIAL
  MAXIMUM = 255
  MEAN = 91.6177
  MINIMUM = 1
  STANDARD_DEVIATION = 22.6103
END_OBJECT = IMAGE
/* MAP OBJECT DEFINITIONS */
OBJECT = IMAGE_MAP_PROJECTION
  ^DATA_SET_MAP_PROJECTION_CATALOG= "DSMAP.CAT"
  A_AXIS_RADIUS = 3396.0
  B_AXIS_RADIUS = 3396.0
  C_AXIS_RADIUS = 3396.0
  CENTER_LATITUDE = 0.0
  CENTER_LONGITUDE = 147.0
  COORDINATE_SYSTEM_NAME = PLANETOGRAPHIC
  COORDINATE_SYSTEM_TYPE = "BODY-FIXED ROTATING"
  EASTERNMOST_LONGITUDE = 148.429
  FIRST_STANDARD_PARALLEL = "N/A"
  LINE_FIRST_PIXEL = 1
  LINE_LAST_PIXEL = 17559
  LINE_PROJECTION_OFFSET = -24080.125
  MAP_PROJECTION_ROTATION = 0.0
  MAP_PROJECTION_TYPE = SINUSOIDAL
  MAP_RESOLUTION = 1185.42760773333
  MAP_SCALE = 0.05
  MAXIMUM_LATITUDE = -20.2893
  MINIMUM_LATITUDE = -35.1837
  POSITIVE_LONGITUDE_DIRECTION = EAST
  REFERENCE_LATITUDE = "N/A"
  REFERENCE_LONGITUDE = "N/A"
  SAMPLE_FIRST_PIXEL = 1
  SAMPLE_LAST_PIXEL = 2025
  SAMPLE_PROJECTION_OFFSET = 630.125
  SECOND_STANDARD_PARALLEL = "N/A"
  WESTERNMOST_LONGITUDE = 146.296
END_OBJECT = IMAGE_MAP_PROJECTION
/* The JPEG2000 image data file associated with this label. */
OBJECT = COMPRESSED_FILE
  FILE_NAME = "H4125_0000_RE3.JP2"
  RECORD_TYPE = UNDEFINED
  FILE_RECORDS = UNK
  ENCODING_TYPE = "JP2"
  INTERCHANGE_FORMAT = BINARY
  UNCOMPRESSED_FILE_NAME = "H4125_0000_RE3.IMG"
  REQUIRED_STORAGE_BYTES = "35577225"
  ^DESCRIPTION = "JP2INFO.TXT"
END_OBJECT = COMPRESSED_FILE
END
