PDS_VERSION_ID = PDS3
/* FILE DATA ELEMENTS */
RECORD_TYPE = STREAM
/* POINTERS TO DATA OBJECTS */
^COMPRESSED_FILE = "H4125_0000_S23.JP2"
/* IDENTIFICATION DATA ELEMENTS */
DATA_SET_ID = "MEX-M-HRSC-5-REFDR-MAPPROJECTED-V3.0"
DATA_SET_NAME = "MARS EXPRESS HRSC MAP PROJECTED REFDR V3.0"
DETECTOR_ID = MEX_HRSC_S2
EVENT_TYPE = "MARS-REGIONAL-MAPPING-Im-Fl-Mw"
INSTRUMENT_HOST_ID = MEX
INSTRUMENT_HOST_NAME = "MARS EXPRESS"
INSTRUMENT_ID = HRSC
INSTRUMENT_NAME = "HIGH RESOLUTION STEREO CAMERA"
MISSION_NAME = "MARS EXPRESS"
MISSION_PHASE_NAME = ME_Phase_7
PROCESSING_LEVEL_ID = 3
PRODUCT_CREATION_TIME = 2016-04-20T19:30:25.000Z
PRODUCT_ID = "H4125_0000_S23.JP2"
RELEASE_ID = 0047
REVISION_ID = 0000
/* QUALITY DATA ELEMENTS */
DATA_QUALITY_ID = 2
DATA_QUALITY_DESC = "Data calculated based on photogrammetrically improved orbit and attitude data"
/* TIME DATA ELEMENTS */
SPACECRAFT_CLOCK_START_COUNT = "1/0122751690.09037"
SPACECRAFT_CLOCK_STOP_COUNT = "1/0122752005.56686"
START_TIME = 2007-03-23T17:41:34.351Z
STOP_TIME = 2007-03-23T17:45:46.101Z
/* ORBITAL DATA ELEMENTS */
ASCENDING_NODE_LONGITUDE = 141.88
MAXIMUM_RESOLUTION = 29.6
FOOTPRINT_POINT_LATITUDE = (-35.1397,-35.1539,-35.1665,-35.1775, -35.1869,-35.1949,-35.0003,-34.6613, -34.3276,-33.9943,-33.6658,-33.1745, -32.851,-32.5275,-32.2082,-31.729, -31.4151,-30.9448,-30.6357,-30.3263, -30.0189,-29.7161,-29.4129,-29.1118, -28.8142,-28.5151,-28.2155,-27.9229, -27.6288,-27.1891,-26.9015,-26.6135, -26.3252,-26.035,-25.7453,-25.4547, -25.1635,-24.8714,-24.5786,-24.14, -23.8462,-23.5517,-23.2555,-22.9593, -22.524,-22.0271,-21.6536,-21.4028, -21.0272,-20.7759,-20.5239,-20.3574, -20.3347,-20.3047,-20.5493,-20.7992, -21.0496,-21.3003,-21.5511,-21.8014, -22.1742,-22.4225,-22.8566,-23.1546, -23.4514,-23.7458,-24.0396,-24.4783, -24.7709,-25.0642,-25.3539,-25.6447, -26.0797,-26.5157,-26.9436,-27.2303, -27.5257,-27.8196,-28.1129,-28.5635, -28.864,-29.16,-29.4632,-29.7678, -30.0706,-30.3808,-30.8456,-31.16, -31.6317,-31.9507,-32.2713,-32.5901, -32.9179,-33.2423,-33.5712,-33.8983, -34.2312,-34.5651,-34.9027,-35.1397)
FOOTPRINT_POINT_LONGITUDE = (148.238,147.897,147.56,147.226,146.896 ,146.568,146.286,146.302,146.317, 146.332,146.346,146.367,146.38,146.393, 146.406,146.424,146.435,146.452,146.462 ,146.473,146.483,146.492,146.502, 146.511,146.519,146.528,146.536,146.544 ,146.552,146.563,146.57,146.577,146.584 ,146.591,146.597,146.603,146.609, 146.615,146.621,146.629,146.634,146.639 ,146.645,146.65,146.656,146.664,146.669 ,146.672,146.677,146.68,146.683,147.089 ,147.463,147.9,148.031,148.038,148.044, 148.049,148.055,148.06,148.07,148.076, 148.084,148.09,148.095,148.103,148.11, 148.122,148.13,148.136,148.145,148.153, 148.164,148.174,148.189,148.198,148.205 ,148.214,148.222,148.232,148.239,148.25 ,148.26,148.27,148.28,148.29,148.304, 148.313,148.329,148.34,148.35,148.362, 148.372,148.383,148.396,148.41,148.423, 148.436,148.449,148.238)
ORBIT_NUMBER = 4125
ORBITAL_ECCENTRICITY = 0.571
ORBITAL_INCLINATION = 86.67
ORBITAL_SEMIMAJOR_AXIS = 8622.14
PERIAPSIS_ALTITUDE = 305.41
PERIAPSIS_ARGUMENT_ANGLE = 351.53
PERIAPSIS_TIME = 2007-03-23T17:49:20.000Z
SPACECRAFT_ORIENTATION = (0.0,1.0,0.0)
^MEX_ORIENTATION_DESC = "MEX_ORIENTATION_DESC.TXT"
SPACECRAFT_POINTING_MODE = ACROSSTRACK
^MEX_POINTING_DESC = "MEX_POINTING_DESC.TXT"
RIGHT_ASCENSION = -1e+32
DECLINATION = -1e+32
OFFSET_ANGLE = -0.95
SPACECRAFT_SOLAR_DISTANCE = 2.12054e+08
TARGET_NAME = MARS
/* CAMERA DATA ELEMENTS */
DETECTOR_TEMPERATURE = 18.7783
FOCAL_PLANE_TEMPERATURE = 8.7872
INST_CMPRS_NAME = "DISCRETE COSINE TRANSFORMATION (DCT)"
INST_CMPRS_RATIO = 8.6032
INST_CMPRS_QUALITY = 0
INST_CMPRS_QUANTZ_TBL_ID = 0
INSTRUMENT_TEMPERATURE = 11.4379
LENS_TEMPERATURE = 9.3989
MACROPIXEL_SIZE = 2
MISSING_FRAMES = 0
PIXEL_SUBSAMPLING_FLAG = N
SIGNAL_CHAIN_ID = 1
/* RADIOMETRIC DATA ELEMENTS */
BANDWIDTH = 178.0
CENTER_FILTER_WAVELENGTH = 679.0
RADIANCE_OFFSET = 2.3351
RADIANCE_SCALING_FACTOR = 0.0100091
REFLECTANCE_SCALING_FACTOR = 0.000238351
MEX:REFLECTANCE_OFFSET = 0.0556068
/* IMAGE OBJECT DEFINITIONS */
OBJECT = IMAGE
  INTERCHANGE_FORMAT = BINARY
  LINES = 35117
  LINE_SAMPLES = 4049
  SAMPLE_TYPE = UNSIGNED_INTEGER
  SAMPLE_BITS = 8
  BANDS = 1
  BAND_STORAGE_TYPE = BAND_SEQUENTIAL
  MAXIMUM = 255
  MEAN = 97.1928
  MINIMUM = 1
  STANDARD_DEVIATION = 22.5683
END_OBJECT = IMAGE
/* MAP OBJECT DEFINITIONS */
OBJECT = IMAGE_MAP_PROJECTION
  ^DATA_SET_MAP_PROJECTION_CATALOG= "DSMAP.CAT"
  A_AXIS_RADIUS = 3396.0
  B_AXIS_RADIUS = 3396.0
  C_AXIS_RADIUS = 3396.0
  CENTER_LATITUDE = 0.0
  CENTER_LONGITUDE = 147.0
  COORDINATE_SYSTEM_NAME = PLANETOGRAPHIC
  COORDINATE_SYSTEM_TYPE = "BODY-FIXED ROTATING"
  EASTERNMOST_LONGITUDE = 148.449
  FIRST_STANDARD_PARALLEL = "N/A"
  LINE_FIRST_PIXEL = 1
  LINE_LAST_PIXEL = 35117
  LINE_PROJECTION_OFFSET = -48159.75
  MAP_PROJECTION_ROTATION = 0.0
  MAP_PROJECTION_TYPE = SINUSOIDAL
  MAP_RESOLUTION = 2370.85521546667
  MAP_SCALE = 0.025
  MAXIMUM_LATITUDE = -20.3047
  MINIMUM_LATITUDE = -35.1949
  POSITIVE_LONGITUDE_DIRECTION = EAST
  REFERENCE_LATITUDE = "N/A"
  REFERENCE_LONGITUDE = "N/A"
  SAMPLE_FIRST_PIXEL = 1
  SAMPLE_LAST_PIXEL = 4049
  SAMPLE_PROJECTION_OFFSET = 1260.75
  SECOND_STANDARD_PARALLEL = "N/A"
  WESTERNMOST_LONGITUDE = 146.286
END_OBJECT = IMAGE_MAP_PROJECTION
/* The JPEG2000 image data file associated with this label. */
OBJECT = COMPRESSED_FILE
  FILE_NAME = "H4125_0000_S23.JP2"
  RECORD_TYPE = UNDEFINED
  FILE_RECORDS = UNK
  ENCODING_TYPE = "JP2"
  INTERCHANGE_FORMAT = BINARY
  UNCOMPRESSED_FILE_NAME = "H4125_0000_S23.IMG"
  REQUIRED_STORAGE_BYTES = "142213027"
  ^DESCRIPTION = "JP2INFO.TXT"
END_OBJECT = COMPRESSED_FILE
END
