PDS_VERSION_ID = PDS3
/* FILE DATA ELEMENTS */
RECORD_TYPE = STREAM
/* POINTERS TO DATA OBJECTS */
^COMPRESSED_FILE = "H4127_0000_GR3.JP2"
/* IDENTIFICATION DATA ELEMENTS */
DATA_SET_ID = "MEX-M-HRSC-5-REFDR-MAPPROJECTED-V3.0"
DATA_SET_NAME = "MARS EXPRESS HRSC MAP PROJECTED REFDR V3.0"
DETECTOR_ID = MEX_HRSC_GREEN
EVENT_TYPE = "MARS-REGIONAL-MAPPING-Vo-Im-Fl"
INSTRUMENT_HOST_ID = MEX
INSTRUMENT_HOST_NAME = "MARS EXPRESS"
INSTRUMENT_ID = HRSC
INSTRUMENT_NAME = "HIGH RESOLUTION STEREO CAMERA"
MISSION_NAME = "MARS EXPRESS"
MISSION_PHASE_NAME = ME_Phase_7
PROCESSING_LEVEL_ID = 3
PRODUCT_CREATION_TIME = 2016-04-20T19:30:25.000Z
PRODUCT_ID = "H4127_0000_GR3.JP2"
RELEASE_ID = 0047
REVISION_ID = 0000
/* QUALITY DATA ELEMENTS */
DATA_QUALITY_ID = 2
DATA_QUALITY_DESC = "Data calculated based on photogrammetrically improved orbit and attitude data"
/* TIME DATA ELEMENTS */
SPACECRAFT_CLOCK_START_COUNT = "1/0122800093.07284"
SPACECRAFT_CLOCK_STOP_COUNT = "1/0122800421.22636"
START_TIME = 2007-03-24T07:09:10.737Z
STOP_TIME = 2007-03-24T07:13:20.263Z
/* ORBITAL DATA ELEMENTS */
ASCENDING_NODE_LONGITUDE = 141.84
MAXIMUM_RESOLUTION = 103.3
FOOTPRINT_POINT_LATITUDE = (-34.0811,-34.0742,-34.0658,-33.5128, -33.1475,-32.7852,-32.4279,-31.8923, -31.5423,-31.192,-30.8432,-30.5009, -30.158,-29.6427,-29.2985,-28.9564, -28.6115,-28.2657,-27.918,-27.5717, -27.2248,-26.8776,-26.5298,-26.0246, -25.7323,-25.4399,-25.147,-24.854, -24.5607,-24.2671,-23.9731,-23.6789, -23.3844,-23.0895,-22.7945,-22.4994, -22.204,-21.9083,-21.6127,-21.3166, -21.0267,-20.5964,-20.3093,-20.022, -19.5906,-19.303,-19.016,-18.7376, -18.459,-18.0934,-18.0951,-18.0962, -18.2379,-18.656,-18.9348,-19.2192, -19.507,-19.9387,-20.2262,-20.5135, -20.8005,-21.0876,-21.3796,-21.6759, -21.9717,-22.2675,-22.5629,-23.0061, -23.4487,-23.7434,-24.0377,-24.332, -24.6259,-24.9194,-25.2127,-25.5058, -25.7984,-26.0913,-26.4336,-26.7816, -27.1295,-27.4769,-27.8238,-28.1704, -28.5165,-28.8621,-29.2071,-29.5516, -29.8958,-30.2397,-30.5828,-30.9255, -31.2766,-31.6274,-32.1574,-32.516, -32.874,-33.2388,-33.6046,-34.0811)
FOOTPRINT_POINT_LONGITUDE = (310.419,309.789,309.247,309.019, 309.036,309.052,309.068,309.09,309.105, 309.119,309.132,309.145,309.158,309.176 ,309.189,309.196,309.207,309.219, 309.232,309.242,309.252,309.262,309.272 ,309.285,309.293,309.3,309.307,309.314, 309.321,309.327,309.334,309.34,309.346, 309.353,309.358,309.364,309.369,309.375 ,309.38,309.385,309.389,309.396,309.4, 309.404,309.41,309.414,309.417,309.421, 309.424,309.535,309.853,310.238,310.601 ,310.605,310.609,310.612,310.614, 310.619,310.622,310.625,310.628,310.631 ,310.635,310.638,310.642,310.645, 310.648,310.655,310.661,310.665,310.669 ,310.673,310.677,310.681,310.685, 310.689,310.693,310.699,310.703,310.708 ,310.713,310.718,310.723,310.728, 310.733,310.739,310.744,310.749,310.755 ,310.761,310.766,310.772,310.777, 310.783,310.793,310.799,310.805,310.812 ,310.818,310.419)
ORBIT_NUMBER = 4127
ORBITAL_ECCENTRICITY = 0.571
ORBITAL_INCLINATION = 86.68
ORBITAL_SEMIMAJOR_AXIS = 8620.32
PERIAPSIS_ALTITUDE = 305.04
PERIAPSIS_ARGUMENT_ANGLE = 351.17
PERIAPSIS_TIME = 2007-03-24T07:15:37.000Z
SPACECRAFT_ORIENTATION = (0.0,1.0,0.0)
^MEX_ORIENTATION_DESC = "MEX_ORIENTATION_DESC.TXT"
SPACECRAFT_POINTING_MODE = ACROSSTRACK
^MEX_POINTING_DESC = "MEX_POINTING_DESC.TXT"
RIGHT_ASCENSION = -1e+32
DECLINATION = -1e+32
OFFSET_ANGLE = -0.2
SPACECRAFT_SOLAR_DISTANCE = 2.11976e+08
TARGET_NAME = MARS
/* CAMERA DATA ELEMENTS */
DETECTOR_TEMPERATURE = 18.3705
FOCAL_PLANE_TEMPERATURE = 9.3989
INST_CMPRS_NAME = "DISCRETE COSINE TRANSFORMATION (DCT)"
INST_CMPRS_RATIO = 14.5243
INST_CMPRS_QUALITY = 0
INST_CMPRS_QUANTZ_TBL_ID = 0
INSTRUMENT_TEMPERATURE = 11.6418
LENS_TEMPERATURE = 9.8067
MACROPIXEL_SIZE = 8
MISSING_FRAMES = 0
PIXEL_SUBSAMPLING_FLAG = N
SIGNAL_CHAIN_ID = 2
/* RADIOMETRIC DATA ELEMENTS */
BANDWIDTH = 88.0
CENTER_FILTER_WAVELENGTH = 538.0
RADIANCE_OFFSET = 1.112
RADIANCE_SCALING_FACTOR = 0.00249662
REFLECTANCE_SCALING_FACTOR = 9.65871e-05
MEX:REFLECTANCE_OFFSET = 0.0430199
/* IMAGE OBJECT DEFINITIONS */
OBJECT = IMAGE
  INTERCHANGE_FORMAT = BINARY
  LINES = 9489
  LINE_SAMPLES = 959
  SAMPLE_TYPE = UNSIGNED_INTEGER
  SAMPLE_BITS = 8
  BANDS = 1
  BAND_STORAGE_TYPE = BAND_SEQUENTIAL
  MAXIMUM = 255
  MEAN = 109.046
  MINIMUM = 1
  STANDARD_DEVIATION = 22.158
END_OBJECT = IMAGE
/* MAP OBJECT DEFINITIONS */
OBJECT = IMAGE_MAP_PROJECTION
  ^DATA_SET_MAP_PROJECTION_CATALOG= "DSMAP.CAT"
  A_AXIS_RADIUS = 3396.0
  B_AXIS_RADIUS = 3396.0
  C_AXIS_RADIUS = 3396.0
  CENTER_LATITUDE = 0.0
  CENTER_LONGITUDE = 310.0
  COORDINATE_SYSTEM_NAME = PLANETOGRAPHIC
  COORDINATE_SYSTEM_TYPE = "BODY-FIXED ROTATING"
  EASTERNMOST_LONGITUDE = 310.818
  FIRST_STANDARD_PARALLEL = "N/A"
  LINE_FIRST_PIXEL = 1
  LINE_LAST_PIXEL = 9489
  LINE_PROJECTION_OFFSET = -10723.8125
  MAP_PROJECTION_ROTATION = 0.0
  MAP_PROJECTION_TYPE = SINUSOIDAL
  MAP_RESOLUTION = 592.713803866667
  MAP_SCALE = 0.1
  MAXIMUM_LATITUDE = -18.0934
  MINIMUM_LATITUDE = -34.0811
  POSITIVE_LONGITUDE_DIRECTION = EAST
  REFERENCE_LATITUDE = "N/A"
  REFERENCE_LONGITUDE = "N/A"
  SAMPLE_FIRST_PIXEL = 1
  SAMPLE_LAST_PIXEL = 959
  SAMPLE_PROJECTION_OFFSET = 522.1875
  SECOND_STANDARD_PARALLEL = "N/A"
  WESTERNMOST_LONGITUDE = 309.019
END_OBJECT = IMAGE_MAP_PROJECTION
/* The JPEG2000 image data file associated with this label. */
OBJECT = COMPRESSED_FILE
  FILE_NAME = "H4127_0000_GR3.JP2"
  RECORD_TYPE = UNDEFINED
  FILE_RECORDS = UNK
  ENCODING_TYPE = "JP2"
  INTERCHANGE_FORMAT = BINARY
  UNCOMPRESSED_FILE_NAME = "H4127_0000_GR3.IMG"
  REQUIRED_STORAGE_BYTES = "9118172"
  ^DESCRIPTION = "JP2INFO.TXT"
END_OBJECT = COMPRESSED_FILE
END
