PDS_VERSION_ID = PDS3
/* FILE DATA ELEMENTS */
RECORD_TYPE = STREAM
/* POINTERS TO DATA OBJECTS */
^COMPRESSED_FILE = "H4131_0000_P23.JP2"
/* IDENTIFICATION DATA ELEMENTS */
DATA_SET_ID = "MEX-M-HRSC-5-REFDR-MAPPROJECTED-V3.0"
DATA_SET_NAME = "MARS EXPRESS HRSC MAP PROJECTED REFDR V3.0"
DETECTOR_ID = MEX_HRSC_P2
EVENT_TYPE = "MARS-REGIONAL-MAPPING-Vo-Te-Im"
INSTRUMENT_HOST_ID = MEX
INSTRUMENT_HOST_NAME = "MARS EXPRESS"
INSTRUMENT_ID = HRSC
INSTRUMENT_NAME = "HIGH RESOLUTION STEREO CAMERA"
MISSION_NAME = "MARS EXPRESS"
MISSION_PHASE_NAME = ME_Phase_7
PROCESSING_LEVEL_ID = 3
PRODUCT_CREATION_TIME = 2016-04-20T19:30:25.000Z
PRODUCT_ID = "H4131_0000_P23.JP2"
RELEASE_ID = 0047
REVISION_ID = 0000
/* QUALITY DATA ELEMENTS */
DATA_QUALITY_ID = 2
DATA_QUALITY_DESC = "Data calculated based on photogrammetrically improved orbit and attitude data"
/* TIME DATA ELEMENTS */
SPACECRAFT_CLOCK_START_COUNT = "1/0122896858.09386"
SPACECRAFT_CLOCK_STOP_COUNT = "1/0122897180.00569"
START_TIME = 2007-03-25T10:01:19.222Z
STOP_TIME = 2007-03-25T10:05:33.690Z
/* ORBITAL DATA ELEMENTS */
ASCENDING_NODE_LONGITUDE = 141.75
MAXIMUM_RESOLUTION = 26.9
FOOTPRINT_POINT_LATITUDE = (-34.6094,-34.6179,-34.6252,-34.6314, -34.6364,-34.6365,-34.2789,-33.921, -33.3938,-33.0423,-32.524,-32.1782, -31.8398,-31.5006,-30.9986,-30.6653, -30.3325,-30.0065,-29.6799,-29.1927, -28.8731,-28.5521,-28.231,-27.909, -27.4246,-27.1014,-26.777,-26.2893, -25.8008,-25.4737,-25.1462,-24.818, -24.5077,-24.2316,-23.9555,-23.679, -23.4019,-23.1243,-22.8465,-22.5682, -22.2896,-21.8712,-21.5918,-21.3118, -21.0315,-20.7508,-20.4697,-20.1882, -19.9065,-19.6237,-19.3506,-19.0618, -19.047,-19.0321,-19.2959,-19.7106, -19.9926,-20.2744,-20.5557,-20.8367, -21.1175,-21.3977,-21.6772,-22.0963, -22.3754,-22.6538,-22.932,-23.2098, -23.4872,-23.7642,-24.0409,-24.3172, -24.7648,-25.0931,-25.5846,-25.9112, -26.2369,-26.7252,-27.0491,-27.3733, -27.6967,-28.0192,-28.3411,-28.662, -28.9827,-29.3026,-29.6303,-29.9571, -30.2833,-30.6165,-30.9498,-31.4535, -31.7937,-32.1315,-32.6498,-32.9954, -33.3474,-33.8748,-34.4125,-34.6094)
FOOTPRINT_POINT_LONGITUDE = (278.446,278.134,277.825,277.519, 277.216,276.629,276.645,276.66,276.681, 276.695,276.715,276.728,276.74,276.752, 276.769,276.78,276.79,276.8,276.81, 276.824,276.833,276.842,276.85,276.858, 276.87,276.878,276.885,276.896,276.906, 276.913,276.919,276.925,276.931,276.936 ,276.941,276.945,276.95,276.954,276.958 ,276.962,276.966,276.972,276.976, 276.979,276.982,276.986,276.989,276.992 ,276.995,276.998,277.0,277.307,277.678, 278.021,278.254,278.261,278.266,278.27, 278.275,278.28,278.285,278.29,278.296, 278.304,278.309,278.315,278.32,278.326, 278.331,278.337,278.342,278.348,278.358 ,278.365,278.375,278.383,278.39,278.401 ,278.409,278.417,278.424,278.432,278.44 ,278.448,278.456,278.464,278.472, 278.481,278.49,278.499,278.508,278.52, 278.529,278.54,278.555,278.565,278.575, 278.591,278.607,278.446)
ORBIT_NUMBER = 4131
ORBITAL_ECCENTRICITY = 0.571
ORBITAL_INCLINATION = 86.67
ORBITAL_SEMIMAJOR_AXIS = 8629.96
PERIAPSIS_ALTITUDE = 304.28
PERIAPSIS_ARGUMENT_ANGLE = 350.44
PERIAPSIS_TIME = 2007-03-25T10:08:18.000Z
SPACECRAFT_ORIENTATION = (0.0,1.0,0.0)
^MEX_ORIENTATION_DESC = "MEX_ORIENTATION_DESC.TXT"
SPACECRAFT_POINTING_MODE = ACROSSTRACK
^MEX_POINTING_DESC = "MEX_POINTING_DESC.TXT"
RIGHT_ASCENSION = -1e+32
DECLINATION = -1e+32
OFFSET_ANGLE = -0.88
SPACECRAFT_SOLAR_DISTANCE = 2.11822e+08
TARGET_NAME = MARS
/* CAMERA DATA ELEMENTS */
DETECTOR_TEMPERATURE = 18.9822
FOCAL_PLANE_TEMPERATURE = 8.7872
INST_CMPRS_NAME = "DISCRETE COSINE TRANSFORMATION (DCT)"
INST_CMPRS_RATIO = 6.55323
INST_CMPRS_QUALITY = 0
INST_CMPRS_QUANTZ_TBL_ID = 0
INSTRUMENT_TEMPERATURE = 11.234
LENS_TEMPERATURE = 9.195
MACROPIXEL_SIZE = 2
MISSING_FRAMES = 0
PIXEL_SUBSAMPLING_FLAG = N
SIGNAL_CHAIN_ID = 3
/* RADIOMETRIC DATA ELEMENTS */
BANDWIDTH = 177.0
CENTER_FILTER_WAVELENGTH = 676.5
RADIANCE_OFFSET = 1.88202
RADIANCE_SCALING_FACTOR = 0.0112507
REFLECTANCE_SCALING_FACTOR = 0.00026766
MEX:REFLECTANCE_OFFSET = 0.0447742
/* IMAGE OBJECT DEFINITIONS */
OBJECT = IMAGE
  INTERCHANGE_FORMAT = BINARY
  LINES = 36944
  LINE_SAMPLES = 3874
  SAMPLE_TYPE = UNSIGNED_INTEGER
  SAMPLE_BITS = 8
  BANDS = 1
  BAND_STORAGE_TYPE = BAND_SEQUENTIAL
  MAXIMUM = 255
  MEAN = 89.5048
  MINIMUM = 1
  STANDARD_DEVIATION = 14.1512
END_OBJECT = IMAGE
/* MAP OBJECT DEFINITIONS */
OBJECT = IMAGE_MAP_PROJECTION
  ^DATA_SET_MAP_PROJECTION_CATALOG= "DSMAP.CAT"
  A_AXIS_RADIUS = 3396.0
  B_AXIS_RADIUS = 3396.0
  C_AXIS_RADIUS = 3396.0
  CENTER_LATITUDE = 0.0
  CENTER_LONGITUDE = 278.0
  COORDINATE_SYSTEM_NAME = PLANETOGRAPHIC
  COORDINATE_SYSTEM_TYPE = "BODY-FIXED ROTATING"
  EASTERNMOST_LONGITUDE = 278.607
  FIRST_STANDARD_PARALLEL = "N/A"
  LINE_FIRST_PIXEL = 1
  LINE_LAST_PIXEL = 36944
  LINE_PROJECTION_OFFSET = -45080.25
  MAP_PROJECTION_ROTATION = 0.0
  MAP_PROJECTION_TYPE = SINUSOIDAL
  MAP_RESOLUTION = 2370.85521546667
  MAP_SCALE = 0.025
  MAXIMUM_LATITUDE = -19.0321
  MINIMUM_LATITUDE = -34.6365
  POSITIVE_LONGITUDE_DIRECTION = EAST
  REFERENCE_LATITUDE = "N/A"
  REFERENCE_LONGITUDE = "N/A"
  SAMPLE_FIRST_PIXEL = 1
  SAMPLE_LAST_PIXEL = 3874
  SAMPLE_PROJECTION_OFFSET = 2593.25
  SECOND_STANDARD_PARALLEL = "N/A"
  WESTERNMOST_LONGITUDE = 276.629
END_OBJECT = IMAGE_MAP_PROJECTION
/* The JPEG2000 image data file associated with this label. */
OBJECT = COMPRESSED_FILE
  FILE_NAME = "H4131_0000_P23.JP2"
  RECORD_TYPE = UNDEFINED
  FILE_RECORDS = UNK
  ENCODING_TYPE = "JP2"
  INTERCHANGE_FORMAT = BINARY
  UNCOMPRESSED_FILE_NAME = "H4131_0000_P23.IMG"
  REQUIRED_STORAGE_BYTES = "143144300"
  ^DESCRIPTION = "JP2INFO.TXT"
END_OBJECT = COMPRESSED_FILE
END
