PDS_VERSION_ID = PDS3
/* FILE DATA ELEMENTS */
RECORD_TYPE = STREAM
/* POINTERS TO DATA OBJECTS */
^COMPRESSED_FILE = "H4132_0000_GR3.JP2"
/* IDENTIFICATION DATA ELEMENTS */
DATA_SET_ID = "MEX-M-HRSC-5-REFDR-MAPPROJECTED-V3.0"
DATA_SET_NAME = "MARS EXPRESS HRSC MAP PROJECTED REFDR V3.0"
DETECTOR_ID = MEX_HRSC_GREEN
EVENT_TYPE = "MARS-REGIONAL-MAPPING-Fl-Lc-La"
INSTRUMENT_HOST_ID = MEX
INSTRUMENT_HOST_NAME = "MARS EXPRESS"
INSTRUMENT_ID = HRSC
INSTRUMENT_NAME = "HIGH RESOLUTION STEREO CAMERA"
MISSION_NAME = "MARS EXPRESS"
MISSION_PHASE_NAME = ME_Phase_7
PROCESSING_LEVEL_ID = 3
PRODUCT_CREATION_TIME = 2016-04-20T19:30:25.000Z
PRODUCT_ID = "H4132_0000_GR3.JP2"
RELEASE_ID = 0047
REVISION_ID = 0000
/* QUALITY DATA ELEMENTS */
DATA_QUALITY_ID = 2
DATA_QUALITY_DESC = "Data calculated based on photogrammetrically improved orbit and attitude data"
/* TIME DATA ELEMENTS */
SPACECRAFT_CLOCK_START_COUNT = "1/0122921099.08410"
SPACECRAFT_CLOCK_STOP_COUNT = "1/0122921305.57063"
START_TIME = 2007-03-25T16:45:51.489Z
STOP_TIME = 2007-03-25T16:48:02.904Z
/* ORBITAL DATA ELEMENTS */
ASCENDING_NODE_LONGITUDE = 141.73
MAXIMUM_RESOLUTION = 109.8
FOOTPRINT_POINT_LATITUDE = (-31.6729,-31.6709,-31.668,-31.665, -31.6615,-31.6576,-31.567,-31.3881, -31.209,-31.0297,-30.8504,-30.6709, -30.4912,-30.3114,-30.1315,-29.9514, -29.7711,-29.5908,-29.4104,-29.2298, -28.9588,-28.7776,-28.5963,-28.3239, -28.052,-27.8706,-27.689,-27.5073, -27.3254,-27.1437,-26.9618,-26.6368, -26.3315,-26.1782,-26.0246,-25.8713, -25.6414,-25.488,-25.3346,-25.1811, -24.951,-24.7973,-24.5665,-24.4125, -24.2587,-24.1046,-23.9506,-23.7964, -23.6421,-23.4875,-23.2536,-23.2554, -23.2575,-23.2579,-23.2582,-23.2597, -23.4142,-23.5688,-23.7232,-23.9551, -24.1101,-24.2643,-24.4947,-24.6486, -24.8027,-25.0336,-25.1874,-25.3413, -25.495,-25.7253,-25.9556,-26.1091, -26.4158,-26.7215,-26.9709,-27.1533, -27.3356,-27.5177,-27.6995,-27.9725, -28.1548,-28.3364,-28.518,-28.6995, -28.8808,-29.0618,-29.2438,-29.4236, -29.6046,-29.7853,-29.9659,-30.1463, -30.4168,-30.5969,-30.7768,-30.9567, -31.1365,-31.3159,-31.5847,-31.6729)
FOOTPRINT_POINT_LONGITUDE = (178.376,178.132,177.857,177.611, 177.364,177.115,176.906,176.915,176.924 ,176.932,176.94,176.949,176.957,176.965 ,176.973,176.981,176.989,176.997, 177.004,177.012,177.022,177.03,177.039, 177.051,177.061,177.067,177.073,177.08, 177.086,177.091,177.097,177.108,177.116 ,177.122,177.129,177.134,177.141, 177.146,177.15,177.155,177.16,177.165, 177.172,177.177,177.18,177.185,177.189, 177.193,177.197,177.203,177.343,177.578 ,177.908,178.14,178.322,178.51,178.511, 178.511,178.512,178.514,178.515,178.516 ,178.517,178.517,178.518,178.52,178.521 ,178.521,178.522,178.524,178.525, 178.526,178.528,178.529,178.531,178.532 ,178.533,178.534,178.535,178.537, 178.538,178.539,178.541,178.542,178.543 ,178.544,178.545,178.546,178.547, 178.548,178.549,178.551,178.552,178.553 ,178.555,178.556,178.557,178.558, 178.559,178.376)
ORBIT_NUMBER = 4132
ORBITAL_ECCENTRICITY = 0.571
ORBITAL_INCLINATION = 86.68
ORBITAL_SEMIMAJOR_AXIS = 8617.74
PERIAPSIS_ALTITUDE = 304.74
PERIAPSIS_ARGUMENT_ANGLE = 350.27
PERIAPSIS_TIME = 2007-03-25T16:51:25.000Z
SPACECRAFT_ORIENTATION = (0.0,1.0,0.0)
^MEX_ORIENTATION_DESC = "MEX_ORIENTATION_DESC.TXT"
SPACECRAFT_POINTING_MODE = ACROSSTRACK
^MEX_POINTING_DESC = "MEX_POINTING_DESC.TXT"
RIGHT_ASCENSION = -1e+32
DECLINATION = -1e+32
OFFSET_ANGLE = 0.5
SPACECRAFT_SOLAR_DISTANCE = 2.11784e+08
TARGET_NAME = MARS
/* CAMERA DATA ELEMENTS */
DETECTOR_TEMPERATURE = 18.5744
FOCAL_PLANE_TEMPERATURE = 8.9911
INST_CMPRS_NAME = "DISCRETE COSINE TRANSFORMATION (DCT)"
INST_CMPRS_RATIO = 7.1445
INST_CMPRS_QUALITY = 0
INST_CMPRS_QUANTZ_TBL_ID = 0
INSTRUMENT_TEMPERATURE = 11.4379
LENS_TEMPERATURE = 9.3989
MACROPIXEL_SIZE = 8
MISSING_FRAMES = 0
PIXEL_SUBSAMPLING_FLAG = N
SIGNAL_CHAIN_ID = 2
/* RADIOMETRIC DATA ELEMENTS */
BANDWIDTH = 88.0
CENTER_FILTER_WAVELENGTH = 538.0
RADIANCE_OFFSET = 1.03743
RADIANCE_SCALING_FACTOR = 0.00389742
REFLECTANCE_SCALING_FACTOR = 0.000150506
MEX:REFLECTANCE_OFFSET = 0.0400624
/* IMAGE OBJECT DEFINITIONS */
OBJECT = IMAGE
  INTERCHANGE_FORMAT = BINARY
  LINES = 5013
  LINE_SAMPLES = 891
  SAMPLE_TYPE = UNSIGNED_INTEGER
  SAMPLE_BITS = 8
  BANDS = 1
  BAND_STORAGE_TYPE = BAND_SEQUENTIAL
  MAXIMUM = 255
  MEAN = 110.156
  MINIMUM = 1
  STANDARD_DEVIATION = 22.8843
END_OBJECT = IMAGE
/* MAP OBJECT DEFINITIONS */
OBJECT = IMAGE_MAP_PROJECTION
  ^DATA_SET_MAP_PROJECTION_CATALOG= "DSMAP.CAT"
  A_AXIS_RADIUS = 3396.0
  B_AXIS_RADIUS = 3396.0
  C_AXIS_RADIUS = 3396.0
  CENTER_LATITUDE = 0.0
  CENTER_LONGITUDE = 178.0
  COORDINATE_SYSTEM_NAME = PLANETOGRAPHIC
  COORDINATE_SYSTEM_TYPE = "BODY-FIXED ROTATING"
  EASTERNMOST_LONGITUDE = 178.559
  FIRST_STANDARD_PARALLEL = "N/A"
  LINE_FIRST_PIXEL = 1
  LINE_LAST_PIXEL = 5013
  LINE_PROJECTION_OFFSET = -13773.8125
  MAP_PROJECTION_ROTATION = 0.0
  MAP_PROJECTION_TYPE = SINUSOIDAL
  MAP_RESOLUTION = 592.713803866667
  MAP_SCALE = 0.1
  MAXIMUM_LATITUDE = -23.2536
  MINIMUM_LATITUDE = -31.6729
  POSITIVE_LONGITUDE_DIRECTION = EAST
  REFERENCE_LATITUDE = "N/A"
  REFERENCE_LONGITUDE = "N/A"
  SAMPLE_FIRST_PIXEL = 1
  SAMPLE_LAST_PIXEL = 891
  SAMPLE_PROJECTION_OFFSET = 597.1875
  SECOND_STANDARD_PARALLEL = "N/A"
  WESTERNMOST_LONGITUDE = 176.906
END_OBJECT = IMAGE_MAP_PROJECTION
/* The JPEG2000 image data file associated with this label. */
OBJECT = COMPRESSED_FILE
  FILE_NAME = "H4132_0000_GR3.JP2"
  RECORD_TYPE = UNDEFINED
  FILE_RECORDS = UNK
  ENCODING_TYPE = "JP2"
  INTERCHANGE_FORMAT = BINARY
  UNCOMPRESSED_FILE_NAME = "H4132_0000_GR3.IMG"
  REQUIRED_STORAGE_BYTES = "4485294"
  ^DESCRIPTION = "JP2INFO.TXT"
END_OBJECT = COMPRESSED_FILE
END
