PDS_VERSION_ID = PDS3
/* FILE DATA ELEMENTS */
RECORD_TYPE = STREAM
/* POINTERS TO DATA OBJECTS */
^COMPRESSED_FILE = "H4135_0000_BL3.JP2"
/* IDENTIFICATION DATA ELEMENTS */
DATA_SET_ID = "MEX-M-HRSC-5-REFDR-MAPPROJECTED-V3.0"
DATA_SET_NAME = "MARS EXPRESS HRSC MAP PROJECTED REFDR V3.0"
DETECTOR_ID = MEX_HRSC_BLUE
EVENT_TYPE = "MARS-REGIONAL-MAPPING-Vo"
INSTRUMENT_HOST_ID = MEX
INSTRUMENT_HOST_NAME = "MARS EXPRESS"
INSTRUMENT_ID = HRSC
INSTRUMENT_NAME = "HIGH RESOLUTION STEREO CAMERA"
MISSION_NAME = "MARS EXPRESS"
MISSION_PHASE_NAME = ME_Phase_7
PROCESSING_LEVEL_ID = 3
PRODUCT_CREATION_TIME = 2016-04-20T19:30:25.000Z
PRODUCT_ID = "H4135_0000_BL3.JP2"
RELEASE_ID = 0047
REVISION_ID = 0000
/* QUALITY DATA ELEMENTS */
DATA_QUALITY_ID = 2
DATA_QUALITY_DESC = "Data calculated based on photogrammetrically improved orbit and attitude data"
/* TIME DATA ELEMENTS */
SPACECRAFT_CLOCK_START_COUNT = "1/0122993505.07288"
SPACECRAFT_CLOCK_STOP_COUNT = "1/0122993915.47158"
START_TIME = 2007-03-26T12:52:36.993Z
STOP_TIME = 2007-03-26T12:58:04.318Z
/* ORBITAL DATA ELEMENTS */
ASCENDING_NODE_LONGITUDE = 141.67
MAXIMUM_RESOLUTION = 103.5
FOOTPRINT_POINT_LATITUDE = (-40.8576,-40.8527,-40.8468,-40.8397, -40.8315,-40.8222,-40.8096,-40.5633, -40.3344,-40.1052,-39.8771,-39.6521, -39.4263,-39.2018,-38.9809,-38.7599, -38.5372,-38.3194,-38.1007,-37.8823, -37.5584,-37.3437,-37.1289,-36.9164, -36.7067,-36.3908,-36.1795,-35.9727, -25.3469,-25.1852,-25.0234,-24.8615, -24.6995,-24.5374,-24.3753,-24.213, -24.0506,-23.888,-23.6441,-23.4814, -23.3185,-22.9653,-22.7206,-22.5573, -22.3939,-22.2305,-22.0696,-21.7529, -21.4358,-21.1977,-20.8801,-20.5802, -20.5822,-20.5838,-20.5853,-20.5863, -20.828,-21.1461,-21.4638,-21.7812, -22.0982,-22.3416,-22.5052,-22.6687, -22.8321,-22.9954,-23.349,-23.5119, -23.6748,-23.8376,-24.0004,-24.1629, -24.3255,-24.4879,-24.6503,-24.8126, -24.9747,-25.1368,-25.2987,-35.9275, -36.2386,-36.5565,-36.7682,-36.9794, -37.3015,-37.5167,-37.7315,-38.0589, -38.2781,-38.4969,-38.83,-39.053, -39.2758,-39.502,-39.7281,-39.9548, -40.1837,-40.4126,-40.6423,-40.8576)
FOOTPRINT_POINT_LONGITUDE = (244.23,243.884,243.537,243.189,242.842 ,242.494,242.079,241.919,241.938, 241.957,241.976,241.995,242.012,242.031 ,242.049,242.069,242.084,242.101, 242.115,242.131,242.153,242.168,242.182 ,242.198,242.214,242.236,242.249, 242.261,242.725,242.729,242.734,242.738 ,242.743,242.747,242.752,242.756,242.76 ,242.764,242.77,242.774,242.778,242.786 ,242.792,242.796,242.799,242.803, 242.806,242.813,242.82,242.824,242.831, 242.97,243.172,243.351,243.552,243.73, 244.028,244.03,244.033,244.035,244.038, 244.04,244.041,244.042,244.043,244.045, 244.048,244.049,244.051,244.052,244.053 ,244.055,244.056,244.058,244.059,244.06 ,244.062,244.063,244.065,244.177, 244.181,244.184,244.187,244.189,244.193 ,244.196,244.199,244.203,244.206, 244.209,244.213,244.215,244.218,244.22, 244.224,244.226,244.23,244.235,244.239, 244.23)
ORBIT_NUMBER = 4135
ORBITAL_ECCENTRICITY = 0.572
ORBITAL_INCLINATION = 86.67
ORBITAL_SEMIMAJOR_AXIS = 8634.75
PERIAPSIS_ALTITUDE = 303.77
PERIAPSIS_ARGUMENT_ANGLE = 349.71
PERIAPSIS_TIME = 2007-03-26T13:00:47.000Z
SPACECRAFT_ORIENTATION = (0.0,1.0,0.0)
^MEX_ORIENTATION_DESC = "MEX_ORIENTATION_DESC.TXT"
SPACECRAFT_POINTING_MODE = ACROSSTRACK
^MEX_POINTING_DESC = "MEX_POINTING_DESC.TXT"
RIGHT_ASCENSION = -1e+32
DECLINATION = -1e+32
OFFSET_ANGLE = 0.2
SPACECRAFT_SOLAR_DISTANCE = 2.1167e+08
TARGET_NAME = MARS
/* CAMERA DATA ELEMENTS */
DETECTOR_TEMPERATURE = 18.7783
FOCAL_PLANE_TEMPERATURE = 9.3989
INST_CMPRS_NAME = "DISCRETE COSINE TRANSFORMATION (DCT)"
INST_CMPRS_RATIO = 9.83549
INST_CMPRS_QUALITY = 0
INST_CMPRS_QUANTZ_TBL_ID = 0
INSTRUMENT_TEMPERATURE = 11.8457
LENS_TEMPERATURE = 9.8067
MACROPIXEL_SIZE = 8
MISSING_FRAMES = 692
PIXEL_SUBSAMPLING_FLAG = N
SIGNAL_CHAIN_ID = 2
/* RADIOMETRIC DATA ELEMENTS */
BANDWIDTH = 76.0
CENTER_FILTER_WAVELENGTH = 444.0
RADIANCE_OFFSET = 0.324849
RADIANCE_SCALING_FACTOR = 0.00232628
REFLECTANCE_SCALING_FACTOR = 0.000107088
MEX:REFLECTANCE_OFFSET = 0.014954
/* IMAGE OBJECT DEFINITIONS */
OBJECT = IMAGE
  INTERCHANGE_FORMAT = BINARY
  LINES = 12027
  LINE_SAMPLES = 1102
  SAMPLE_TYPE = UNSIGNED_INTEGER
  SAMPLE_BITS = 8
  BANDS = 1
  BAND_STORAGE_TYPE = BAND_SEQUENTIAL
  MAXIMUM = 255
  MEAN = 114.089
  MINIMUM = 1
  STANDARD_DEVIATION = 14.4705
END_OBJECT = IMAGE
/* MAP OBJECT DEFINITIONS */
OBJECT = IMAGE_MAP_PROJECTION
  ^DATA_SET_MAP_PROJECTION_CATALOG= "DSMAP.CAT"
  A_AXIS_RADIUS = 3396.0
  B_AXIS_RADIUS = 3396.0
  C_AXIS_RADIUS = 3396.0
  CENTER_LATITUDE = 0.0
  CENTER_LONGITUDE = 243.0
  COORDINATE_SYSTEM_NAME = PLANETOGRAPHIC
  COORDINATE_SYSTEM_TYPE = "BODY-FIXED ROTATING"
  EASTERNMOST_LONGITUDE = 244.239
  FIRST_STANDARD_PARALLEL = "N/A"
  LINE_FIRST_PIXEL = 1
  LINE_LAST_PIXEL = 12027
  LINE_PROJECTION_OFFSET = -12195.3125
  MAP_PROJECTION_ROTATION = 0.0
  MAP_PROJECTION_TYPE = SINUSOIDAL
  MAP_RESOLUTION = 592.713803866667
  MAP_SCALE = 0.1
  MAXIMUM_LATITUDE = -20.5802
  MINIMUM_LATITUDE = -40.8576
  POSITIVE_LONGITUDE_DIRECTION = EAST
  REFERENCE_LATITUDE = "N/A"
  REFERENCE_LONGITUDE = "N/A"
  SAMPLE_FIRST_PIXEL = 1
  SAMPLE_LAST_PIXEL = 1102
  SAMPLE_PROJECTION_OFFSET = 513.4375
  SECOND_STANDARD_PARALLEL = "N/A"
  WESTERNMOST_LONGITUDE = 241.919
END_OBJECT = IMAGE_MAP_PROJECTION
/* The JPEG2000 image data file associated with this label. */
OBJECT = COMPRESSED_FILE
  FILE_NAME = "H4135_0000_BL3.JP2"
  RECORD_TYPE = UNDEFINED
  FILE_RECORDS = UNK
  ENCODING_TYPE = "JP2"
  INTERCHANGE_FORMAT = BINARY
  UNCOMPRESSED_FILE_NAME = "H4135_0000_BL3.IMG"
  REQUIRED_STORAGE_BYTES = "13272488"
  ^DESCRIPTION = "JP2INFO.TXT"
END_OBJECT = COMPRESSED_FILE
END
