PDS_VERSION_ID = PDS3
/* FILE DATA ELEMENTS */
RECORD_TYPE = STREAM
/* POINTERS TO DATA OBJECTS */
^COMPRESSED_FILE = "H4135_0000_P23.JP2"
/* IDENTIFICATION DATA ELEMENTS */
DATA_SET_ID = "MEX-M-HRSC-5-REFDR-MAPPROJECTED-V3.0"
DATA_SET_NAME = "MARS EXPRESS HRSC MAP PROJECTED REFDR V3.0"
DETECTOR_ID = MEX_HRSC_P2
EVENT_TYPE = "MARS-REGIONAL-MAPPING-Vo"
INSTRUMENT_HOST_ID = MEX
INSTRUMENT_HOST_NAME = "MARS EXPRESS"
INSTRUMENT_ID = HRSC
INSTRUMENT_NAME = "HIGH RESOLUTION STEREO CAMERA"
MISSION_NAME = "MARS EXPRESS"
MISSION_PHASE_NAME = ME_Phase_7
PROCESSING_LEVEL_ID = 3
PRODUCT_CREATION_TIME = 2016-04-20T19:30:25.000Z
PRODUCT_ID = "H4135_0000_P23.JP2"
RELEASE_ID = 0047
REVISION_ID = 0000
/* QUALITY DATA ELEMENTS */
DATA_QUALITY_ID = 2
DATA_QUALITY_DESC = "Data calculated based on photogrammetrically improved orbit and attitude data"
/* TIME DATA ELEMENTS */
SPACECRAFT_CLOCK_START_COUNT = "1/0122993505.07288"
SPACECRAFT_CLOCK_STOP_COUNT = "1/0122993915.47158"
START_TIME = 2007-03-26T12:52:09.830Z
STOP_TIME = 2007-03-26T12:57:49.652Z
/* ORBITAL DATA ELEMENTS */
ASCENDING_NODE_LONGITUDE = 141.67
MAXIMUM_RESOLUTION = 27
FOOTPRINT_POINT_LATITUDE = (-40.9181,-40.911,-40.8978,-40.8865, -40.8736,-40.859,-40.59,-40.352, -40.1166,-39.8805,-39.6491,-39.416, -39.1842,-38.957,-38.7322,-38.5015, -38.2763,-38.0498,-37.7133,-37.3775, -37.1549,-36.9371,-36.6135,-36.3976, -36.1812,-35.9656,-35.6393,-35.3198, -35.1063,-34.8939,-34.6861,-34.4774, -24.2298,-23.8991,-23.5681,-23.4022, -23.2362,-22.9871,-22.821,-22.6545, -22.4878,-22.2379,-22.0143,-21.8474, -21.6801,-21.5129,-21.3453,-21.1786, -20.854,-20.5935,-20.5983,-20.6022, -20.6048,-20.6067,-20.7721,-21.0162, -21.3449,-21.5127,-21.6801,-21.8476, -22.0147,-22.2383,-22.4053,-22.6557, -22.8223,-23.0722,-23.2384,-23.4045, -23.5702,-23.7361,-23.9019,-24.2328, -34.4977,-34.7066,-34.9153,-35.128, -35.4472,-35.6595,-35.9834,-36.1992, -36.4154,-36.745,-36.9649,-37.184, -37.4067,-37.6293,-37.8515,-38.0776, -38.3045,-38.531,-38.8769,-39.1078, -39.3402,-39.6893,-39.924,-40.1604, -40.3912,-40.6296,-40.8697,-40.9181)
FOOTPRINT_POINT_LONGITUDE = (244.026,243.646,243.099,242.717, 242.335,241.952,241.831,241.852,241.873 ,241.894,241.915,241.934,241.954, 241.974,241.995,242.012,242.03,242.047, 242.073,242.096,242.112,242.128,242.155 ,242.171,242.185,242.2,242.219,242.238, 242.251,242.264,242.277,242.289,242.723 ,242.732,242.741,242.745,242.749, 242.756,242.76,242.764,242.768,242.774, 242.779,242.783,242.787,242.79,242.794, 242.797,242.804,242.905,243.167,243.405 ,243.618,243.796,244.037,244.039, 244.042,244.043,244.045,244.046,244.048 ,244.05,244.052,244.054,244.055,244.058 ,244.059,244.061,244.063,244.064, 244.066,244.069,244.193,244.196,244.199 ,244.203,244.207,244.211,244.215, 244.219,244.222,244.227,244.23,244.234, 244.238,244.242,244.246,244.249,244.253 ,244.257,244.262,244.265,244.269, 244.275,244.279,244.283,244.29,244.295, 244.299,244.026)
ORBIT_NUMBER = 4135
ORBITAL_ECCENTRICITY = 0.572
ORBITAL_INCLINATION = 86.67
ORBITAL_SEMIMAJOR_AXIS = 8634.75
PERIAPSIS_ALTITUDE = 303.77
PERIAPSIS_ARGUMENT_ANGLE = 349.71
PERIAPSIS_TIME = 2007-03-26T13:00:47.000Z
SPACECRAFT_ORIENTATION = (0.0,1.0,0.0)
^MEX_ORIENTATION_DESC = "MEX_ORIENTATION_DESC.TXT"
SPACECRAFT_POINTING_MODE = ACROSSTRACK
^MEX_POINTING_DESC = "MEX_POINTING_DESC.TXT"
RIGHT_ASCENSION = -1e+32
DECLINATION = -1e+32
OFFSET_ANGLE = 0.2
SPACECRAFT_SOLAR_DISTANCE = 2.1167e+08
TARGET_NAME = MARS
/* CAMERA DATA ELEMENTS */
DETECTOR_TEMPERATURE = 19.39
FOCAL_PLANE_TEMPERATURE = 9.3989
INST_CMPRS_NAME = "DISCRETE COSINE TRANSFORMATION (DCT)"
INST_CMPRS_RATIO = 5.6766
INST_CMPRS_QUALITY = 0
INST_CMPRS_QUANTZ_TBL_ID = 0
INSTRUMENT_TEMPERATURE = 11.8457
LENS_TEMPERATURE = 9.8067
MACROPIXEL_SIZE = 2
MISSING_FRAMES = 2714
PIXEL_SUBSAMPLING_FLAG = N
SIGNAL_CHAIN_ID = 3
/* RADIOMETRIC DATA ELEMENTS */
BANDWIDTH = 177.0
CENTER_FILTER_WAVELENGTH = 676.5
RADIANCE_OFFSET = 1.77241
RADIANCE_SCALING_FACTOR = 0.0215139
REFLECTANCE_SCALING_FACTOR = 0.00051109
MEX:REFLECTANCE_OFFSET = 0.0421059
/* IMAGE OBJECT DEFINITIONS */
OBJECT = IMAGE
  INTERCHANGE_FORMAT = BINARY
  LINES = 48105
  LINE_SAMPLES = 4405
  SAMPLE_TYPE = UNSIGNED_INTEGER
  SAMPLE_BITS = 8
  BANDS = 1
  BAND_STORAGE_TYPE = BAND_SEQUENTIAL
  MAXIMUM = 255
  MEAN = 101.533
  MINIMUM = 1
  STANDARD_DEVIATION = 19.6007
END_OBJECT = IMAGE
/* MAP OBJECT DEFINITIONS */
OBJECT = IMAGE_MAP_PROJECTION
  ^DATA_SET_MAP_PROJECTION_CATALOG= "DSMAP.CAT"
  A_AXIS_RADIUS = 3396.0
  B_AXIS_RADIUS = 3396.0
  C_AXIS_RADIUS = 3396.0
  CENTER_LATITUDE = 0.0
  CENTER_LONGITUDE = 243.0
  COORDINATE_SYSTEM_NAME = PLANETOGRAPHIC
  COORDINATE_SYSTEM_TYPE = "BODY-FIXED ROTATING"
  EASTERNMOST_LONGITUDE = 244.299
  FIRST_STANDARD_PARALLEL = "N/A"
  LINE_FIRST_PIXEL = 1
  LINE_LAST_PIXEL = 48105
  LINE_PROJECTION_OFFSET = -48779.75
  MAP_PROJECTION_ROTATION = 0.0
  MAP_PROJECTION_TYPE = SINUSOIDAL
  MAP_RESOLUTION = 2370.85521546667
  MAP_SCALE = 0.025
  MAXIMUM_LATITUDE = -20.5935
  MINIMUM_LATITUDE = -40.9181
  POSITIVE_LONGITUDE_DIRECTION = EAST
  REFERENCE_LATITUDE = "N/A"
  REFERENCE_LONGITUDE = "N/A"
  SAMPLE_FIRST_PIXEL = 1
  SAMPLE_LAST_PIXEL = 4405
  SAMPLE_PROJECTION_OFFSET = 2055.25
  SECOND_STANDARD_PARALLEL = "N/A"
  WESTERNMOST_LONGITUDE = 241.831
END_OBJECT = IMAGE_MAP_PROJECTION
/* The JPEG2000 image data file associated with this label. */
OBJECT = COMPRESSED_FILE
  FILE_NAME = "H4135_0000_P23.JP2"
  RECORD_TYPE = UNDEFINED
  FILE_RECORDS = UNK
  ENCODING_TYPE = "JP2"
  INTERCHANGE_FORMAT = BINARY
  UNCOMPRESSED_FILE_NAME = "H4135_0000_P23.IMG"
  REQUIRED_STORAGE_BYTES = "211928955"
  ^DESCRIPTION = "JP2INFO.TXT"
END_OBJECT = COMPRESSED_FILE
END
