PDS_VERSION_ID = PDS3
/* FILE DATA ELEMENTS */
RECORD_TYPE = STREAM
/* POINTERS TO DATA OBJECTS */
^COMPRESSED_FILE = "H4136_0000_P13.JP2"
/* IDENTIFICATION DATA ELEMENTS */
DATA_SET_ID = "MEX-M-HRSC-5-REFDR-MAPPROJECTED-V3.0"
DATA_SET_NAME = "MARS EXPRESS HRSC MAP PROJECTED REFDR V3.0"
DETECTOR_ID = MEX_HRSC_P1
EVENT_TYPE = "MARS-REGIONAL-MAPPING-Te-Fl-Mw"
INSTRUMENT_HOST_ID = MEX
INSTRUMENT_HOST_NAME = "MARS EXPRESS"
INSTRUMENT_ID = HRSC
INSTRUMENT_NAME = "HIGH RESOLUTION STEREO CAMERA"
MISSION_NAME = "MARS EXPRESS"
MISSION_PHASE_NAME = ME_Phase_7
PROCESSING_LEVEL_ID = 3
PRODUCT_CREATION_TIME = 2016-04-20T19:30:25.000Z
PRODUCT_ID = "H4136_0000_P13.JP2"
RELEASE_ID = 0047
REVISION_ID = 0000
/* QUALITY DATA ELEMENTS */
DATA_QUALITY_ID = 1
DATA_QUALITY_DESC = "Data calculated based on original SPICE kernels"
/* TIME DATA ELEMENTS */
SPACECRAFT_CLOCK_START_COUNT = "1/0123018229.07291"
SPACECRAFT_CLOCK_STOP_COUNT = "1/0123018467.39800"
START_TIME = 2007-03-26T19:44:38.070Z
STOP_TIME = 2007-03-26T19:47:38.651Z
/* ORBITAL DATA ELEMENTS */
ASCENDING_NODE_LONGITUDE = 141.65
MAXIMUM_RESOLUTION = 25.3
FOOTPRINT_POINT_LATITUDE = (-8.98433,-8.98529,-8.99498,-8.77577, -8.44555,-8.22566,-7.88914,-7.66166, -7.43504,-7.20738,-6.98078,-6.75403, -6.5278,-6.29951,-5.96043,-5.62125, -5.391,-5.16573,-4.93864,-4.71389, -4.48899,-4.26457,-4.04511,-3.8193, -3.59459,-3.36336,-3.13069,-2.89912, -2.66656,-2.43529,-2.08821,-1.74142, -1.51099,-1.2669,-1.08472,-0.853722, -0.616685,-0.378348,-0.139916,0.0976447 ,0.334719,0.689,0.925231,1.16103, 1.40149,1.64498,1.88814,2.13104,2.37404 ,2.61697,2.6431,2.64449,2.64567,2.64608 ,2.40351,2.16057,1.91726,1.67367, 1.42973,1.18805,0.952368,0.716088, 0.361692,0.00578448,-0.231688,-0.588804 ,-0.827048,-1.05681,-1.36647,-1.598, -1.82872,-2.0613,-2.2916,-2.52335, -2.75652,-2.99072,-3.22293,-3.45468, -3.68018,-3.90434,-4.24049,-4.46913, -4.69407,-4.92063,-5.14686,-5.37202, -5.70586,-5.9314,-6.27618,-6.61356, -6.84035,-7.06745,-7.29456,-7.63579, -7.86321,-8.08901,-8.30991,-8.64094, -8.86048,-8.98433)
FOOTPRINT_POINT_LONGITUDE = (145.572,145.133,144.811,144.811,144.81 ,144.809,144.809,144.808,144.807, 144.806,144.805,144.803,144.802,144.801 ,144.799,144.797,144.797,144.795, 144.794,144.792,144.79,144.788,144.784, 144.782,144.78,144.779,144.777,144.774, 144.772,144.77,144.766,144.762,144.759, 144.757,144.755,144.752,144.749,144.746 ,144.744,144.741,144.737,144.732, 144.729,144.725,144.721,144.718,144.714 ,144.71,144.706,144.703,144.987,145.283 ,145.615,145.927,145.925,145.924, 145.922,145.921,145.92,145.918,145.917, 145.915,145.913,145.911,145.91,145.909, 145.908,145.907,145.906,145.905,145.904 ,145.904,145.903,145.902,145.902, 145.903,145.902,145.901,145.901,145.9, 145.899,145.9,145.899,145.9,145.9, 145.899,145.896,145.896,145.898,145.897 ,145.897,145.897,145.897,145.898, 145.898,145.898,145.899,145.9,145.9, 145.572)
ORBIT_NUMBER = 4136
ORBITAL_ECCENTRICITY = 0.571
ORBITAL_INCLINATION = 86.67
ORBITAL_SEMIMAJOR_AXIS = 8621.27
PERIAPSIS_ALTITUDE = 304.46
PERIAPSIS_ARGUMENT_ANGLE = 349.58
PERIAPSIS_TIME = 2007-03-26T19:43:59.000Z
SPACECRAFT_ORIENTATION = (0.0,1.0,0.0)
^MEX_ORIENTATION_DESC = "MEX_ORIENTATION_DESC.TXT"
SPACECRAFT_POINTING_MODE = ACROSSTRACK
^MEX_POINTING_DESC = "MEX_POINTING_DESC.TXT"
RIGHT_ASCENSION = -1e+32
DECLINATION = -1e+32
OFFSET_ANGLE = 0.0
SPACECRAFT_SOLAR_DISTANCE = 2.11632e+08
TARGET_NAME = MARS
/* CAMERA DATA ELEMENTS */
DETECTOR_TEMPERATURE = 17.5549
FOCAL_PLANE_TEMPERATURE = 9.3989
INST_CMPRS_NAME = "DISCRETE COSINE TRANSFORMATION (DCT)"
INST_CMPRS_RATIO = 5.4414
INST_CMPRS_QUALITY = 0
INST_CMPRS_QUANTZ_TBL_ID = 0
INSTRUMENT_TEMPERATURE = 11.4379
LENS_TEMPERATURE = 9.8067
MACROPIXEL_SIZE = 2
MISSING_FRAMES = 25
PIXEL_SUBSAMPLING_FLAG = N
SIGNAL_CHAIN_ID = 3
/* RADIOMETRIC DATA ELEMENTS */
BANDWIDTH = 174.0
CENTER_FILTER_WAVELENGTH = 675.0
RADIANCE_OFFSET = 3.29783
RADIANCE_SCALING_FACTOR = 0.0114707
REFLECTANCE_SCALING_FACTOR = 0.000276337
MEX:REFLECTANCE_OFFSET = 0.0794469
/* IMAGE OBJECT DEFINITIONS */
OBJECT = IMAGE
  INTERCHANGE_FORMAT = BINARY
  LINES = 27636
  LINE_SAMPLES = 2990
  SAMPLE_TYPE = UNSIGNED_INTEGER
  SAMPLE_BITS = 8
  BANDS = 1
  BAND_STORAGE_TYPE = BAND_SEQUENTIAL
  MAXIMUM = 255
  MEAN = 92.1235
  MINIMUM = 1
  STANDARD_DEVIATION = 29.6709
END_OBJECT = IMAGE
/* MAP OBJECT DEFINITIONS */
OBJECT = IMAGE_MAP_PROJECTION
  ^DATA_SET_MAP_PROJECTION_CATALOG= "DSMAP.CAT"
  A_AXIS_RADIUS = 3396.0
  B_AXIS_RADIUS = 3396.0
  C_AXIS_RADIUS = 3396.0
  CENTER_LATITUDE = 0.0
  CENTER_LONGITUDE = 145.0
  COORDINATE_SYSTEM_NAME = PLANETOGRAPHIC
  COORDINATE_SYSTEM_TYPE = "BODY-FIXED ROTATING"
  EASTERNMOST_LONGITUDE = 145.927
  FIRST_STANDARD_PARALLEL = "N/A"
  LINE_FIRST_PIXEL = 1
  LINE_LAST_PIXEL = 27636
  LINE_PROJECTION_OFFSET = 6309.75
  MAP_PROJECTION_ROTATION = 0.0
  MAP_PROJECTION_TYPE = SINUSOIDAL
  MAP_RESOLUTION = 2370.85521546667
  MAP_SCALE = 0.025
  MAXIMUM_LATITUDE = 2.64608
  MINIMUM_LATITUDE = -8.99498
  POSITIVE_LONGITUDE_DIRECTION = EAST
  REFERENCE_LATITUDE = "N/A"
  REFERENCE_LONGITUDE = "N/A"
  SAMPLE_FIRST_PIXEL = 1
  SAMPLE_LAST_PIXEL = 2990
  SAMPLE_PROJECTION_OFFSET = 749.25
  SECOND_STANDARD_PARALLEL = "N/A"
  WESTERNMOST_LONGITUDE = 144.703
END_OBJECT = IMAGE_MAP_PROJECTION
/* The JPEG2000 image data file associated with this label. */
OBJECT = COMPRESSED_FILE
  FILE_NAME = "H4136_0000_P13.JP2"
  RECORD_TYPE = UNDEFINED
  FILE_RECORDS = UNK
  ENCODING_TYPE = "JP2"
  INTERCHANGE_FORMAT = BINARY
  UNCOMPRESSED_FILE_NAME = "H4136_0000_P13.IMG"
  REQUIRED_STORAGE_BYTES = "82655560"
  ^DESCRIPTION = "JP2INFO.TXT"
END_OBJECT = COMPRESSED_FILE
END
