PDS_VERSION_ID = PDS3
/* FILE DATA ELEMENTS */
RECORD_TYPE = STREAM
/* POINTERS TO DATA OBJECTS */
^COMPRESSED_FILE = "H4144_0000_IR3.JP2"
/* IDENTIFICATION DATA ELEMENTS */
DATA_SET_ID = "MEX-M-HRSC-5-REFDR-MAPPROJECTED-V3.0"
DATA_SET_NAME = "MARS EXPRESS HRSC MAP PROJECTED REFDR V3.0"
DETECTOR_ID = MEX_HRSC_IR
EVENT_TYPE = "MARS-REGIONAL-VARIABLE-Gl-At"
INSTRUMENT_HOST_ID = MEX
INSTRUMENT_HOST_NAME = "MARS EXPRESS"
INSTRUMENT_ID = HRSC
INSTRUMENT_NAME = "HIGH RESOLUTION STEREO CAMERA"
MISSION_NAME = "MARS EXPRESS"
MISSION_PHASE_NAME = ME_Phase_7
PROCESSING_LEVEL_ID = 3
PRODUCT_CREATION_TIME = 2016-04-20T19:30:25.000Z
PRODUCT_ID = "H4144_0000_IR3.JP2"
RELEASE_ID = 0047
REVISION_ID = 0000
/* QUALITY DATA ELEMENTS */
DATA_QUALITY_ID = 1
DATA_QUALITY_DESC = "Data calculated based on original SPICE kernels"
/* TIME DATA ELEMENTS */
SPACECRAFT_CLOCK_START_COUNT = "1/0123209833.07296"
SPACECRAFT_CLOCK_STOP_COUNT = "1/0123210724.37849"
START_TIME = 2007-03-29T01:08:38.654Z
STOP_TIME = 2007-03-29T01:11:44.300Z
/* ORBITAL DATA ELEMENTS */
ASCENDING_NODE_LONGITUDE = 141.48
MAXIMUM_RESOLUTION = 192
FOOTPRINT_POINT_LATITUDE = (-86.0447,-85.9836,-85.9156,-85.7602, -85.6047,-85.407,-85.3009,-85.1905, -85.076,-84.9276,-84.805,-84.6791, -84.5501,-84.4184,-84.2839,-84.1469, -84.0075,-83.8657,-83.7218,-83.5759, -83.4281,-83.2784,-82.9791,-82.8526, -82.6259,-82.4803,-82.2765,-82.1157, -81.7765,-81.5387,-81.2935,-81.0399, -80.7777,-80.4399,-80.1622,-79.878, -79.5886,-79.367,-79.2139,-78.9149, -78.6089,-78.4519,-78.1406,-77.8209, -77.6585,-77.4973,-77.3349,-77.1714, -76.9249,-76.6764,-76.5098,-76.3532, -76.4426,-76.5279,-76.6205,-76.6862, -76.7785,-76.8538,-76.8977,-76.9732, -77.0122,-77.0691,-77.1014,-77.1428, -77.1695,-77.2068,-77.3308,-77.5174, -77.7983,-77.986,-78.174,-78.3597, -78.5441,-78.7293,-79.0066,-79.1908, -79.3748,-79.5584,-79.7416,-79.9246, -80.1072,-80.4686,-80.65,-80.8316, -81.1918,-81.6417,-81.9096,-82.354, -82.7083,-82.9731,-83.2389,-83.5888, -84.0268,-84.3744,-84.8941,-85.1531, -85.5806,-85.9192,-86.1727,-86.0447)
FOOTPRINT_POINT_LONGITUDE = (66.2209,63.751,61.36,56.8265,53.1378, 49.2391,47.4137,45.6682,44.0004,42.0207 ,40.5176,39.0827,37.712,36.4027,35.1522 ,33.9574,32.8144,31.7201,30.6723, 29.6686,28.7068,27.7849,26.759,28.5642, 31.4253,33.0711,35.1583,36.6703,39.5222 ,41.293,42.9491,44.5214,46.0188,47.7768 ,49.0983,50.3508,51.5308,52.3819, 52.9563,53.9836,54.9729,55.4618,56.3671 ,57.2495,57.6788,58.0864,58.4851, 58.8746,59.4386,59.9826,60.3335,61.3482 ,62.4104,63.4826,64.7194,65.655,67.0729 ,68.3479,69.1513,70.4365,71.2528, 72.5679,73.3948,74.558,75.3929,76.7356, 77.9486,77.9004,77.8268,77.7765,77.725, 77.6697,77.6115,77.5523,77.4597,77.3948 ,77.3277,77.2581,77.1857,77.1106, 77.0325,76.8636,76.7755,76.6845,76.488, 76.2198,76.0427,75.7189,75.4312,75.196, 74.9446,74.5722,74.0484,73.5688,72.7285 ,72.2416,71.3012,70.4066,69.6332, 66.2209)
ORBIT_NUMBER = 4144
ORBITAL_ECCENTRICITY = 0.571
ORBITAL_INCLINATION = 86.69
ORBITAL_SEMIMAJOR_AXIS = 8625.33
PERIAPSIS_ALTITUDE = 302.75
PERIAPSIS_ARGUMENT_ANGLE = 348.12
PERIAPSIS_TIME = 2007-03-29T01:29:10.000Z
SPACECRAFT_ORIENTATION = (0.0,1.0,0.0)
^MEX_ORIENTATION_DESC = "MEX_ORIENTATION_DESC.TXT"
SPACECRAFT_POINTING_MODE = ACROSSTRACK
^MEX_POINTING_DESC = "MEX_POINTING_DESC.TXT"
RIGHT_ASCENSION = -1e+32
DECLINATION = -1e+32
OFFSET_ANGLE = 0.3
SPACECRAFT_SOLAR_DISTANCE = 2.11335e+08
TARGET_NAME = MARS
/* CAMERA DATA ELEMENTS */
DETECTOR_TEMPERATURE = 17.7588
FOCAL_PLANE_TEMPERATURE = 8.7872
INST_CMPRS_NAME = "DISCRETE COSINE TRANSFORMATION (DCT)"
INST_CMPRS_RATIO = 7.89528
INST_CMPRS_QUALITY = 0
INST_CMPRS_QUANTZ_TBL_ID = 0
INSTRUMENT_TEMPERATURE = 12.0496
LENS_TEMPERATURE = 8.9911
MACROPIXEL_SIZE = 4
MISSING_FRAMES = 0
PIXEL_SUBSAMPLING_FLAG = N
SIGNAL_CHAIN_ID = 2
/* RADIOMETRIC DATA ELEMENTS */
BANDWIDTH = 81.0
CENTER_FILTER_WAVELENGTH = 955.5
RADIANCE_OFFSET = 0.638439
RADIANCE_SCALING_FACTOR = 0.00680105
REFLECTANCE_SCALING_FACTOR = 0.000655326
MEX:REFLECTANCE_OFFSET = 0.0615178
/* IMAGE OBJECT DEFINITIONS */
OBJECT = IMAGE
  INTERCHANGE_FORMAT = BINARY
  LINES = 3033
  LINE_SAMPLES = 2584
  SAMPLE_TYPE = UNSIGNED_INTEGER
  SAMPLE_BITS = 8
  BANDS = 1
  BAND_STORAGE_TYPE = BAND_SEQUENTIAL
  MAXIMUM = 255
  MEAN = 85.8477
  MINIMUM = 1
  STANDARD_DEVIATION = 48.776
END_OBJECT = IMAGE
/* MAP OBJECT DEFINITIONS */
OBJECT = IMAGE_MAP_PROJECTION
  ^DATA_SET_MAP_PROJECTION_CATALOG= "DSMAP.CAT"
  A_AXIS_RADIUS = 3396.0
  B_AXIS_RADIUS = 3396.0
  C_AXIS_RADIUS = 3396.0
  CENTER_LATITUDE = 0.0
  CENTER_LONGITUDE = 61.0
  COORDINATE_SYSTEM_NAME = PLANETOGRAPHIC
  COORDINATE_SYSTEM_TYPE = "BODY-FIXED ROTATING"
  EASTERNMOST_LONGITUDE = 77.9486
  FIRST_STANDARD_PARALLEL = "N/A"
  LINE_FIRST_PIXEL = 1
  LINE_LAST_PIXEL = 3033
  LINE_PROJECTION_OFFSET = -22572.875
  MAP_PROJECTION_ROTATION = 0.0
  MAP_PROJECTION_TYPE = SINUSOIDAL
  MAP_RESOLUTION = 296.356901933333
  MAP_SCALE = 0.2
  MAXIMUM_LATITUDE = -76.3532
  MINIMUM_LATITUDE = -86.17270000000001
  POSITIVE_LONGITUDE_DIRECTION = EAST
  REFERENCE_LATITUDE = "N/A"
  REFERENCE_LONGITUDE = "N/A"
  SAMPLE_FIRST_PIXEL = 1
  SAMPLE_LAST_PIXEL = 2584
  SAMPLE_PROJECTION_OFFSET = 1414.625
  SECOND_STANDARD_PARALLEL = "N/A"
  WESTERNMOST_LONGITUDE = 26.759
END_OBJECT = IMAGE_MAP_PROJECTION
/* The JPEG2000 image data file associated with this label. */
OBJECT = COMPRESSED_FILE
  FILE_NAME = "H4144_0000_IR3.JP2"
  RECORD_TYPE = UNDEFINED
  FILE_RECORDS = UNK
  ENCODING_TYPE = "JP2"
  INTERCHANGE_FORMAT = BINARY
  UNCOMPRESSED_FILE_NAME = "H4144_0000_IR3.IMG"
  REQUIRED_STORAGE_BYTES = "7857944"
  ^DESCRIPTION = "JP2INFO.TXT"
END_OBJECT = COMPRESSED_FILE
END
