PDS_VERSION_ID = PDS3
/* FILE DATA ELEMENTS */
RECORD_TYPE = STREAM
/* POINTERS TO DATA OBJECTS */
^COMPRESSED_FILE = "H4150_0000_S13.JP2"
/* IDENTIFICATION DATA ELEMENTS */
DATA_SET_ID = "MEX-M-HRSC-5-REFDR-MAPPROJECTED-V3.0"
DATA_SET_NAME = "MARS EXPRESS HRSC MAP PROJECTED REFDR V3.0"
DETECTOR_ID = MEX_HRSC_S1
EVENT_TYPE = "MARS-REGIONAL-MAPPING-Vo-Te-Fl"
INSTRUMENT_HOST_ID = MEX
INSTRUMENT_HOST_NAME = "MARS EXPRESS"
INSTRUMENT_ID = HRSC
INSTRUMENT_NAME = "HIGH RESOLUTION STEREO CAMERA"
MISSION_NAME = "MARS EXPRESS"
MISSION_PHASE_NAME = ME_Phase_7
PROCESSING_LEVEL_ID = 3
PRODUCT_CREATION_TIME = 2016-04-20T19:30:25.000Z
PRODUCT_ID = "H4150_0000_S13.JP2"
RELEASE_ID = 0047
REVISION_ID = 0000
/* QUALITY DATA ELEMENTS */
DATA_QUALITY_ID = 2
DATA_QUALITY_DESC = "Data calculated based on photogrammetrically improved orbit and attitude data"
/* TIME DATA ELEMENTS */
SPACECRAFT_CLOCK_START_COUNT = "1/0123356620.08227"
SPACECRAFT_CLOCK_STOP_COUNT = "1/0123356918.14769"
START_TIME = 2007-03-30T17:44:50.954Z
STOP_TIME = 2007-03-30T17:48:40.423Z
/* ORBITAL DATA ELEMENTS */
ASCENDING_NODE_LONGITUDE = 141.36
MAXIMUM_RESOLUTION = 26.5
FOOTPRINT_POINT_LATITUDE = (-27.2923,-27.2706,-27.2492,-27.2282, -27.2075,-27.1872,-27.024,-26.7044, -26.383,-25.9025,-25.5795,-25.2601, -24.9415,-24.6221,-24.302,-23.9816, -23.667,-23.3568,-22.8921,-22.4286, -21.9638,-21.4965,-21.1872,-20.8782, -20.5692,-20.2606,-19.9608,-19.6629, -19.2149,-18.916,-18.6174,-18.3263, -18.0257,-17.7309,-17.4335,-17.1357, -16.8389,-16.5412,-16.2442,-15.9473, -15.6509,-15.2067,-14.9106,-14.4668, -14.1709,-13.8755,-13.5808,-13.1377, -12.8432,-12.5491,-12.1078,-11.9514, -11.9917,-12.0356,-12.0742,-12.3681, -12.6624,-12.9568,-13.3991,-13.6942, -14.1363,-14.4313,-14.7282,-15.172, -15.4667,-15.7577,-16.0407,-16.3361, -16.6313,-16.9299,-17.2304,-17.5293, -17.8275,-18.1277,-18.4372,-18.8859, -19.1846,-19.4765,-19.7756,-20.0758, -20.3721,-20.6783,-20.9888,-21.453, -21.7615,-22.0741,-22.5369,-23.0055, -23.465,-23.9348,-24.2563,-24.5754, -24.8916,-25.2138,-25.5334,-25.8538, -26.3362,-26.6573,-26.9771,-27.2923)
FOOTPRINT_POINT_LONGITUDE = (212.203,211.963,211.729,211.501, 211.278,211.06,210.855,210.857,210.858, 210.86,210.862,210.864,210.866,210.867, 210.868,210.869,210.872,210.872,210.873 ,210.873,210.873,210.873,210.873, 210.873,210.873,210.872,210.871,210.87, 210.869,210.868,210.867,210.871,210.868 ,210.869,210.868,210.866,210.865, 210.863,210.862,210.86,210.859,210.857, 210.855,210.852,210.85,210.848,210.847, 210.843,210.841,210.839,210.836,210.956 ,211.325,211.726,212.076,212.078, 212.082,212.085,212.09,212.093,212.098, 212.101,212.106,212.111,212.113,212.11, 212.096,212.098,212.1,212.106,212.115, 212.122,212.127,212.135,212.156,212.165 ,212.171,212.168,212.174,212.182, 212.184,212.188,212.196,212.206,212.211 ,212.217,212.224,212.24,212.243,212.257 ,212.266,212.272,212.274,212.285, 212.292,212.3,212.31,212.319,212.327, 212.203)
ORBIT_NUMBER = 4150
ORBITAL_ECCENTRICITY = 0.571
ORBITAL_INCLINATION = 86.68
ORBITAL_SEMIMAJOR_AXIS = 8619.22
PERIAPSIS_ALTITUDE = 302.91
PERIAPSIS_ARGUMENT_ANGLE = 347.07
PERIAPSIS_TIME = 2007-03-30T17:47:59.000Z
SPACECRAFT_ORIENTATION = (0.0,1.0,0.0)
^MEX_ORIENTATION_DESC = "MEX_ORIENTATION_DESC.TXT"
SPACECRAFT_POINTING_MODE = ACROSSTRACK
^MEX_POINTING_DESC = "MEX_POINTING_DESC.TXT"
RIGHT_ASCENSION = -1e+32
DECLINATION = -1e+32
OFFSET_ANGLE = -1.74
SPACECRAFT_SOLAR_DISTANCE = 2.11117e+08
TARGET_NAME = MARS
/* CAMERA DATA ELEMENTS */
DETECTOR_TEMPERATURE = 17.5549
FOCAL_PLANE_TEMPERATURE = 8.7872
INST_CMPRS_NAME = "DISCRETE COSINE TRANSFORMATION (DCT)"
INST_CMPRS_RATIO = 7.71084
INST_CMPRS_QUALITY = 0
INST_CMPRS_QUANTZ_TBL_ID = 0
INSTRUMENT_TEMPERATURE = 11.4379
LENS_TEMPERATURE = 8.9911
MACROPIXEL_SIZE = 2
MISSING_FRAMES = 2
PIXEL_SUBSAMPLING_FLAG = N
SIGNAL_CHAIN_ID = 1
/* RADIOMETRIC DATA ELEMENTS */
BANDWIDTH = 180.0
CENTER_FILTER_WAVELENGTH = 677.0
RADIANCE_OFFSET = 3.81248
RADIANCE_SCALING_FACTOR = 0.0198912
REFLECTANCE_SCALING_FACTOR = 0.000462539
MEX:REFLECTANCE_OFFSET = 0.0886534
/* IMAGE OBJECT DEFINITIONS */
OBJECT = IMAGE
  INTERCHANGE_FORMAT = BINARY
  LINES = 36217
  LINE_SAMPLES = 3550
  SAMPLE_TYPE = UNSIGNED_INTEGER
  SAMPLE_BITS = 8
  BANDS = 1
  BAND_STORAGE_TYPE = BAND_SEQUENTIAL
  MAXIMUM = 255
  MEAN = 107.353
  MINIMUM = 1
  STANDARD_DEVIATION = 20.9693
END_OBJECT = IMAGE
/* MAP OBJECT DEFINITIONS */
OBJECT = IMAGE_MAP_PROJECTION
  ^DATA_SET_MAP_PROJECTION_CATALOG= "DSMAP.CAT"
  A_AXIS_RADIUS = 3396.0
  B_AXIS_RADIUS = 3396.0
  C_AXIS_RADIUS = 3396.0
  CENTER_LATITUDE = 0.0
  CENTER_LONGITUDE = 211.0
  COORDINATE_SYSTEM_NAME = PLANETOGRAPHIC
  COORDINATE_SYSTEM_TYPE = "BODY-FIXED ROTATING"
  EASTERNMOST_LONGITUDE = 212.327
  FIRST_STANDARD_PARALLEL = "N/A"
  LINE_FIRST_PIXEL = 1
  LINE_LAST_PIXEL = 36217
  LINE_PROJECTION_OFFSET = -28432.75
  MAP_PROJECTION_ROTATION = 0.0
  MAP_PROJECTION_TYPE = SINUSOIDAL
  MAP_RESOLUTION = 2370.85521546667
  MAP_SCALE = 0.025
  MAXIMUM_LATITUDE = -11.9514
  MINIMUM_LATITUDE = -27.2923
  POSITIVE_LONGITUDE_DIRECTION = EAST
  REFERENCE_LATITUDE = "N/A"
  REFERENCE_LONGITUDE = "N/A"
  SAMPLE_FIRST_PIXEL = 1
  SAMPLE_LAST_PIXEL = 3550
  SAMPLE_PROJECTION_OFFSET = 407.75
  SECOND_STANDARD_PARALLEL = "N/A"
  WESTERNMOST_LONGITUDE = 210.836
END_OBJECT = IMAGE_MAP_PROJECTION
/* The JPEG2000 image data file associated with this label. */
OBJECT = COMPRESSED_FILE
  FILE_NAME = "H4150_0000_S13.JP2"
  RECORD_TYPE = UNDEFINED
  FILE_RECORDS = UNK
  ENCODING_TYPE = "JP2"
  INTERCHANGE_FORMAT = BINARY
  UNCOMPRESSED_FILE_NAME = "H4150_0000_S13.IMG"
  REQUIRED_STORAGE_BYTES = "128595200"
  ^DESCRIPTION = "JP2INFO.TXT"
END_OBJECT = COMPRESSED_FILE
END
